BEGIN:VCALENDAR
VERSION:2.0
PRODID:-//Notorious Jazz - ECPv6.15.17//NONSGML v1.0//EN
CALSCALE:GREGORIAN
METHOD:PUBLISH
X-WR-CALNAME:Notorious Jazz
X-ORIGINAL-URL:https://notoriousjazz.com
X-WR-CALDESC:Events for Notorious Jazz
REFRESH-INTERVAL;VALUE=DURATION:PT1H
X-Robots-Tag:noindex
X-PUBLISHED-TTL:PT1H
BEGIN:VTIMEZONE
TZID:America/Phoenix
BEGIN:STANDARD
TZOFFSETFROM:-0700
TZOFFSETTO:-0700
TZNAME:MST
DTSTART:20230101T000000
END:STANDARD
END:VTIMEZONE
BEGIN:VEVENT
DTSTART;TZID=America/Phoenix:20240106T193000
DTEND;TZID=America/Phoenix:20240106T210000
DTSTAMP:20260420T215930
CREATED:20231224T233253Z
LAST-MODIFIED:20231225T032723Z
UID:38457-1704569400-1704574800@notoriousjazz.com
SUMMARY:BETH LEDERMAN
DESCRIPTION:Beth’s group Jazz Con Alma feature jazz that grooves. Drawing especially from latin rhythms\, they love taking standards and pop music and adding their own special twists. From Coltrane and Gershwin to the Beatles and Stevie Wonder anything that embraces the creativity which embodies jazz is fair game. With Mary Petrich on sax\, Jon Murray on bass\, Adam Clark on drums and Frank Valdes on percussion. \nHer music is melodic\, fun\, fluid\, passionate\, innovative\, heartfelt\, rhythmic\, eclectic\, honest\, artistic\, humorous\, spontaneous…and great!
URL:https://notoriousjazz.com/event/beth-lederman
LOCATION:The Nash\, 110 E. Roosevelt Street\, Phoenix\, AZ\, 85004\, United States
CATEGORIES:Club
ATTACH;FMTTYPE=image/jpeg:https://notoriousjazz.com/wp-content/uploads/2023/12/BETH-LEDERMAN.jpg
END:VEVENT
END:VCALENDAR