BEGIN:VCALENDAR
VERSION:2.0
PRODID:-//Notorious Jazz - ECPv6.15.17//NONSGML v1.0//EN
CALSCALE:GREGORIAN
METHOD:PUBLISH
X-ORIGINAL-URL:https://notoriousjazz.com
X-WR-CALDESC:Events for Notorious Jazz
REFRESH-INTERVAL;VALUE=DURATION:PT1H
X-Robots-Tag:noindex
X-PUBLISHED-TTL:PT1H
BEGIN:VTIMEZONE
TZID:America/New_York
BEGIN:DAYLIGHT
TZOFFSETFROM:-0500
TZOFFSETTO:-0400
TZNAME:EDT
DTSTART:20230312T070000
END:DAYLIGHT
BEGIN:STANDARD
TZOFFSETFROM:-0400
TZOFFSETTO:-0500
TZNAME:EST
DTSTART:20231105T060000
END:STANDARD
BEGIN:DAYLIGHT
TZOFFSETFROM:-0500
TZOFFSETTO:-0400
TZNAME:EDT
DTSTART:20240310T070000
END:DAYLIGHT
BEGIN:STANDARD
TZOFFSETFROM:-0400
TZOFFSETTO:-0500
TZNAME:EST
DTSTART:20241103T060000
END:STANDARD
BEGIN:DAYLIGHT
TZOFFSETFROM:-0500
TZOFFSETTO:-0400
TZNAME:EDT
DTSTART:20250309T070000
END:DAYLIGHT
BEGIN:STANDARD
TZOFFSETFROM:-0400
TZOFFSETTO:-0500
TZNAME:EST
DTSTART:20251102T060000
END:STANDARD
END:VTIMEZONE
BEGIN:VEVENT
DTSTART;TZID=America/New_York:20240118T190000
DTEND;TZID=America/New_York:20240119T223000
DTSTAMP:20260420T220032
CREATED:20240103T062237Z
LAST-MODIFIED:20240107T172422Z
UID:38541-1705604400-1705703400@notoriousjazz.com
SUMMARY:NICOLE HENRY
DESCRIPTION:Nicole Henry has established herself as one of the jazz world’s most acclaimed vocalists and has captivated audiences in over 15 countries. Ms. Henry possesses a potent combination of dynamic vocal abilities\, impeccable phrasing\, and powerful emotional resonance. Her passionate\, soulful voice and heart-felt charisma has earned her a Soul Train Award for “Best Traditional Jazz Performance\,” three Top-10 U.S. Billboard and HMV Japan jazz albums. Heralded by The New York Times\, Wall Street Journal\, The Japan Times\, El Pais\, Jazz Times\, Essence and more\, Ms. Henry tells real stories through repertoire from the American Songbook\, classic and contemporary jazz\, contemporary standards\, blues and originals. \nTickets: $7.00 Fee
URL:https://notoriousjazz.com/event/nicole-henry-11
LOCATION:Blues Alley\, 1073 Wisconsin Avenue NW\, Washington\, DC\, 20007\, United States
CATEGORIES:Club
ATTACH;FMTTYPE=image/jpeg:https://notoriousjazz.com/wp-content/uploads/2024/01/NICOLE-HENRY.jpg
END:VEVENT
BEGIN:VEVENT
DTSTART;TZID=America/New_York:20240119T173000
DTEND;TZID=America/New_York:20240119T220000
DTSTAMP:20260420T220032
CREATED:20240119T002413Z
LAST-MODIFIED:20240119T002757Z
UID:38808-1705685400-1705701600@notoriousjazz.com
SUMMARY:DAVID SANCHEZ & NAJEE
DESCRIPTION:David Sanchez has emerged as one of the most respected jazz musicians of the 21st century\, blending Afro-Caribbean rhythms from his Puerto Rican upbringing with jazz influences. He’s garnered critical acclaim and multiple awards for his diverse and innovative compositions. During Jazz Fest his ensemble will consist of a piano\, acoustic bass\, drums\, percussion\, and guitar. \nNajee\, a two-time Grammy nominated saxophonist and flautist has become an international pioneer in the industry by pushing musical boundaries throughout his career and collaborating with legendary artists such as Prince\, Quincy Jones\, Stevie Wonder and Chaka Khan. His fusing R&B and jazz into a unique and captivating sound has resulted in six #1 albums on the Billboard charts.
URL:https://notoriousjazz.com/event/david-sanchez-najee
LOCATION:Champion Porsche Stage\, 222 N. Pompano Beach Boulevard\, Pompano Beach\, FL\, 33060\, United States
CATEGORIES:Festival
ATTACH;FMTTYPE=image/png:https://notoriousjazz.com/wp-content/uploads/2024/01/DAVID-SANCHEZ-NAJEE.png
END:VEVENT
BEGIN:VEVENT
DTSTART;TZID=America/New_York:20240119T190000
DTEND;TZID=America/New_York:20240119T220000
DTSTAMP:20260420T220032
CREATED:20240119T033830Z
LAST-MODIFIED:20240119T033830Z
UID:38817-1705690800-1705701600@notoriousjazz.com
SUMMARY:ALLAN HARRIS
DESCRIPTION:Allan Harris hits the stage to unveil his inaugural how Jazz Sonnets\, interwoven with beloved classic sonnets and poetry from Shakespeare to Maya Angelou and others. Captivating jazz vocalist and guitarist aptly described by the Miami Herald as an artist blessed with “the warmth of Tony Bennett\, the bite and rhythmic sense of Sinatra\, and the sly elegance of Nat ‘King’ Cole.”   \nBrooklyn-born\, Harlem-based vocalist\, guitarist\, songwriter\, and band leader\, he has an impressive discography boasting fourteen recordings as a leader\, Harris has established himself as one of the jazz world’s most acclaimed vocalists\, possessing a potent combination of dynamic vocal abilities\, impeccable phrasing\, and powerful emotional resonance. \nThe band behind the man features Sara Jane Cion ~ piano\, Sylvia Cuenca ~ drums\, Brandi Disterheft ~ bass\, Irwin Hall ~ saxonpne & flute\, and Miles Okazaki ~ guitar.
URL:https://notoriousjazz.com/event/allan-harris-2
LOCATION:Zinc Bar\, 82 West 3rd Street\, New York City\, NY\, 10012\, United States
CATEGORIES:Club
ATTACH;FMTTYPE=image/jpeg:https://notoriousjazz.com/wp-content/uploads/2024/01/ALLAN-HARRIS.jpg
END:VEVENT
BEGIN:VEVENT
DTSTART;TZID=America/New_York:20240119T190000
DTEND;TZID=America/New_York:20240119T230000
DTSTAMP:20260420T220032
CREATED:20240114T021223Z
LAST-MODIFIED:20240114T021819Z
UID:38697-1705690800-1705705200@notoriousjazz.com
SUMMARY:TONY MONACO
DESCRIPTION:Tony Monaco may be the best organ player you have yet to hear of flying stealth while playing arguably some of the hottest B-3 around. Mentored by the legendary Jimmy Smith in what is considered the more classic style\, Monaco does not swing\, smolder or smoke. “Tony Monaco burns is this most fitting!” CriticalJazz Review2012. Tony Monaco began his keyboard life at age eight. When he was twelve\, his destiny as a jazz organist was sealed when he first heard Jimmy Smith. An enthusiastic student\, Tony began working in Jazz clubs as a teenager in his native Columbus\, Ohio\, guided by local organ gurus Hank Marr and Don Patterson. Four years later\, Jimmy Smith invited Tony to come play at his club in California\, a peak lifetime experience for Tony. \nIn April 2000\, Tony met fellow jazz organist Joey DeFrancesco\, who offered to produce a debut CD for him. This collaboration resulted in the critically acclaimed “Burnin Grooves”. The international success of the recording served as the catalyst for regional and national tours. Tony has since released 8 International releases and toured around the globe many times. Tony also toured and recorded with Pat Martino for over two years! As an ardent student of the organ\, it’s no surprise that Tony is an accomplished teacher as well. In addition to private students\, classes and clinics\, Tony has produced a series of instructional DVDs titled “Playing Jazz Hammond” that have become indispensable for many serious students of the organ. Tony continues to expand his catalogue using most update technologies. \nHe developed a system of giving lessons one on one online and gives lessons to students around the globe!  His passion for teaching allowed him to secure  his “Artist in Residence”  status at Hope College in Holland Michigan where he teaches students both online as well as regular workshops groups and one-on-ones at the College. Tony is very proud and excited to be releasing his 11th international CD “The Definition of Insanity” on Chicken Coup Records January 2019!  Featuring Jam\, Funk\, Vocals\, Italian Traditional and Latin with his current Trio ! Presently\, Tony maintains a very busy schedule that includes festival appearances \, clinics\, and workshops !
URL:https://notoriousjazz.com/event/tony-monaco
LOCATION:The Jazz Kitchen\, 5377 N College Avenue\, Indianapolis\, IN\, 46220\, United States
CATEGORIES:Club
ATTACH;FMTTYPE=image/png:https://notoriousjazz.com/wp-content/uploads/2024/01/TONY-MONACO.png
END:VEVENT
BEGIN:VEVENT
DTSTART;TZID=America/New_York:20240119T200000
DTEND;TZID=America/New_York:20240120T213000
DTSTAMP:20260420T220032
CREATED:20240104T171527Z
LAST-MODIFIED:20240107T170139Z
UID:38550-1705694400-1705786200@notoriousjazz.com
SUMMARY:MAX ROACH CENTENNIAL: THE JLCO WITH WYNTON MARSALIS
DESCRIPTION:Max Roach transformed the sound of the drums and became a leader in civil rights and social justice activism. He defied limits\, subverted roles\, and innovated methods for improvisation and unbound freedom of expression. Profoundly — singularly — his artistry revolutionized how the drums communicate\, and influenced the direction of live and recorded music. \nJoin the Jazz at Lincoln Center Orchestra with Wynton Marsalis in celebration of this groundbreaking artist and American icon. Expect a transformative evening featuring new and hard-swinging arrangements of enduring repertoire from his seminal albums. Max Roach Centennial features music direction by Obed Calvaire\, and special guest appearances by vocalist Shenel Johns and Chorale Le Chateau led by Chorus Master Damien Sneed.
URL:https://notoriousjazz.com/event/max-roach-centennial-the-jlco-with-wynton-marsalis
LOCATION:Dizzy’s Club\, 10 Columbus Circle\, New York City\, NY\, 10019\, United States
CATEGORIES:Club
ATTACH;FMTTYPE=image/png:https://notoriousjazz.com/wp-content/uploads/2024/01/MAX-ROACH-JLCO.png
END:VEVENT
END:VCALENDAR