BEGIN:VCALENDAR
VERSION:2.0
PRODID:-//Notorious Jazz - ECPv6.15.17//NONSGML v1.0//EN
CALSCALE:GREGORIAN
METHOD:PUBLISH
X-WR-CALNAME:Notorious Jazz
X-ORIGINAL-URL:https://notoriousjazz.com
X-WR-CALDESC:Events for Notorious Jazz
REFRESH-INTERVAL;VALUE=DURATION:PT1H
X-Robots-Tag:noindex
X-PUBLISHED-TTL:PT1H
BEGIN:VTIMEZONE
TZID:America/New_York
BEGIN:DAYLIGHT
TZOFFSETFROM:-0500
TZOFFSETTO:-0400
TZNAME:EDT
DTSTART:20230312T070000
END:DAYLIGHT
BEGIN:STANDARD
TZOFFSETFROM:-0400
TZOFFSETTO:-0500
TZNAME:EST
DTSTART:20231105T060000
END:STANDARD
BEGIN:DAYLIGHT
TZOFFSETFROM:-0500
TZOFFSETTO:-0400
TZNAME:EDT
DTSTART:20240310T070000
END:DAYLIGHT
BEGIN:STANDARD
TZOFFSETFROM:-0400
TZOFFSETTO:-0500
TZNAME:EST
DTSTART:20241103T060000
END:STANDARD
BEGIN:DAYLIGHT
TZOFFSETFROM:-0500
TZOFFSETTO:-0400
TZNAME:EDT
DTSTART:20250309T070000
END:DAYLIGHT
BEGIN:STANDARD
TZOFFSETFROM:-0400
TZOFFSETTO:-0500
TZNAME:EST
DTSTART:20251102T060000
END:STANDARD
END:VTIMEZONE
BEGIN:VEVENT
DTSTART;TZID=America/New_York:20240123T200000
DTEND;TZID=America/New_York:20240124T220000
DTSTAMP:20260420T215921
CREATED:20240113T160613Z
LAST-MODIFIED:20240113T162238Z
UID:38682-1706040000-1706133600@notoriousjazz.com
SUMMARY:AL DI MEOLA
DESCRIPTION:Al Di Meola\, a guitar legend inducted into the Gallery of Greats\, is one of the top guitarists of our time. His career spans four decades\, during which he’s earned critical acclaim\, sold millions of records\, received numerous awards\, and even an Honorary Doctorate Degree from Berklee College of Music. A prolific composer\, he has over 30 albums as a leader and collaborations with renowned musicians. His music blends world influences with jazz\, and he’s known for his soulful and lyrical guitar expression. Al’s journey began as a young guitarist\, inspired by artists like Larry Coryell. He joined Chick Corea’s Return to Forever in 1974\, followed by a successful solo career with landmark albums like “Land of the Midnight Sun.” His acoustic guitar trio with Paco De Lucia and John McLaughlin gained immense popularity\, and they released iconic albums like “Friday Night in San Francisco.” Al continued to innovate and explore new musical territories. \nIn recent years\, he revisited his love for The Beatles with an acoustic album and released “OPUS” in 2018\, showcasing his evolving compositional skills. His latest work\, “ACROSS THE UNIVERSE\,” is a creative interpretation of Beatles songs with lush arrangements and electric guitar.Looking ahead\, Al is working on an autobiography and a new solo guitar record. He’s also excited about the upcoming release of “Saturday Night in San Francisco” from the 1980 Guitar Trio tour with John McLaughlin and Paco de Lucia in April 2022.
URL:https://notoriousjazz.com/event/al-di-meola
LOCATION:City Winery Atlanta\, Ponce City Market\, 650 North Avenue NE\, Atlanta\, GA\, 30308\, United States
CATEGORIES:Club
ATTACH;FMTTYPE=image/jpeg:https://notoriousjazz.com/wp-content/uploads/2024/01/AL-DI-MEOLA.jpeg
END:VEVENT
BEGIN:VEVENT
DTSTART;TZID=America/New_York:20240124T193000
DTEND;TZID=America/New_York:20240124T230000
DTSTAMP:20260420T215921
CREATED:20240113T072421Z
LAST-MODIFIED:20240113T072421Z
UID:38670-1706124600-1706137200@notoriousjazz.com
SUMMARY:TAL YAHALOM TRIO
DESCRIPTION:Tal Yahalom is an award-winning guitarist\, composer and bandleader based in Brooklyn\, New York since 2014. Drawing from a wide range of influences – spanning jazz and impressionistic classical music to Brazilian repertoire and South-American guitar traditions – Tal aims to create engaging storytelling\, adventurous interplay and a deep sense of groove while expanding on the traditional roles and textural capabilities of the guitar. \nAs a leader\, he performs regularly with diverse solo programs\, a chamber-jazz quintet (set to release its debut album later this year)\, a collective post-rock trio KADAWA\, and various trios which have featured Caroline Davis\, Dan Weiss\, Eivind Opsvik and Rogerio Boccato. \n\nTal Yahalom –guitar & compositions\nWalter Stinson –bass\nDan Weiss –drums \n$25/FREE members; cabaret seating: $35/$20 members;\nLivestream: $20/FREE for members
URL:https://notoriousjazz.com/event/tal-yahalom-trio
LOCATION:Jazz Gallery\, 1158 Broadway 5th Floor\, New York City\, NY\, 10001\, United States
CATEGORIES:Club
ATTACH;FMTTYPE=image/jpeg:https://notoriousjazz.com/wp-content/uploads/2024/01/TAL-YAHALOM.jpg
END:VEVENT
END:VCALENDAR