BEGIN:VCALENDAR
VERSION:2.0
PRODID:-//Notorious Jazz - ECPv6.15.17//NONSGML v1.0//EN
CALSCALE:GREGORIAN
METHOD:PUBLISH
X-WR-CALNAME:Notorious Jazz
X-ORIGINAL-URL:https://notoriousjazz.com
X-WR-CALDESC:Events for Notorious Jazz
REFRESH-INTERVAL;VALUE=DURATION:PT1H
X-Robots-Tag:noindex
X-PUBLISHED-TTL:PT1H
BEGIN:VTIMEZONE
TZID:America/Los_Angeles
BEGIN:DAYLIGHT
TZOFFSETFROM:-0800
TZOFFSETTO:-0700
TZNAME:PDT
DTSTART:20230312T100000
END:DAYLIGHT
BEGIN:STANDARD
TZOFFSETFROM:-0700
TZOFFSETTO:-0800
TZNAME:PST
DTSTART:20231105T090000
END:STANDARD
BEGIN:DAYLIGHT
TZOFFSETFROM:-0800
TZOFFSETTO:-0700
TZNAME:PDT
DTSTART:20240310T100000
END:DAYLIGHT
BEGIN:STANDARD
TZOFFSETFROM:-0700
TZOFFSETTO:-0800
TZNAME:PST
DTSTART:20241103T090000
END:STANDARD
BEGIN:DAYLIGHT
TZOFFSETFROM:-0800
TZOFFSETTO:-0700
TZNAME:PDT
DTSTART:20250309T100000
END:DAYLIGHT
BEGIN:STANDARD
TZOFFSETFROM:-0700
TZOFFSETTO:-0800
TZNAME:PST
DTSTART:20251102T090000
END:STANDARD
END:VTIMEZONE
BEGIN:VTIMEZONE
TZID:America/Chicago
BEGIN:DAYLIGHT
TZOFFSETFROM:-0600
TZOFFSETTO:-0500
TZNAME:CDT
DTSTART:20230312T080000
END:DAYLIGHT
BEGIN:STANDARD
TZOFFSETFROM:-0500
TZOFFSETTO:-0600
TZNAME:CST
DTSTART:20231105T070000
END:STANDARD
BEGIN:DAYLIGHT
TZOFFSETFROM:-0600
TZOFFSETTO:-0500
TZNAME:CDT
DTSTART:20240310T080000
END:DAYLIGHT
BEGIN:STANDARD
TZOFFSETFROM:-0500
TZOFFSETTO:-0600
TZNAME:CST
DTSTART:20241103T070000
END:STANDARD
BEGIN:DAYLIGHT
TZOFFSETFROM:-0600
TZOFFSETTO:-0500
TZNAME:CDT
DTSTART:20250309T080000
END:DAYLIGHT
BEGIN:STANDARD
TZOFFSETFROM:-0500
TZOFFSETTO:-0600
TZNAME:CST
DTSTART:20251102T070000
END:STANDARD
END:VTIMEZONE
BEGIN:VEVENT
DTSTART;TZID=America/Los_Angeles:20240125T193000
DTEND;TZID=America/Los_Angeles:20240125T233000
DTSTAMP:20260420T215916
CREATED:20240114T033636Z
LAST-MODIFIED:20240114T033819Z
UID:38704-1706211000-1706225400@notoriousjazz.com
SUMMARY:LAKECIA BENJAMIN
DESCRIPTION:KMHD & Soul’d Out proudly present the charismatic and dynamic saxophonist Lakecia Benjamin. She fuses traditional conceptions of jazz\, hip~hop\, and soul\, and who has received 3 Grammy nominations for her latest album Phoenix. The far-reaching new album finds the tour-de-force saxophonist in a poised and profoundly individual position alongside a curated all-star cast of musicians from Wayne Shorter to Dianne Reeves\, Georgia Anne Muldrow to Patrice Rushen\, and Sonia Sanchez to Angela Davis and is produced by the multi-Grammy winner drummer and activist Terri Lyne Carrington. \nShe has seen her sharing stages with several legendary artists\, including Stevie Wonder\, Alicia Keys\, and The Roots. Benjamin has also been Voted by 2020 Downbeat Critics Poll Rising star Alto Saxophonist and Up and Coming Artist of the Year by the Jazz Journalists Association. \n\nNotes on Seating: The Jack London provides two options for ticket purchasers. Reserved Seating is purchased on a table-by-table basis in the central part of the venue and is only available for select shows. Seating in the General Admission section is limited\, first come first served\, and may be standing room only.
URL:https://notoriousjazz.com/event/lakecia-benjamin
LOCATION:The Jack London Revue\, 529 SW 4th\, Portland\, OR\, 97204\, United States
CATEGORIES:Club
ATTACH;FMTTYPE=image/png:https://notoriousjazz.com/wp-content/uploads/2024/01/LAKECIA-BENJAMIN.png
END:VEVENT
BEGIN:VEVENT
DTSTART;TZID=America/Chicago:20240125T210000
DTEND;TZID=America/Chicago:20240125T223000
DTSTAMP:20260420T215916
CREATED:20231224T173700Z
LAST-MODIFIED:20231224T173700Z
UID:38441-1706216400-1706221800@notoriousjazz.com
SUMMARY:JIM FERGUSON
DESCRIPTION:Bassist Jim Ferguson leads the group with Joel Frahm on Tenor Sax\, Pat Coil on piano and Ryan Brasley on drums. \nHaving had a long career in the Nashville music industry as both vocalist and bassist\, in 1999 Jim returned to his roots and released his first jazz CD\, Not Just Another Pretty Bass\, a quartet with saxophonist Chris Potter\, pianist Pat Coil\, and drummer Jim White. That was followed by Deep Summer Music with the same lineup with the exception of pianist Stefan Karlsson\, and Haunted Heart\, a duo recording with the master guitarist Mundell Lowe. \nSome of the many artists Jim has performed and/or recorded with include Teddy Wilson\, Phineas Newborn\, Jr.\, Marian McPartland\, Jay McShann\, Steve Allen\, Bob Dorough\, Clark Terry\, Red Rodney\, Nat Adderley\, \, Tim Hagans\, Randy Brecker\, Terell Stafford\, Chris Potter\, Bob Mintzer\, Joel Frahm\, Eric Alexander\, Benny Golson\, Benny Goodman\, Lee Konitz\, Jimmy Heath\, Lew Tabackin\, Ira Sullivan\, Eddie Daniels\, Bill Watrous\, Urbie Green\, John Pizzarelli\, Jr.\, Kenny Burrell\, Jimmy Raney\, Lorne Lofsky\, Lenny Breau\, Howard Alden\, Gene Bertoncini\, Martin Taylor\, Ed Soph\, Harold Jones\,Bernard Purdie\, Louie Bellson\, Duffy Jackson\, Jackie and Roy\, Al Jarreau\, and Joe Williams. \nFor nearly 30 years\, Joel Frahm has lived in New York City\, working in jazz clubs\, collaborating with other musicians\, and honing his craft. His bold\, inventive tenor sound has won fans in the U.S. and across the world. He has worked alongside Betty Carter\, Kenny Barron\, Freddy Cole\, Dianne Schuur\, Kurt Elling\, Jane Monheit\, Bill Charlap\, Brad Mehldau\, Matt Wilson\, Cyrille Aimee\, and many other top artists. He has played as a leader or sideman on more than 100 recordings and has appeared at jazz festivals in the United States\, Europe\, Israel\, Canada and South America. In addition to his work as a performer\, he has taught jazz classes in clinics at the University of North Carolina\, the University of Connecticut\, New York University\, Wichita State University\, the University of North Texas\, Baylor University\, Colorado State University\, Furman University\, the University of Toronto\, the University of Michigan\, Michigan State University\, the University of Manitoba and others. He also has worked at the Monterey Jazz Festival’s Next Generation program; the Sant Andreu Youth Jazz Orchestra in Barcelona\, Spain; the Dave Brubeck Institute in Stockton\, California; the Center for Jazz Studies at the Israel Conservatory in Tel Aviv; the Czech Jazz Workshop in Prague; and the Siena Jazz Workshop in Italy.
URL:https://notoriousjazz.com/event/jim-ferguson
LOCATION:Rudy’s Jazz Room\, 809 Gleaves Street\, Nashville\, TN\, 37203\, United States
CATEGORIES:Club
ATTACH;FMTTYPE=image/jpeg:https://notoriousjazz.com/wp-content/uploads/2023/12/JIM-FERGUSON.jpeg
END:VEVENT
END:VCALENDAR