BEGIN:VCALENDAR
VERSION:2.0
PRODID:-//Notorious Jazz - ECPv6.15.17//NONSGML v1.0//EN
CALSCALE:GREGORIAN
METHOD:PUBLISH
X-WR-CALNAME:Notorious Jazz
X-ORIGINAL-URL:https://notoriousjazz.com
X-WR-CALDESC:Events for Notorious Jazz
REFRESH-INTERVAL;VALUE=DURATION:PT1H
X-Robots-Tag:noindex
X-PUBLISHED-TTL:PT1H
BEGIN:VTIMEZONE
TZID:America/Chicago
BEGIN:DAYLIGHT
TZOFFSETFROM:-0600
TZOFFSETTO:-0500
TZNAME:CDT
DTSTART:20230312T080000
END:DAYLIGHT
BEGIN:STANDARD
TZOFFSETFROM:-0500
TZOFFSETTO:-0600
TZNAME:CST
DTSTART:20231105T070000
END:STANDARD
BEGIN:DAYLIGHT
TZOFFSETFROM:-0600
TZOFFSETTO:-0500
TZNAME:CDT
DTSTART:20240310T080000
END:DAYLIGHT
BEGIN:STANDARD
TZOFFSETFROM:-0500
TZOFFSETTO:-0600
TZNAME:CST
DTSTART:20241103T070000
END:STANDARD
BEGIN:DAYLIGHT
TZOFFSETFROM:-0600
TZOFFSETTO:-0500
TZNAME:CDT
DTSTART:20250309T080000
END:DAYLIGHT
BEGIN:STANDARD
TZOFFSETFROM:-0500
TZOFFSETTO:-0600
TZNAME:CST
DTSTART:20251102T070000
END:STANDARD
END:VTIMEZONE
BEGIN:VEVENT
DTSTART;TZID=America/Chicago:20240127T183000
DTEND;TZID=America/Chicago:20240127T223000
DTSTAMP:20260420T215913
CREATED:20231224T165313Z
LAST-MODIFIED:20231224T174246Z
UID:38435-1706380200-1706394600@notoriousjazz.com
SUMMARY:THE BLUE NOTE QUINTET
DESCRIPTION:Blue Note Records is celebrating its 85th Anniversary with a tour starring The Blue Note Quintet – a group brought together to honor the label’s rich history and pave the way for the eclectic artists of today’s roster. Gerald Clayton leads the band as Musical Director and pianist. Rounding out the group are vibraphonist Joel Ross\, saxophonist Immanuel Wilkins\, drummer Kendrick Scott\, and bassist Matt Brewer. \nSix-time Grammy-nominated pianist\, composer and bandleader Gerald Clayton earned recent recognition for 2023’s Happening: Live at the Village Vanguard. Collaborating with such distinctive artists as Diana Krall\, Roy Hargrove\, Dianne Reeves\, Terence Blanchard\, John Scofield\, Terri Lyne Carrington\, Gretchen Parlato and the legendary Charles Lloyd\, Clayton currently serves as Director of Next Generation Jazz Orchestra. \nJoel Ross continues refining an expression true to his sound and his generation. In 2019\, the vibraphonist-composer issued his anticipated debut\, Edison Award-winning KingMaker to eruptive critical acclaim. His 2020 release Who Are You? features his band Good Vibes at their most synchronous. New York Times praised the album for the ways it “speaks to a new level of group cohesion… more tangle\, more sharing\, more possibility.” \nThe music of saxophonist and composer Immanuel Wilkins is filled with empathy and conviction. Listeners were introduced to this riveting sound with his acclaimed debut album Omega\, named the #1 Jazz Album of 2020 by The New York Times. His second album\, The 7th Hand\, explores relationships between presence and nothingness across an hour-long suite. \nKendrick Scott was born in Houston. By age 8 he had taken up the drums and he later attended Houston’s renowned High School for the Performing and Visual Arts. While still attending HSPVA\, Scott won several student awards. He was later awarded a scholarship to attend Berklee College of Music. Scott has toured with Herbie Hancock\, Charles Lloyd\, The Crusaders\, Kurt Rosenwinkel\, Kurt Elling\, and Terence Blanchard.
URL:https://notoriousjazz.com/event/the-blue-note-quintet
LOCATION:Dakota\, 1010 Nicollet Mall\, Minneapolis\, MN\, 55403\, United States
CATEGORIES:Club
ATTACH;FMTTYPE=image/png:https://notoriousjazz.com/wp-content/uploads/2023/12/THE-BLUE-NOTE-QUINTET.png
END:VEVENT
END:VCALENDAR