BEGIN:VCALENDAR
VERSION:2.0
PRODID:-//Notorious Jazz - ECPv6.15.17//NONSGML v1.0//EN
CALSCALE:GREGORIAN
METHOD:PUBLISH
X-WR-CALNAME:Notorious Jazz
X-ORIGINAL-URL:https://notoriousjazz.com
X-WR-CALDESC:Events for Notorious Jazz
REFRESH-INTERVAL;VALUE=DURATION:PT1H
X-Robots-Tag:noindex
X-PUBLISHED-TTL:PT1H
BEGIN:VTIMEZONE
TZID:America/New_York
BEGIN:DAYLIGHT
TZOFFSETFROM:-0500
TZOFFSETTO:-0400
TZNAME:EDT
DTSTART:20230312T070000
END:DAYLIGHT
BEGIN:STANDARD
TZOFFSETFROM:-0400
TZOFFSETTO:-0500
TZNAME:EST
DTSTART:20231105T060000
END:STANDARD
BEGIN:DAYLIGHT
TZOFFSETFROM:-0500
TZOFFSETTO:-0400
TZNAME:EDT
DTSTART:20240310T070000
END:DAYLIGHT
BEGIN:STANDARD
TZOFFSETFROM:-0400
TZOFFSETTO:-0500
TZNAME:EST
DTSTART:20241103T060000
END:STANDARD
BEGIN:DAYLIGHT
TZOFFSETFROM:-0500
TZOFFSETTO:-0400
TZNAME:EDT
DTSTART:20250309T070000
END:DAYLIGHT
BEGIN:STANDARD
TZOFFSETFROM:-0400
TZOFFSETTO:-0500
TZNAME:EST
DTSTART:20251102T060000
END:STANDARD
END:VTIMEZONE
BEGIN:VEVENT
DTSTART;TZID=America/New_York:20240131T080000
DTEND;TZID=America/New_York:20240131T170000
DTSTAMP:20260420T201230
CREATED:20240114T045921Z
LAST-MODIFIED:20240114T051431Z
UID:38710-1706688000-1706720400@notoriousjazz.com
SUMMARY:BANSANGU ORCHESTRA
DESCRIPTION:The Bansangu Orchestra is a contemporary world-music big bandfounded in 2014 by Paul booth\, Giorgio Serci and Kevin Robinson. The orchestra features many London-based musicians\, including Jason Yarde\, Alex Wilson\, Shanti Paul Jayasinha\, Trevor Mires\, Barnaby Dickinson\, Steve Fishwick\, and Rod Youngs. \n\n\n\nLine Up: \nSaxophones: \nPaul Booth (Musical Director) \nSammy Mayne \nJason Yarde \nRichard Beesley \nGemma Moore \nTrumpets: \nRyan Quigley \nKevin Robinson \nAndy Greenwood \nShanti Paul Jayasinha \nSteve Fishwick \nTrombones: \nTrevor Mires \nBarnaby Dickinson \nRobbie Harvey \nMartin Gladdish \nRichard Henry \nRhythm Section: \nGiorgio Serci – guitar/oud \nAlex Wilson – piano \nDavide Montovani – electric bass \nSatin Singh – percussion \nEdwin Sanz – percussion \nRod Youngs – drums \nTristan Banks – drums
URL:https://notoriousjazz.com/event/bansangu-orchestra
LOCATION:Spicejazz Soho\, 6 Moor Street\, London\, England\, W1D 5NA\, United Kingdom
CATEGORIES:Club
ATTACH;FMTTYPE=image/jpeg:https://notoriousjazz.com/wp-content/uploads/2024/01/BANSANGU-ORCHESTRA.jpg
END:VEVENT
BEGIN:VEVENT
DTSTART;TZID=America/New_York:20240131T193000
DTEND;TZID=America/New_York:20240131T230000
DTSTAMP:20260420T201230
CREATED:20240113T075009Z
LAST-MODIFIED:20240113T075236Z
UID:38673-1706729400-1706742000@notoriousjazz.com
SUMMARY:RACHEL THERRIEN LATIN JAZZ PROJECT
DESCRIPTION:Trumpeter Rachel Therrien has established herself as one of the most innovative voices working at the crossroads of jazz and world music. This Latin Jazz Project is the fruit of her graduate studies at the Instituto Superior de Arte in Havana\, her numerous musical experiences in Latin America and the Caribbean\, and her 20 years of collaboration with the Latin jazz community in Montreal\, New York and Toronto. As part of this exceptional group\, she offers a refined repertoire that includes original pieces and her arrangements of the great Afro-Latin jazz classics. From salsa to danzón\, from rumba to chachachá\, Rachel and her virtuoso accomplices will bring you to dance with their unique and original music tinged with influences from Cuba\, New York and Colombia\, among others. A show full of color… and heat! \nThe French-Canadian trumpeter\, composer and producer boasts an enviable curriculum known for her very personal signature with influences from Jazz to Afro-Latin and Global Music. Rachel works between New York and Montreal. \n\nRachel Therrien –trumpet\, flugelhorn\nGabriel Chakarji –piano\nPaul Reyes –upright bass\nJuan Pablo Carmona -drums\nCarlos Maldonado -percussion\nTakafumi Nikaido –percussion\nSpecial Guest TBA \n$25/FREE members; cabaret seating: $35/$20 members;\nLivestream: $20/FREE for members
URL:https://notoriousjazz.com/event/rachel-therrien-latin-jazz-project
LOCATION:Jazz Gallery\, 1158 Broadway 5th Floor\, New York City\, NY\, 10001\, United States
CATEGORIES:Club
ATTACH;FMTTYPE=image/jpeg:https://notoriousjazz.com/wp-content/uploads/2024/01/RACHEL-THERRIEN.jpg
END:VEVENT
END:VCALENDAR