BEGIN:VCALENDAR
VERSION:2.0
PRODID:-//Notorious Jazz - ECPv6.15.17//NONSGML v1.0//EN
CALSCALE:GREGORIAN
METHOD:PUBLISH
X-WR-CALNAME:Notorious Jazz
X-ORIGINAL-URL:https://notoriousjazz.com
X-WR-CALDESC:Events for Notorious Jazz
REFRESH-INTERVAL;VALUE=DURATION:PT1H
X-Robots-Tag:noindex
X-PUBLISHED-TTL:PT1H
BEGIN:VTIMEZONE
TZID:America/Los_Angeles
BEGIN:DAYLIGHT
TZOFFSETFROM:-0800
TZOFFSETTO:-0700
TZNAME:PDT
DTSTART:20230312T100000
END:DAYLIGHT
BEGIN:STANDARD
TZOFFSETFROM:-0700
TZOFFSETTO:-0800
TZNAME:PST
DTSTART:20231105T090000
END:STANDARD
BEGIN:DAYLIGHT
TZOFFSETFROM:-0800
TZOFFSETTO:-0700
TZNAME:PDT
DTSTART:20240310T100000
END:DAYLIGHT
BEGIN:STANDARD
TZOFFSETFROM:-0700
TZOFFSETTO:-0800
TZNAME:PST
DTSTART:20241103T090000
END:STANDARD
BEGIN:DAYLIGHT
TZOFFSETFROM:-0800
TZOFFSETTO:-0700
TZNAME:PDT
DTSTART:20250309T100000
END:DAYLIGHT
BEGIN:STANDARD
TZOFFSETFROM:-0700
TZOFFSETTO:-0800
TZNAME:PST
DTSTART:20251102T090000
END:STANDARD
END:VTIMEZONE
BEGIN:VEVENT
DTSTART;TZID=America/Los_Angeles:20240201T193000
DTEND;TZID=America/Los_Angeles:20240201T210000
DTSTAMP:20260420T201147
CREATED:20240119T184231Z
LAST-MODIFIED:20240120T131015Z
UID:38834-1706815800-1706821200@notoriousjazz.com
SUMMARY:KENNY BARRON
DESCRIPTION:Starting his week as Resident Artistic Director in grand style\, Kenny Barron performs with his ironclad working trio with bassist Kiyoshi Kitagawa and drummer Johnathan Blake. Kitagawa’s 27-year association with Barron and Blake’s nearly twenty-year tenure have made them the finest working piano trio in jazz\, a unit that has developed a singular depth of communication as captured on Barron’s 2016 Impulse! album Book of Intuition — a sterling session nominated for “Best Instrumental Jazz Recording” at the 2016 GRAMMY Awards. \n\n\nCalled “one of the top jazz pianists in the world” by The Los Angeles Times\, Kenny Barron is a 2010 NEA Jazz Master and eleven-time GRAMMY nominee who helped define and extend the jazz tradition since his work with Dizzy Gillespie in the early ‘60s catapulted him into the spotlight. Extensive associations with Freddie Hubbard\, Yusef Lateef\, Stan Getz\, James Moody and Ron Carter built his peerless reputation as a sideman\, and he has recorded over 50 albums as a bandleader over his five-decade career. A seven-time recipient of Best Pianst by the Jazz Journalists Association\, Barron leads an ironclad trio with bassist Kiyoshi Kitagawa and drummer Johnathan Blake\, and regularly performs as a soloist and settings from duo to big band.
URL:https://notoriousjazz.com/event/kenny-barron
LOCATION:SFJazz Center | Miner Auditorium\, 201 Franklin Street\, San Francisco\, CA\, 94102\, United States
CATEGORIES:Concert
ATTACH;FMTTYPE=image/jpeg:https://notoriousjazz.com/wp-content/uploads/2024/01/KENNY-BARRON.jpg
END:VEVENT
END:VCALENDAR