BEGIN:VCALENDAR
VERSION:2.0
PRODID:-//Notorious Jazz - ECPv6.15.17//NONSGML v1.0//EN
CALSCALE:GREGORIAN
METHOD:PUBLISH
X-WR-CALNAME:Notorious Jazz
X-ORIGINAL-URL:https://notoriousjazz.com
X-WR-CALDESC:Events for Notorious Jazz
REFRESH-INTERVAL;VALUE=DURATION:PT1H
X-Robots-Tag:noindex
X-PUBLISHED-TTL:PT1H
BEGIN:VTIMEZONE
TZID:America/New_York
BEGIN:DAYLIGHT
TZOFFSETFROM:-0500
TZOFFSETTO:-0400
TZNAME:EDT
DTSTART:20230312T070000
END:DAYLIGHT
BEGIN:STANDARD
TZOFFSETFROM:-0400
TZOFFSETTO:-0500
TZNAME:EST
DTSTART:20231105T060000
END:STANDARD
BEGIN:DAYLIGHT
TZOFFSETFROM:-0500
TZOFFSETTO:-0400
TZNAME:EDT
DTSTART:20240310T070000
END:DAYLIGHT
BEGIN:STANDARD
TZOFFSETFROM:-0400
TZOFFSETTO:-0500
TZNAME:EST
DTSTART:20241103T060000
END:STANDARD
BEGIN:DAYLIGHT
TZOFFSETFROM:-0500
TZOFFSETTO:-0400
TZNAME:EDT
DTSTART:20250309T070000
END:DAYLIGHT
BEGIN:STANDARD
TZOFFSETFROM:-0400
TZOFFSETTO:-0500
TZNAME:EST
DTSTART:20251102T060000
END:STANDARD
END:VTIMEZONE
BEGIN:VTIMEZONE
TZID:America/Los_Angeles
BEGIN:DAYLIGHT
TZOFFSETFROM:-0800
TZOFFSETTO:-0700
TZNAME:PDT
DTSTART:20230312T100000
END:DAYLIGHT
BEGIN:STANDARD
TZOFFSETFROM:-0700
TZOFFSETTO:-0800
TZNAME:PST
DTSTART:20231105T090000
END:STANDARD
BEGIN:DAYLIGHT
TZOFFSETFROM:-0800
TZOFFSETTO:-0700
TZNAME:PDT
DTSTART:20240310T100000
END:DAYLIGHT
BEGIN:STANDARD
TZOFFSETFROM:-0700
TZOFFSETTO:-0800
TZNAME:PST
DTSTART:20241103T090000
END:STANDARD
BEGIN:DAYLIGHT
TZOFFSETFROM:-0800
TZOFFSETTO:-0700
TZNAME:PDT
DTSTART:20250309T100000
END:DAYLIGHT
BEGIN:STANDARD
TZOFFSETFROM:-0700
TZOFFSETTO:-0800
TZNAME:PST
DTSTART:20251102T090000
END:STANDARD
END:VTIMEZONE
BEGIN:VEVENT
DTSTART;TZID=America/New_York:20240202T183000
DTEND;TZID=America/New_York:20240202T224500
DTSTAMP:20260420T215932
CREATED:20240104T184401Z
LAST-MODIFIED:20240107T171839Z
UID:38558-1706898600-1706913900@notoriousjazz.com
SUMMARY:RODNEY WHITAKER
DESCRIPTION:Innovative jazz bassist\, Rodney Whitaker\, is one of the leading performers of double bass in the world and is joined by a group of unique\, soulful\, and talented individuals to perform an exhilarating and enlightening program of his and composer’s\, Gregg Hill\, music. It is guaranteed to inspire\, impart\, uplift\, and quench the thirsty spirits yearning for a delightful evening of majestic melodies\, resounding rhythms\, and heavenly harmonies. The culminating musical experience will meticulously marinate the minds of the devoted jazz enthusiasts\, leaving them in a state of euphoria.
URL:https://notoriousjazz.com/event/rodney-whitaker
LOCATION:The Blue Llama\, 314 S Main Street\, Ann Arbor\, MI\, 48104\, United States
CATEGORIES:Club
ATTACH;FMTTYPE=image/jpeg:https://notoriousjazz.com/wp-content/uploads/2024/01/RODNEY-WHITAKER.jpg
END:VEVENT
BEGIN:VEVENT
DTSTART;TZID=America/Los_Angeles:20240202T193000
DTEND;TZID=America/Los_Angeles:20240202T210000
DTSTAMP:20260420T215932
CREATED:20240120T135548Z
LAST-MODIFIED:20240120T152826Z
UID:38840-1706902200-1706907600@notoriousjazz.com
SUMMARY:KENNY BARRON QUINTET
DESCRIPTION:Expanding his stellar working trio to a quintet with the addition of SFJAZZ Collective trumpeter Mike Rodriguez and Bay Area-raised saxophone great Dayna Stephens\, Kenny Barron explores new sonorities and textures in a program of originals and fresh takes on standards documented on his 2018 Blue Note album Concentric Circles. \nBest known for his work with the Charlie Haden Liberation Music Orchestra and a first-year member of the Collective\, Martinez is a veteran of work with Clark Terry\, Joe Lovano\, and Chico O’Farrill. Stephens is arguably one of the busiest and most buzzed-about saxophonists in modern jazz\, working with Taylor Eigsti\, Brad Mehldau\, Ambrose Akinmusire\, and Gerald Clayton among others\, and leading eleven albums. \nThe Band: Dayna Stephens\, Mike Rodriguez\, Kiyoshi Kitagawa\, Johnathan Blake \n 
URL:https://notoriousjazz.com/event/kenny-barron-quintet-2
LOCATION:SFJazz Center | Miner Auditorium\, 201 Franklin Street\, San Francisco\, CA\, 94102\, United States
CATEGORIES:Concert
ATTACH;FMTTYPE=image/png:https://notoriousjazz.com/wp-content/uploads/2024/01/KENNY-BARRON.png
END:VEVENT
END:VCALENDAR