BEGIN:VCALENDAR
VERSION:2.0
PRODID:-//Notorious Jazz - ECPv6.15.17//NONSGML v1.0//EN
CALSCALE:GREGORIAN
METHOD:PUBLISH
X-WR-CALNAME:Notorious Jazz
X-ORIGINAL-URL:https://notoriousjazz.com
X-WR-CALDESC:Events for Notorious Jazz
REFRESH-INTERVAL;VALUE=DURATION:PT1H
X-Robots-Tag:noindex
X-PUBLISHED-TTL:PT1H
BEGIN:VTIMEZONE
TZID:America/New_York
BEGIN:DAYLIGHT
TZOFFSETFROM:-0500
TZOFFSETTO:-0400
TZNAME:EDT
DTSTART:20230312T070000
END:DAYLIGHT
BEGIN:STANDARD
TZOFFSETFROM:-0400
TZOFFSETTO:-0500
TZNAME:EST
DTSTART:20231105T060000
END:STANDARD
BEGIN:DAYLIGHT
TZOFFSETFROM:-0500
TZOFFSETTO:-0400
TZNAME:EDT
DTSTART:20240310T070000
END:DAYLIGHT
BEGIN:STANDARD
TZOFFSETFROM:-0400
TZOFFSETTO:-0500
TZNAME:EST
DTSTART:20241103T060000
END:STANDARD
BEGIN:DAYLIGHT
TZOFFSETFROM:-0500
TZOFFSETTO:-0400
TZNAME:EDT
DTSTART:20250309T070000
END:DAYLIGHT
BEGIN:STANDARD
TZOFFSETFROM:-0400
TZOFFSETTO:-0500
TZNAME:EST
DTSTART:20251102T060000
END:STANDARD
END:VTIMEZONE
BEGIN:VEVENT
DTSTART;TZID=America/New_York:20240209T190000
DTEND;TZID=America/New_York:20240210T230000
DTSTAMP:20260420T201327
CREATED:20240203T200509Z
LAST-MODIFIED:20240203T200617Z
UID:39184-1707505200-1707606000@notoriousjazz.com
SUMMARY:DEE DEE BRIDGEWATER
DESCRIPTION:Dee Dee Bridgewater Quartet with Carman Staff\, Amina Scott & Shirazette Tinnin \n\nOver the course of a multifaceted career spanning four decades\, Grammy and Tony Award-winning NEA Jazz Master Dee Dee Bridgewater has ascended to the upper echelon of vocalists\, putting her unique spin on standards\, as well as taking intrepid leaps of faith in re-envisioning jazz classics. Ever the fearless voyager\, explorer\, pioneer and keeper of tradition\, the three-time Grammy-winner recently won the Grammy for Best Jazz Vocal Album for Eleanora Fagan (1915-1959): To Billie With Love From Dee Dee.\n\nOver the course of a multifaceted career spanning four decades\, Grammy and Tony Award-winning jazz giant Dee Dee Bridgewater has ascended to the upper echelon of vocalists\, putting her unique spin on standards\, as well as taking intrepid leaps of faith in re-envisioning jazz classics. Ever the fearless voyager\, explorer\, pioneer and keeper of tradition\, the three-time Grammy-winner recently won the Grammy for Best Jazz Vocal Album for Eleanora Fagan (1915-1959): To Billie With Love From Dee Dee. \nBridgewater’s career has always bridged musical genres. She earned her first professional experience as a member of the legendary Thad Jones/Mel Louis Big Band\, and throughout the 70s she performed with such jazz notables as Max Roach\, Sonny Rollins\, Dexter Gordon and Dizzy Gillespie. After a foray into the pop world during the 1980s\, she relocated to Paris and began to turn her attention back to Jazz. Signing with Universal Music Group as a producer (Bridgewater produces all of her CDs)\, Bridgewater released a series of critically acclaimed titles beginning with Keeping Tradition in 1993. All but one\, including her wildly successful double Grammy Award-winning tribute to Ella Fitzgerald\, Dear Ella\, have received Grammy nominations. \nFriday & Saturday at 7pm & 9:30pm \n\nStreaming: $15.00\n\nThe Band:\nDee Dee Bridgewater ~ Lead Vocals\nCarman Staff  ~ Piano & Keys\nAmina Scott ~ Acoustic & Electric Bass\nShirazette Tinnin ~ Drums
URL:https://notoriousjazz.com/event/dee-dee-bridgewater
LOCATION:Keystone Korner Baltimore\, 1350 Lancaster Street\, Baltimore\, MD\, 21231\, United States
CATEGORIES:Club
ATTACH;FMTTYPE=image/png:https://notoriousjazz.com/wp-content/uploads/2024/02/DEE-DEE-BRIDGEWATER.png
END:VEVENT
BEGIN:VEVENT
DTSTART;TZID=America/New_York:20240209T200000
DTEND;TZID=America/New_York:20240209T213000
DTSTAMP:20260420T201327
CREATED:20230903T054548Z
LAST-MODIFIED:20240121T030705Z
UID:36914-1707508800-1707514200@notoriousjazz.com
SUMMARY:CHUCHO VALDÉS: IRAKERE 50
DESCRIPTION:Fresh off the world premiere of his epic work La Creación at the Arsht Center in 2021\, Cuban pianist and composer Chucho Valdés returns to commemorate 50 years of IRAKERE\, the legendary Afro-Cuban jazz band he founded that changed the face of Latin music forever. \nWith its audacious mix of Afro-Cuban ritual music\, Cuban dance music\, jazz\, classical music and rock\, Irakere marked a before and after in Latin jazz. The group’s self-titled debut recording in the United States won a Grammy as Best Latin Recording in 1979. In 2015\, Valdés celebrated Irakere’s 40th anniversary with a world tour. Tribute to Irakere: Live at Marciac\, which captured a performance on that tour\, won a Grammy for Best Latin Jazz Album in 2016.
URL:https://notoriousjazz.com/event/chucho-valdes-irakere-50
LOCATION:Adrienne Arsht Center | Knight Concert Hall\, 1300 Biscayne Boulevard\, Miami\, FL\, 33132\, United States
CATEGORIES:Concert
ATTACH;FMTTYPE=image/jpeg:https://notoriousjazz.com/wp-content/uploads/2023/09/CHUCHO-VALDES.jpeg
END:VEVENT
END:VCALENDAR