BEGIN:VCALENDAR
VERSION:2.0
PRODID:-//Notorious Jazz - ECPv6.15.17//NONSGML v1.0//EN
CALSCALE:GREGORIAN
METHOD:PUBLISH
X-WR-CALNAME:Notorious Jazz
X-ORIGINAL-URL:https://notoriousjazz.com
X-WR-CALDESC:Events for Notorious Jazz
REFRESH-INTERVAL;VALUE=DURATION:PT1H
X-Robots-Tag:noindex
X-PUBLISHED-TTL:PT1H
BEGIN:VTIMEZONE
TZID:America/Los_Angeles
BEGIN:DAYLIGHT
TZOFFSETFROM:-0800
TZOFFSETTO:-0700
TZNAME:PDT
DTSTART:20230312T100000
END:DAYLIGHT
BEGIN:STANDARD
TZOFFSETFROM:-0700
TZOFFSETTO:-0800
TZNAME:PST
DTSTART:20231105T090000
END:STANDARD
BEGIN:DAYLIGHT
TZOFFSETFROM:-0800
TZOFFSETTO:-0700
TZNAME:PDT
DTSTART:20240310T100000
END:DAYLIGHT
BEGIN:STANDARD
TZOFFSETFROM:-0700
TZOFFSETTO:-0800
TZNAME:PST
DTSTART:20241103T090000
END:STANDARD
BEGIN:DAYLIGHT
TZOFFSETFROM:-0800
TZOFFSETTO:-0700
TZNAME:PDT
DTSTART:20250309T100000
END:DAYLIGHT
BEGIN:STANDARD
TZOFFSETFROM:-0700
TZOFFSETTO:-0800
TZNAME:PST
DTSTART:20251102T090000
END:STANDARD
END:VTIMEZONE
BEGIN:VTIMEZONE
TZID:America/New_York
BEGIN:DAYLIGHT
TZOFFSETFROM:-0500
TZOFFSETTO:-0400
TZNAME:EDT
DTSTART:20230312T070000
END:DAYLIGHT
BEGIN:STANDARD
TZOFFSETFROM:-0400
TZOFFSETTO:-0500
TZNAME:EST
DTSTART:20231105T060000
END:STANDARD
BEGIN:DAYLIGHT
TZOFFSETFROM:-0500
TZOFFSETTO:-0400
TZNAME:EDT
DTSTART:20240310T070000
END:DAYLIGHT
BEGIN:STANDARD
TZOFFSETFROM:-0400
TZOFFSETTO:-0500
TZNAME:EST
DTSTART:20241103T060000
END:STANDARD
BEGIN:DAYLIGHT
TZOFFSETFROM:-0500
TZOFFSETTO:-0400
TZNAME:EDT
DTSTART:20250309T070000
END:DAYLIGHT
BEGIN:STANDARD
TZOFFSETFROM:-0400
TZOFFSETTO:-0500
TZNAME:EST
DTSTART:20251102T060000
END:STANDARD
END:VTIMEZONE
BEGIN:VEVENT
DTSTART;TZID=America/Los_Angeles:20240215T193000
DTEND;TZID=America/Los_Angeles:20240218T210000
DTSTAMP:20260420T201223
CREATED:20240121T025156Z
LAST-MODIFIED:20240121T025715Z
UID:38866-1708025400-1708290000@notoriousjazz.com
SUMMARY:CHUCHO VALDÉS & IRAKERE 50
DESCRIPTION:The most influential figure in modern Afro-Cuban jazz for more than half a century\, virtuoso pianist\, composer and arranger Chucho Valdés returns with Irakere 50\, the new iteration of the legendary band that changed the course of Latin music in the 1970s and 80s. \n\n\nThe son of Cuban pianist Bebo Valdés\, the winner of seven GRAMMYs and four Latin GRAMMY Awards joined Armando Romeu’s celebrated Cuban Orchestra of Modern Music in 1967\, a time when the communist government still considered American jazz anti-revolutionary. He was already recognized as the most formidable pianist of his generation when he launched Irakere in 1973 with a phenomenal cast that included saxophonist Paquito D’Rivera and trumpeter Arturo Sandoval. \nDiscovered and introduced internationally by Dizzy Gillespie\, the band’s unprecedented synthesis of folkloric Afro-Cuban rhythms\, sacred drums\, rock\, funk\, R&B\, and jazz opened up vast new frontiers\, and helped pave the way for the pervasively popular dance music known as timba. Over the ensuing years\, Valdés has concentrated on his career as a solo artist\, recording 25 albums and co-writing the landmark 2018 book Decoding Afro-Cuban Jazz in collaboration with SFJAZZ Director of Education Rebeca Mauleón. \nA springboard from Valdes’ GRAMMY-winning Afro-Cuban Messengers band\, Irakare 50 showcases a blazing new generation of Cuban talent. \nThursday ~ Saturday Performance | 7:30pm \nSunday Performance | 7:00pm
URL:https://notoriousjazz.com/event/chucho-valdes-irakere-50-2
LOCATION:SFJazz Center | Miner Auditorium\, 201 Franklin Street\, San Francisco\, CA\, 94102\, United States
CATEGORIES:Concert
ATTACH;FMTTYPE=image/jpeg:https://notoriousjazz.com/wp-content/uploads/2024/01/CHUCHO-VALDES-.jpg
END:VEVENT
BEGIN:VEVENT
DTSTART;TZID=America/Los_Angeles:20240217T180000
DTEND;TZID=America/Los_Angeles:20240218T220000
DTSTAMP:20260420T201223
CREATED:20240121T022718Z
LAST-MODIFIED:20240121T031832Z
UID:38860-1708192800-1708293600@notoriousjazz.com
SUMMARY:LOSTON HARRIS: SWINGFULLY YOURS
DESCRIPTION:For many years a mainstay at New York’s cabaret capital\, the Carlyle Hotel\, singer and pianist Loston Harris and his swing-infused trio present intoxicating takes on gems from the Great American Songbook\, carrying on the tradition of Frank Sinatra\, Bobby Short\, and Nat King Cole. \nSaturday Performance | 7:00pm & 8:30pm \nSunday Performance | 6:00pm & 7:30 pm
URL:https://notoriousjazz.com/event/loston-harris-swingfully-yours
LOCATION:SFJazz Center | Joe Henderson Lab\, 201 Franklin Street\, San Francisco\, CA\, 94102\, United States
CATEGORIES:Concert
ATTACH;FMTTYPE=image/png:https://notoriousjazz.com/wp-content/uploads/2024/01/LOSTON-HARRIS.png
END:VEVENT
BEGIN:VEVENT
DTSTART;TZID=America/New_York:20240218T190000
DTEND;TZID=America/New_York:20240218T210000
DTSTAMP:20260420T201223
CREATED:20240119T014328Z
LAST-MODIFIED:20240119T031900Z
UID:38814-1708282800-1708290000@notoriousjazz.com
SUMMARY:E. C. III
DESCRIPTION:Ernest “EC3 Coleman III BIO Ernest\, a second generation musician\, was born in Naples\, Italy to Ernest and Rebecca Coleman. His father\, Ernest Jr.\, was a jazz musician who played tenor sax and was also a great arranger and composer. \nErnest studied at the Naval Conservatory of Music in Norfolk\, Virginia and was awarded a special honor for being the youngest student to graduate from this conservatory. After his tour with the Navy Band\, Ernest moved to Los Angeles\, California and began his true musical quest. He performed for Guys & Dolls\, Ain’t Misbehavin\, Bourbon Street Review\, and A Chorus Line. \nErnest got the call to work with Loretta Holloway in Las Vegas opening for Jay Leno\, Bill Cosby\, David Brenner\, Yakov Smirnoff\, Whoopi Goldberg\, Don Rickles and many many more. Ernest soon took over as Loretta’s musical director and continued on to travel to places like Russia\, Bermuda\, Japan\, Canada\, Virgin Islands\, and Brazil\, among many places around the world. Ernest worked with Loretta for over twelve years\, playing with major symphonies and was responsible for conducting from behind the drums. \nThe evening is curated by  Tyrone Jackson who is the quintessential jazz piano player. His boundless creativity coupled with harmonic mastery\, utilizes the piano as a blank canvas.  Jackson is nationally recognized and has traveled the world as a solo artist and sideman. \nAs a composer\, Jackson has composed original music for Pulitizer Prize winning author Natasha Tretheway’s book of poems “Native Guard” turned theatrical play\, Pearl Clege’s play\, “Tell Me My Dream”\, “Ethel” and this year’s Alliance Theater production of “Nick’s Flamingo Grill.” Jackson has recorded 4 Albums—“Dedicated”\, “Another Voyage”\, “Melody In Nede”\, and new release “From The Mind Of.” \n 
URL:https://notoriousjazz.com/event/e-c-iii
LOCATION:The Balzer Theater at Herren’s\, 84 Luckie Street NW\, Atlanta\, GA\, 30303\, United States
CATEGORIES:Concert
ATTACH;FMTTYPE=image/png:https://notoriousjazz.com/wp-content/uploads/2024/01/EC-III.png
END:VEVENT
END:VCALENDAR