BEGIN:VCALENDAR
VERSION:2.0
PRODID:-//Notorious Jazz - ECPv6.15.17//NONSGML v1.0//EN
CALSCALE:GREGORIAN
METHOD:PUBLISH
X-ORIGINAL-URL:https://notoriousjazz.com
X-WR-CALDESC:Events for Notorious Jazz
REFRESH-INTERVAL;VALUE=DURATION:PT1H
X-Robots-Tag:noindex
X-PUBLISHED-TTL:PT1H
BEGIN:VTIMEZONE
TZID:America/Los_Angeles
BEGIN:DAYLIGHT
TZOFFSETFROM:-0800
TZOFFSETTO:-0700
TZNAME:PDT
DTSTART:20230312T100000
END:DAYLIGHT
BEGIN:STANDARD
TZOFFSETFROM:-0700
TZOFFSETTO:-0800
TZNAME:PST
DTSTART:20231105T090000
END:STANDARD
BEGIN:DAYLIGHT
TZOFFSETFROM:-0800
TZOFFSETTO:-0700
TZNAME:PDT
DTSTART:20240310T100000
END:DAYLIGHT
BEGIN:STANDARD
TZOFFSETFROM:-0700
TZOFFSETTO:-0800
TZNAME:PST
DTSTART:20241103T090000
END:STANDARD
BEGIN:DAYLIGHT
TZOFFSETFROM:-0800
TZOFFSETTO:-0700
TZNAME:PDT
DTSTART:20250309T100000
END:DAYLIGHT
BEGIN:STANDARD
TZOFFSETFROM:-0700
TZOFFSETTO:-0800
TZNAME:PST
DTSTART:20251102T090000
END:STANDARD
END:VTIMEZONE
BEGIN:VTIMEZONE
TZID:America/New_York
BEGIN:DAYLIGHT
TZOFFSETFROM:-0500
TZOFFSETTO:-0400
TZNAME:EDT
DTSTART:20230312T070000
END:DAYLIGHT
BEGIN:STANDARD
TZOFFSETFROM:-0400
TZOFFSETTO:-0500
TZNAME:EST
DTSTART:20231105T060000
END:STANDARD
BEGIN:DAYLIGHT
TZOFFSETFROM:-0500
TZOFFSETTO:-0400
TZNAME:EDT
DTSTART:20240310T070000
END:DAYLIGHT
BEGIN:STANDARD
TZOFFSETFROM:-0400
TZOFFSETTO:-0500
TZNAME:EST
DTSTART:20241103T060000
END:STANDARD
BEGIN:DAYLIGHT
TZOFFSETFROM:-0500
TZOFFSETTO:-0400
TZNAME:EDT
DTSTART:20250309T070000
END:DAYLIGHT
BEGIN:STANDARD
TZOFFSETFROM:-0400
TZOFFSETTO:-0500
TZNAME:EST
DTSTART:20251102T060000
END:STANDARD
END:VTIMEZONE
BEGIN:VEVENT
DTSTART;TZID=America/Los_Angeles:20240307T193000
DTEND;TZID=America/Los_Angeles:20240308T210000
DTSTAMP:20260420T183111
CREATED:20240121T015636Z
LAST-MODIFIED:20240121T021855Z
UID:38850-1709839800-1709931600@notoriousjazz.com
SUMMARY:BRANDEE YOUNGER: BRAND NEW LIFE
DESCRIPTION:Brandee Younger begins her week with two nights devoted to her 2023 Impulse! album Brand New Life\, a shimmering collection of works written by or performed by the late jazz harp pioneer Dorothy Ashby\, along with original compositions dedicated to Ashby’s enduring legacy. Building bridges that span jazz\, classical music\, and hip-hop\, Younger is joined for these dates by her working trio of bassist Rashaan Carter and drumming phenom Makaya McCraven\, along with a string section and special guests. \nThe Band: Brandee Younger ~ Harp\, Rashaan Carter~ bass\, Makaya McCraven ~ drums\, String Ensemble\, Mumu Fresh ~ vocal\, Meshell Ndegeocello ~ vocal (3.8 Only)\, Pete Rock ~ turntables \n 
URL:https://notoriousjazz.com/event/brandee-younger-brand-new-life
LOCATION:SFJazz Center | Miner Auditorium\, 201 Franklin Street\, San Francisco\, CA\, 94102\, United States
CATEGORIES:Concert
ATTACH;FMTTYPE=image/png:https://notoriousjazz.com/wp-content/uploads/2024/01/BRANDEE-YOUNGER.png
END:VEVENT
BEGIN:VEVENT
DTSTART;TZID=America/New_York:20240308T180000
DTEND;TZID=America/New_York:20240310T230000
DTSTAMP:20260420T183111
CREATED:20240218T155406Z
LAST-MODIFIED:20240218T160523Z
UID:39390-1709920800-1710111600@notoriousjazz.com
SUMMARY:CHIEN CHIEN LU X RICHIE GOODS
DESCRIPTION:Chien Chien Lu X Richie Goods “Connections” featuring J Hoard \nChien Chien Lu is a vibraphonist\, contemporary percussionist\, and composer whose Taiwanese upbringing\, classical music education\, and passion for grooves crystallize into a fresh and distinctive approach to contemporary jazz. Lu has recently been included in the list of 10 Emerging Jazz Artists 2023 by Grammy (Recording Academy). Her collaborative album with bassist Richie Goods “connected“just received 34th Golden Melody Awards “Best Instrumental Album“. \nRichie Goods is the youngest person ever inducted into the Pittsburgh Jazz Hall of Fame. After graduating from the prestigious jazz program at Berklee College of Music\, the bassist moved to New York City\, where he studied under jazz legends Ron Carter and Ray Brown. \nFriday & Saturday Showtimes : 7:00pm | 9:30pm \nSunday Showtimes : 6:00pm | 8:30pm
URL:https://notoriousjazz.com/event/chien-chien-lu-x-richie-goods
LOCATION:South\, 600 N. Broad Street\, Philadelphia\, PA\, 19130\, United States
CATEGORIES:Club
ATTACH;FMTTYPE=image/png:https://notoriousjazz.com/wp-content/uploads/2024/02/CHIEN-CHIEN-LU-RICHIE-GOODS.png
END:VEVENT
END:VCALENDAR