BEGIN:VCALENDAR
VERSION:2.0
PRODID:-//Notorious Jazz - ECPv6.15.17//NONSGML v1.0//EN
CALSCALE:GREGORIAN
METHOD:PUBLISH
X-WR-CALNAME:Notorious Jazz
X-ORIGINAL-URL:https://notoriousjazz.com
X-WR-CALDESC:Events for Notorious Jazz
REFRESH-INTERVAL;VALUE=DURATION:PT1H
X-Robots-Tag:noindex
X-PUBLISHED-TTL:PT1H
BEGIN:VTIMEZONE
TZID:America/New_York
BEGIN:DAYLIGHT
TZOFFSETFROM:-0500
TZOFFSETTO:-0400
TZNAME:EDT
DTSTART:20230312T070000
END:DAYLIGHT
BEGIN:STANDARD
TZOFFSETFROM:-0400
TZOFFSETTO:-0500
TZNAME:EST
DTSTART:20231105T060000
END:STANDARD
BEGIN:DAYLIGHT
TZOFFSETFROM:-0500
TZOFFSETTO:-0400
TZNAME:EDT
DTSTART:20240310T070000
END:DAYLIGHT
BEGIN:STANDARD
TZOFFSETFROM:-0400
TZOFFSETTO:-0500
TZNAME:EST
DTSTART:20241103T060000
END:STANDARD
BEGIN:DAYLIGHT
TZOFFSETFROM:-0500
TZOFFSETTO:-0400
TZNAME:EDT
DTSTART:20250309T070000
END:DAYLIGHT
BEGIN:STANDARD
TZOFFSETFROM:-0400
TZOFFSETTO:-0500
TZNAME:EST
DTSTART:20251102T060000
END:STANDARD
END:VTIMEZONE
BEGIN:VEVENT
DTSTART;TZID=America/New_York:20240315T190000
DTEND;TZID=America/New_York:20240315T230000
DTSTAMP:20260420T165237
CREATED:20240218T021812Z
LAST-MODIFIED:20240218T021812Z
UID:39381-1710529200-1710543600@notoriousjazz.com
SUMMARY:JAVIER NERO JAZZ ORCHESTRA
DESCRIPTION:The Javier Nero Jazz Orchestra is a fresh and dynamic big band performing all original music and modern arrangements of jazz standards. \nDr. Javier Nero is an award-winning jazz trombonist\, composer\, arranger\, and educator whose musicianship has received significant recognition. Currently based in Baltimore\, MD\, Javier is busy as both a bandleader and sideman in the greater DMV area. His classical training and versatility have enabled him to perform in various styles and genres alike\, ranging from small jazz combos\, to symphony orchestras. Dr. Nero’s compositions and arrangements have also earned various awards and accolades including Downbeat Magazine’s Student Music Awards\, participation in the Betty Carter Jazz Ahead Program\, and the Banff Centre’s international workshop in jazz and creative music. Dr. Nero has also recently joined the faculty of the Peabody Conservatory at Johns Hopkins University as the jazz trombone and arranging and harmony teacher. \nStreaming: $15.00 + fees
URL:https://notoriousjazz.com/event/javier-nero-jazz-orchestra
LOCATION:Keystone Korner Baltimore\, 1350 Lancaster Street\, Baltimore\, MD\, 21231\, United States
CATEGORIES:Club
ATTACH;FMTTYPE=image/jpeg:https://notoriousjazz.com/wp-content/uploads/2024/02/JAVIER-NERO.jpg
END:VEVENT
BEGIN:VEVENT
DTSTART;TZID=America/New_York:20240315T193000
DTEND;TZID=America/New_York:20240315T210000
DTSTAMP:20260420T165237
CREATED:20240302T204924Z
LAST-MODIFIED:20240302T204924Z
UID:39582-1710531000-1710536400@notoriousjazz.com
SUMMARY:JESSE JONES JR.
DESCRIPTION:The Miami native is a virtuoso saxophonist who started his first band\, the Melt-Jess Jazz Quintet\, in high school with trumpeter brother Melton Mustafa\, who later left to play with Count Basie. Jones formed his own quartet and remains a longtime fixture in Miami’s jazz scene. \nHe continues to be at the forefront of a burgeoning jazz renaissance in South Florida. He is renowned for his mastery of the saxophone and captivating vocals\, has left an indelible mark on the genre over decades.
URL:https://notoriousjazz.com/event/jesse-jones-jr
LOCATION:Arts Bonita Center for Performing Arts\, 10150 Bonita Beach Road\, Bonita Springs\, FL\, 34135\, United States
CATEGORIES:Concert
ATTACH;FMTTYPE=image/jpeg:https://notoriousjazz.com/wp-content/uploads/2024/03/JESSE-JONES-JR.jpg
END:VEVENT
END:VCALENDAR