BEGIN:VCALENDAR
VERSION:2.0
PRODID:-//Notorious Jazz - ECPv6.15.17//NONSGML v1.0//EN
CALSCALE:GREGORIAN
METHOD:PUBLISH
X-WR-CALNAME:Notorious Jazz
X-ORIGINAL-URL:https://notoriousjazz.com
X-WR-CALDESC:Events for Notorious Jazz
REFRESH-INTERVAL;VALUE=DURATION:PT1H
X-Robots-Tag:noindex
X-PUBLISHED-TTL:PT1H
BEGIN:VTIMEZONE
TZID:America/New_York
BEGIN:DAYLIGHT
TZOFFSETFROM:-0500
TZOFFSETTO:-0400
TZNAME:EDT
DTSTART:20230312T070000
END:DAYLIGHT
BEGIN:STANDARD
TZOFFSETFROM:-0400
TZOFFSETTO:-0500
TZNAME:EST
DTSTART:20231105T060000
END:STANDARD
BEGIN:DAYLIGHT
TZOFFSETFROM:-0500
TZOFFSETTO:-0400
TZNAME:EDT
DTSTART:20240310T070000
END:DAYLIGHT
BEGIN:STANDARD
TZOFFSETFROM:-0400
TZOFFSETTO:-0500
TZNAME:EST
DTSTART:20241103T060000
END:STANDARD
BEGIN:DAYLIGHT
TZOFFSETFROM:-0500
TZOFFSETTO:-0400
TZNAME:EDT
DTSTART:20250309T070000
END:DAYLIGHT
BEGIN:STANDARD
TZOFFSETFROM:-0400
TZOFFSETTO:-0500
TZNAME:EST
DTSTART:20251102T060000
END:STANDARD
END:VTIMEZONE
BEGIN:VEVENT
DTSTART;TZID=America/New_York:20240318T190000
DTEND;TZID=America/New_York:20240318T223000
DTSTAMP:20260420T165112
CREATED:20240303T163729Z
LAST-MODIFIED:20240303T163729Z
UID:39599-1710788400-1710801000@notoriousjazz.com
SUMMARY:DOMO BRANCH BIG BAND
DESCRIPTION:Domo Branch brings an intentional curiosity to his sets. His versatility on the drums allows him to perform with a range of individualists\, from Wynton Marsalis and Dianne Reeves to Taylor Eigsti and Terence Blanchard. Leading his acclaimed ensemble Branchin’ Out\, the bi-coastal artist centers improvisation and expansion. Expect a high-energy evening of new music and classic tunes.  \nDominick “Domo” Branch\, drums/bandleader\nNathaniel Williford\, Nicholas Mikhail\, Alexandra Ridout\, Geoff Gallante\, trumpet | Nate Jones\, Bruno Tzinas\, Jack Kotze\, Joe Giordano\, trombone | Kevin Oliver Jr.\, Ginger Meyer\, alto saxophone | Birsa Chatterjee\, Ben Sherman\, tenor saxophone | Jarien Jaminila\, baritone saxophone | Ben Collins-Siegel\, Dabin Ryu\, piano | Jayla Chee\, bass
URL:https://notoriousjazz.com/event/domo-branch-big-band
LOCATION:Dizzy’s Club\, 10 Columbus Circle\, New York City\, NY\, 10019\, United States
CATEGORIES:Club
ATTACH;FMTTYPE=image/jpeg:https://notoriousjazz.com/wp-content/uploads/2024/03/DOMO-BRANCH.jpg
END:VEVENT
END:VCALENDAR