BEGIN:VCALENDAR
VERSION:2.0
PRODID:-//Notorious Jazz - ECPv6.15.17//NONSGML v1.0//EN
CALSCALE:GREGORIAN
METHOD:PUBLISH
X-ORIGINAL-URL:https://notoriousjazz.com
X-WR-CALDESC:Events for Notorious Jazz
REFRESH-INTERVAL;VALUE=DURATION:PT1H
X-Robots-Tag:noindex
X-PUBLISHED-TTL:PT1H
BEGIN:VTIMEZONE
TZID:Europe/Warsaw
BEGIN:DAYLIGHT
TZOFFSETFROM:+0100
TZOFFSETTO:+0200
TZNAME:CEST
DTSTART:20230326T010000
END:DAYLIGHT
BEGIN:STANDARD
TZOFFSETFROM:+0200
TZOFFSETTO:+0100
TZNAME:CET
DTSTART:20231029T010000
END:STANDARD
BEGIN:DAYLIGHT
TZOFFSETFROM:+0100
TZOFFSETTO:+0200
TZNAME:CEST
DTSTART:20240331T010000
END:DAYLIGHT
BEGIN:STANDARD
TZOFFSETFROM:+0200
TZOFFSETTO:+0100
TZNAME:CET
DTSTART:20241027T010000
END:STANDARD
BEGIN:DAYLIGHT
TZOFFSETFROM:+0100
TZOFFSETTO:+0200
TZNAME:CEST
DTSTART:20250330T010000
END:DAYLIGHT
BEGIN:STANDARD
TZOFFSETFROM:+0200
TZOFFSETTO:+0100
TZNAME:CET
DTSTART:20251026T010000
END:STANDARD
END:VTIMEZONE
BEGIN:VEVENT
DTSTART;TZID=Europe/Warsaw:20240405T203000
DTEND;TZID=Europe/Warsaw:20240405T220000
DTSTAMP:20260420T183038
CREATED:20240128T074800Z
LAST-MODIFIED:20240128T075412Z
UID:39044-1712349000-1712354400@notoriousjazz.com
SUMMARY:VINCENT HERRING & SOUL CHEMISTRY
DESCRIPTION:Vincent Herring and Joris Dudli recall their long and fruitful collaboration with their latest\, highly anticipated release SOUL CHEMISTRY. Together with rising star Erena Terakubo on saxophones\, New York masters Gary Fisher on piano and Essiet Essiet on bass\, this group has the perfect chemistry to create the intense\, always soulful jazz of today. \nLine-up:\nVincent Herring – alto saxophone\nErena Terakubo – alto & tenor saxophone\nGary Fisher – percussion\nEssiet Essiet – bass\nJoris Dudli – drums \nTickets In Dollars: $25.41
URL:https://notoriousjazz.com/event/vincent-herring-soul-chemistry
LOCATION:Jassmine\, Wilcza 73\, 00-670 Warsaw\, Poland
CATEGORIES:Club
ATTACH;FMTTYPE=image/jpeg:https://notoriousjazz.com/wp-content/uploads/2024/01/VINCENT-HERRING.jpg
END:VEVENT
END:VCALENDAR