BEGIN:VCALENDAR
VERSION:2.0
PRODID:-//Notorious Jazz - ECPv6.15.17//NONSGML v1.0//EN
CALSCALE:GREGORIAN
METHOD:PUBLISH
X-ORIGINAL-URL:https://notoriousjazz.com
X-WR-CALDESC:Events for Notorious Jazz
REFRESH-INTERVAL;VALUE=DURATION:PT1H
X-Robots-Tag:noindex
X-PUBLISHED-TTL:PT1H
BEGIN:VTIMEZONE
TZID:America/New_York
BEGIN:DAYLIGHT
TZOFFSETFROM:-0500
TZOFFSETTO:-0400
TZNAME:EDT
DTSTART:20230312T070000
END:DAYLIGHT
BEGIN:STANDARD
TZOFFSETFROM:-0400
TZOFFSETTO:-0500
TZNAME:EST
DTSTART:20231105T060000
END:STANDARD
BEGIN:DAYLIGHT
TZOFFSETFROM:-0500
TZOFFSETTO:-0400
TZNAME:EDT
DTSTART:20240310T070000
END:DAYLIGHT
BEGIN:STANDARD
TZOFFSETFROM:-0400
TZOFFSETTO:-0500
TZNAME:EST
DTSTART:20241103T060000
END:STANDARD
BEGIN:DAYLIGHT
TZOFFSETFROM:-0500
TZOFFSETTO:-0400
TZNAME:EDT
DTSTART:20250309T070000
END:DAYLIGHT
BEGIN:STANDARD
TZOFFSETFROM:-0400
TZOFFSETTO:-0500
TZNAME:EST
DTSTART:20251102T060000
END:STANDARD
END:VTIMEZONE
BEGIN:VEVENT
DTSTART;TZID=America/New_York:20240408T080000
DTEND;TZID=America/New_York:20240408T170000
DTSTAMP:20260420T150419
CREATED:20240408T044452Z
LAST-MODIFIED:20240408T044836Z
UID:40163-1712563200-1712595600@notoriousjazz.com
SUMMARY:PAQUITO D'RIVERA QUINTET
DESCRIPTION:Paquito D’Rivera is a living monument of Latin jazz. Born in Havana in 1948\, he was introduced to music at an early age by his father\, who is a classical saxophonist but also with a clear passion for listening to jazz. During his studies at the Havana Conservatory of Music he met Chucho Valdés with whom in 1967 he created the Orquesta Cubana de Música Moderna. But it was in 1973 that the two laid the foundations for their legend: they founded the group Irakere\, mixing jazz\, rock\, classical and Cuban music. A mix with Western music certainly not too pleasing to the Cuban regime: it was precisely the continuous interference of the communist government that pushed D’Rivera to ask for political asylum from the United States in 1980. \nEven in his new homeland he soon emerged as a beacon of Latin jazz . He collaborates with McCoy Tyner\, George Coleman\, Chick Corea\, Tito Puente\, Astor Piazzolla\, while in his formations he welcomes young musicians\, projecting them towards international fame (Michel Camilo\, Danilo Pérez\, Hilton Ruiz\, Claudio Roditi). In 1989 he joined one of the most amazing Afro-Latin orchestras that have ever graced the stage\, the United Nation Orchestra created by Dizzy Gillespie\, of which he himself became director after Gillespie’s death. \nHe is the only artist who can boast of having won the Grammy Award for both jazz\, Latin and classical music. And D’Rivera has won quite a few awards: the last two at the 2023 Latin Grammys for the best Latin jazz/jazz album ( I Missed You Too!\, with Chucho Valdés) and for the best contemporary classical composition (the Concerto Venezolano \, recorded by trumpeter Pacho Flores.. \nThe Band: \nPaquito D’Rivera: clarinet/saxophone | Jose Rivero: piano | Gaston Joya: double bass | Sebastian Laverde: vibraphone | Mauricio Zottarelli: drums \n  \n***Website requires translation \n 
URL:https://notoriousjazz.com/event/paquito-drivera-quintet
LOCATION:FL
CATEGORIES:Club
ATTACH;FMTTYPE=image/jpeg:https://notoriousjazz.com/wp-content/uploads/2024/04/PAQUITO-DRIVERA.jpg
END:VEVENT
BEGIN:VEVENT
DTSTART;TZID=America/New_York:20240408T080000
DTEND;TZID=America/New_York:20240408T170000
DTSTAMP:20260420T150419
CREATED:20240408T050233Z
LAST-MODIFIED:20240408T050233Z
UID:40169-1712563200-1712595600@notoriousjazz.com
SUMMARY:JAZZMEIA HORN
DESCRIPTION:With a maturity and vocal confidence that goes well beyond her years\, with a frank tone reminiscent of Nina Simone\, the young singer Jazzmeia Horn arrives on the international music scene revealing an undisputed talent. \nWinner of the prestigious Thelonius Monk International Vocal Jazz Competition 2015 \, Jazzmeia is ready to take her place alongside today’s best jazz vocalists. Naturalness and an eye towards a modern approach to vocality are some of the characteristics of her art. \nBorn in Dallas in 1991\, Jazzmeia Horn grew up in a musically talented family\, and it was her grandmother\, a jazz-loving pianist\, who gave her her distinctive name. She began singing as a child\, but it was after she moved to New York that the most prestigious awards and three Grammy-nominated albums arrived\, jewels of classic jazz\, gospel and neo-soul. \nThe Performers: \nJazzmeia Horn:   vocals | Victor Gould: piano | Jason Clotter: contra~bass | Michael Reed: drums \n  \n***Website requires translation \n 
URL:https://notoriousjazz.com/event/jazzmeia-horn-3
LOCATION:Blue Note ~ Milan\, Via Pietro Borsieri\, 37\, Milan\, 20159\, Italy
CATEGORIES:Club
ATTACH;FMTTYPE=image/jpeg:https://notoriousjazz.com/wp-content/uploads/2024/04/JAZZMEIA-HORN.jpg
END:VEVENT
END:VCALENDAR