BEGIN:VCALENDAR
VERSION:2.0
PRODID:-//Notorious Jazz - ECPv6.15.17//NONSGML v1.0//EN
CALSCALE:GREGORIAN
METHOD:PUBLISH
X-ORIGINAL-URL:https://notoriousjazz.com
X-WR-CALDESC:Events for Notorious Jazz
REFRESH-INTERVAL;VALUE=DURATION:PT1H
X-Robots-Tag:noindex
X-PUBLISHED-TTL:PT1H
BEGIN:VTIMEZONE
TZID:America/New_York
BEGIN:DAYLIGHT
TZOFFSETFROM:-0500
TZOFFSETTO:-0400
TZNAME:EDT
DTSTART:20230312T070000
END:DAYLIGHT
BEGIN:STANDARD
TZOFFSETFROM:-0400
TZOFFSETTO:-0500
TZNAME:EST
DTSTART:20231105T060000
END:STANDARD
BEGIN:DAYLIGHT
TZOFFSETFROM:-0500
TZOFFSETTO:-0400
TZNAME:EDT
DTSTART:20240310T070000
END:DAYLIGHT
BEGIN:STANDARD
TZOFFSETFROM:-0400
TZOFFSETTO:-0500
TZNAME:EST
DTSTART:20241103T060000
END:STANDARD
BEGIN:DAYLIGHT
TZOFFSETFROM:-0500
TZOFFSETTO:-0400
TZNAME:EDT
DTSTART:20250309T070000
END:DAYLIGHT
BEGIN:STANDARD
TZOFFSETFROM:-0400
TZOFFSETTO:-0500
TZNAME:EST
DTSTART:20251102T060000
END:STANDARD
END:VTIMEZONE
BEGIN:VEVENT
DTSTART;TZID=America/New_York:20240412T170000
DTEND;TZID=America/New_York:20240414T220000
DTSTAMP:20260420T150415
CREATED:20240411T062617Z
LAST-MODIFIED:20240411T124303Z
UID:40221-1712941200-1713132000@notoriousjazz.com
SUMMARY:WARREN WOLF & HISTORY OF THE VIBES
DESCRIPTION:Celebrate the music of Milt Jackson\, Lionel Hampton\, Bobby Hutcherson\, Cal Tjader & more this Friday-Sunday\, April 12-14th at Keystone Korner Baltimore! Warren Wolf & Company will take us on a musical journey through the history of the vibes.\n\nWarren Wolf [vibes]\nAlex Brown [piano]\nBlake Meister [bass]\nTim Green [saxophone] (Friday & Saturday)\nQuincy Phillips [drums] (Friday & Sunday)\nEric Kennedy [drums] (Saturday only) \nWarren Wolf is a multi-instrumentalist from Baltimore\, MD. From the young age of three years old\, Warren has been trained on the Vibraphone/Marimba\, Drums\, and Piano. Under the guidance of his father Warren Wolf Sr.\, Warren has a deep background in all genres of music. Vibraphonist Warren Wolf is one of the hardest swinging virtuosos in all of modern music. \nFriday at 7pm\nSaturday at 6pm & 8:30pm\nSunday at 5pm \nStreaming Passes: $15.00 | Fees Apply To All Tickets
URL:https://notoriousjazz.com/event/warren-wolf-history-of-the-vibes
LOCATION:Keystone Korner Baltimore\, 1350 Lancaster Street\, Baltimore\, MD\, 21231\, United States
CATEGORIES:Club
ATTACH;FMTTYPE=image/jpeg:https://notoriousjazz.com/wp-content/uploads/2023/06/WARREN-WOLF.jpg
END:VEVENT
BEGIN:VEVENT
DTSTART;TZID=America/New_York:20240414T170000
DTEND;TZID=America/New_York:20240414T210000
DTSTAMP:20260420T150415
CREATED:20240414T170432Z
LAST-MODIFIED:20240414T170432Z
UID:40271-1713114000-1713128400@notoriousjazz.com
SUMMARY:CHRISTIAN SANDS
DESCRIPTION:Christian Sands\, jazz pianist and composer was mentored by pianist Billy Taylor\, who allowed the teenager to close one of the sets that Taylor played at the Kennedy Center. Sands went on to study at the Manhattan School of Music. The school’s Afro-Cuban Jazz Orchestra\, led by Bobby Sanabria\, recorded the album Kenya Revisited Live in 2009; it was nominated for a Latin Grammy. After graduating\, Sands joined Inside Straight\, one of bassist Christian McBride’s bands. In 2014\, Sands cited as influences McBride\, Wynton Marsalis\, Kenny Garrett\, and Marcus Roberts\, because “They’re coming from the tradition of bringing people into the music\, but also moving it forward into new directions”. In the same year\, Sands became an American Pianists Association Jazz Fellowship Awards Finalist. \nHis third album for Mack Avenue Records\, Be Water\, was released in 2020 and received a Grammy Award nomination in the Best Instrumental Composition category for the song “Be Water II.” On his stunning new album\, Be Water\, pianist Christian Sands takes inspiration from water’s tranquility and power and muses on the possibilities offered by echoing its fluidity and malleability. Just embarking on his 30s\, Sands has already enjoyed a remarkable career trajectory\, touring and recording with Christian McBride’s Inside Straight and Trio\, as well as collaborating with the likes of Gregory Porter and Ulysses Owens. \n***Fees Apply To All Tickets
URL:https://notoriousjazz.com/event/christian-sands-3
LOCATION:Keystone Korner Baltimore\, 1350 Lancaster Street\, Baltimore\, MD\, 21231\, United States
CATEGORIES:Club
ATTACH;FMTTYPE=image/jpeg:https://notoriousjazz.com/wp-content/uploads/2024/04/CHRISTIAN-SANDS.jpg
END:VEVENT
END:VCALENDAR