BEGIN:VCALENDAR
VERSION:2.0
PRODID:-//Notorious Jazz - ECPv6.15.17//NONSGML v1.0//EN
CALSCALE:GREGORIAN
METHOD:PUBLISH
X-WR-CALNAME:Notorious Jazz
X-ORIGINAL-URL:https://notoriousjazz.com
X-WR-CALDESC:Events for Notorious Jazz
REFRESH-INTERVAL;VALUE=DURATION:PT1H
X-Robots-Tag:noindex
X-PUBLISHED-TTL:PT1H
BEGIN:VTIMEZONE
TZID:America/New_York
BEGIN:DAYLIGHT
TZOFFSETFROM:-0500
TZOFFSETTO:-0400
TZNAME:EDT
DTSTART:20230312T070000
END:DAYLIGHT
BEGIN:STANDARD
TZOFFSETFROM:-0400
TZOFFSETTO:-0500
TZNAME:EST
DTSTART:20231105T060000
END:STANDARD
BEGIN:DAYLIGHT
TZOFFSETFROM:-0500
TZOFFSETTO:-0400
TZNAME:EDT
DTSTART:20240310T070000
END:DAYLIGHT
BEGIN:STANDARD
TZOFFSETFROM:-0400
TZOFFSETTO:-0500
TZNAME:EST
DTSTART:20241103T060000
END:STANDARD
BEGIN:DAYLIGHT
TZOFFSETFROM:-0500
TZOFFSETTO:-0400
TZNAME:EDT
DTSTART:20250309T070000
END:DAYLIGHT
BEGIN:STANDARD
TZOFFSETFROM:-0400
TZOFFSETTO:-0500
TZNAME:EST
DTSTART:20251102T060000
END:STANDARD
END:VTIMEZONE
BEGIN:VEVENT
DTSTART;TZID=America/New_York:20240417T190000
DTEND;TZID=America/New_York:20240421T235900
DTSTAMP:20260420T164953
CREATED:20240414T151451Z
LAST-MODIFIED:20240414T151451Z
UID:40241-1713380400-1713743940@notoriousjazz.com
SUMMARY:ODE FOR JOE: CELEBRATING THE MUSIC OF JOE HENDERSON
DESCRIPTION:Nicholas Payton – trumpet | Walter Smith III – tenor saxophone (Wed – Fri\, 4/17 – 4/19) | Melissa Aldana – tenor saxophone (Sat – Sun\, 4/20 – 4/21) | Renee Rosnes – piano | Peter Washington – bass | Al Foster – drums\nAn all-star group performs the music of Joe Henderson\, one of the most distinctive and admired artists in jazz history. Henderson was a prolific composer who wrote numerous jazz standards and was a transcendent soloist who left a discography of classic albums. The Guardian called him “a giant of the jazz saxophone.” The New York Times added\, “Mr. Henderson was unmistakably modern\,” and quoted the great Benny Golson\, “Joe had one foot in the present\, the other in the future\, and he was just a step away from immortality.” Pianist Renee Rosnes and drummer Al Foster each spent significant parts of their careers working alongside Henderson. They celebrate Henderson’s April 24th birthday.\n***PLEASE NOTE: All 7PM and 9PM shows at Smoke are Dinner Shows | Fees apply to all tickets
URL:https://notoriousjazz.com/event/ode-for-joe-celebrating-the-music-of-joe-henderson
LOCATION:Smoke Jazz & Supper Club\, 2751 Broadway\, New York City\, NY\, 10025\, United States
CATEGORIES:Club
ATTACH;FMTTYPE=image/jpeg:https://notoriousjazz.com/wp-content/uploads/2024/04/JOE-HENDERSON-TRIBUTE.jpeg
END:VEVENT
BEGIN:VEVENT
DTSTART;TZID=America/New_York:20240418T193000
DTEND;TZID=America/New_York:20240421T230000
DTSTAMP:20260420T164953
CREATED:20240324T173336Z
LAST-MODIFIED:20240324T173336Z
UID:39932-1713468600-1713740400@notoriousjazz.com
SUMMARY:STANLEY CLARKE
DESCRIPTION:NEA Jazz Master and four-time Grammy Award Winner Stanley Clarke has attained “living legend” status during his over 50-year career as a bass virtuoso. He is the first bassist in history who doubles on acoustic and electric bass with equal ferocity and the first jazz-fusion bassist ever to headline tours\, selling out shows worldwide. A veteran of over 40 albums\, he won the 2011 Best Contemporary Jazz Album Grammy Award for The Stanley Clarke Band. Clarke co-founded the seminal fusion group Return to Forever with Chick Corea and Lenny White. In 2012 Return to Forever won a Grammy Award and Latin Grammy for Best Jazz Instrumental Album\, Forever. \nClarke’s creativity has been recognized and rewarded in every way imaginable: gold and platinum records\, Grammy Awards\, Emmy nominations\, virtually every readers and critics poll in existence\, and more. In 2022 Clarke was selected by the National Endowment for the Arts as one of its four new Jazz Master honorees. He also was Rolling Stone’s very first Jazzman of the Year and bassist winner of Playboy’s Music Award for ten straight years. Clarke was honored with Bass Player Magazine’s Lifetime Achievement Award and is a member of Guitar Player Magazine’s “Gallery of Greats.” In 2004 he was featured in Los Angeles Magazine as one of the Top 50 Most Influential People. He was honored with the key to the city of Philadelphia and put his hands in cement as a 1999 inductee into Hollywood’s “Rock Walk” on Sunset Boulevard. In 2011 he was honored with the highly prestigious Miles Davis Award at the Montreal Jazz Festival for his entire body of work. Clarke has won Downbeat Magazine’s Reader’s and Critics Poll for Best Electric Bass Player for many years. In September 2016 he became a part of the permanent collection displayed at the Smithsonian’s new National Museum of African American History and Culture (NMAAHC) in Washington DC. \nUnable to tour most of 2020\, Clarke’s Pandemic work has involved developing his web series\, Stanley Clarke’s Bass Nation. The series premiered November 2020. The project is about the dynamics of the music industry\, recording and performing\, and includes Stanley’s conversations with noted musicians\, gear reviews\, play-throughs and performances. \nBorn in Philadelphia\, Clarke has been a constant force of nature in American music since the early 1970s with the success of the jazz-fusion group Return To Forever. That accomplishment gave way to a number of extremely successful solo albums for Clarke. Along the way\, he has collaborated with Quincy Jones\, Stan Getz\, Art Blakey\, Paul McCartney\, Jeff Beck\, Keith Richards\, Aretha Franklin\, Stevie Wonder\, Chaka Khan\, The Police\, Herbie Hancock and many more\, and has shared the stage with Bob Marley and Miles Davis. \nClarke heads his own record label\, Roxboro Entertainment Group. Five artists were chosen for its first releases; Lloyd Gregory\, Sunnie Paxson\, Ruslan Sirota\, Kennard Ramsey and piano prodigy Beka Gochiashvili Tbilisi\, Republic of Georgia. It will soon be releasing singer Natasha Agrama’s CD\, The Heart of Infinite Change \nClarke believes in giving back to help young musicians hone their skills. He and his wife Sofia established The Stanley Clarke Foundation seventeen years ago as a charitable organization\, which offers scholarships to talented young musicians.
URL:https://notoriousjazz.com/event/stanley-clarke
LOCATION:Dimitriou’s Jazz Alley\, 2033 6th Avenue\, Seattle\, WA\, 98121\, United States
CATEGORIES:Club
ATTACH;FMTTYPE=image/jpeg:https://notoriousjazz.com/wp-content/uploads/2024/03/STANLEY-CLARKE.jpg
END:VEVENT
BEGIN:VEVENT
DTSTART;TZID=America/New_York:20240419T190000
DTEND;TZID=America/New_York:20240420T230000
DTSTAMP:20260420T164953
CREATED:20240218T162248Z
LAST-MODIFIED:20240218T162248Z
UID:39399-1713553200-1713654000@notoriousjazz.com
SUMMARY:STEVE TURRE
DESCRIPTION:Steve Turre Sextet with Andromeda Turre \nOne of the world’s preeminent jazz innovators\, trombonist and seashellist Steve Turre has consistently won both the Readers’ and Critics’ polls in JazzTimes\, Downbeat\, and Jazziz for Best Trombone and for Best Miscellaneous Instrumentalist (shells). Turre was born to Mexican-American parents and grew up in the San Francisco Bay area where he absorbed daily doses of mariachi\, blues and jazz. While attending Sacramento State University\, he joined the Escovedo Brothers salsa band\, which began his career-long involvement with that genre.
URL:https://notoriousjazz.com/event/steve-turre-3
LOCATION:South\, 600 N. Broad Street\, Philadelphia\, PA\, 19130\, United States
CATEGORIES:Club
ATTACH;FMTTYPE=image/png:https://notoriousjazz.com/wp-content/uploads/2024/02/STEVE-TURRE.png
END:VEVENT
BEGIN:VEVENT
DTSTART;TZID=America/New_York:20240420T130000
DTEND;TZID=America/New_York:20240420T164500
DTSTAMP:20260420T164953
CREATED:20240420T143336Z
LAST-MODIFIED:20240420T151657Z
UID:40406-1713618000-1713631500@notoriousjazz.com
SUMMARY:MALA WALDRON QUARTET
DESCRIPTION:Year of ALICE\, a Jazz Appreciation Month Special features the quartet performing the music of Alice Coltrane. \nMala Waldron is a native of NYC whose first paid gig was playing keys and singing back-up vocals with a local R&B band\, “Liquid Pleasure” at the Elk’s club at age 15.  Shortly after joining\, the band was signed to RCA Records(Midland International.)  She later enrolled at SUNY\, Old Westbury study African-American Music with Makanda Ken McIntyre\, Richard Harper\, Andrei Strobert\, Warren Smith and Amina Claudine Myers\, earning a Bachelors Degree. \nMala’s music career has taken her all over the world doing performances in such countries as Japan\, France\, Italy\, Belgium\, Russia\, Belarus & China.  She has performed on some of NYC’s most prestigious stages\, including the Iridium Jazz Club\, the Blue Note\, the Jazz Standard\, the 55 Bar\, Brooklyn’s BAM Cafe\, and at the Kennedy Center (Millennium Stage in Washington D.C. \nShe has done numerous international tours and festivals\, including\, Hennessy-Moet Asian XOXO Jazz Tour (with shows in China\, Taiwan & Malaysia)\, the Catania Jazz Fest\, Corinaldo Jazz Fest and Farfa Voice Fest (Sabina) as well as festivals in the U.S.\, a highlight of which was the Annual Diet Coke Women in Jazz Festival (JALC) opening for Patrice Rushen. \nAs an educator\, Mala has done vocal and composing workshops in Italy\, and participated in the WBGO Kids Jazz Concert Series lat the Newark Museum and Jitterbugs – Jazz for Kids (Jazz Forum Arts.) She was a featured performer on the Chapman Stage at the first annual Coltrane Day Festival.  She was featured in the recently published book\, Giving Birth to Sound: Women in Creative Music (Renate da Rin and & William Parker editors) and can be seen in the documentary film\, ‘The Girls in the Band\,” directed by Judy Chaikin.
URL:https://notoriousjazz.com/event/mala-waldron-quartet
LOCATION:Half Hollow Hills Community Library\, 55 Vanderbilt Parkway\, Dix Hills\, NY\, 11746\, United States
CATEGORIES:Concert,Event
ATTACH;FMTTYPE=image/jpeg:https://notoriousjazz.com/wp-content/uploads/2024/04/MALA-WALDRON.jpeg
END:VEVENT
BEGIN:VEVENT
DTSTART;TZID=America/New_York:20240420T180000
DTEND;TZID=America/New_York:20240420T193000
DTSTAMP:20260420T164953
CREATED:20240420T133317Z
LAST-MODIFIED:20240420T150814Z
UID:40393-1713636000-1713641400@notoriousjazz.com
SUMMARY:NICOLE HENRY
DESCRIPTION:Since her debut\, Nicole Henry has established herself among the jazz world’s most acclaimed performers\, possessing a potent combination of dynamic vocal abilities\, impeccable phrasing\, and powerful emotional resonance.
URL:https://notoriousjazz.com/event/nicole-henry-14
LOCATION:Maurice A. Ferre Park\, 1075 Biscayne Boulevard\, Miami\, FL\, 33132\, United States
CATEGORIES:Concert,Park
ATTACH;FMTTYPE=image/jpeg:https://notoriousjazz.com/wp-content/uploads/2024/04/NICOLE-HENRY-8.jpg
END:VEVENT
BEGIN:VEVENT
DTSTART;TZID=America/New_York:20240420T190000
DTEND;TZID=America/New_York:20240420T210000
DTSTAMP:20260420T164953
CREATED:20240414T164145Z
LAST-MODIFIED:20240414T164145Z
UID:40268-1713639600-1713646800@notoriousjazz.com
SUMMARY:BOB BALDWIN
DESCRIPTION:Grammy nominated pianist\, composer\, and arranger is celebrating 40 years in the music business and 15+ years with the Orchard/Sony Music Distribution \nBob Baldwin has proven to be one of the most ubiquitous and ingenious chameleons of Contemporary Jazz – both in his own projects and those he has endeavored upon for others – for which he’s been coined by industry peers as the “Ray Charles of Contemporary Jazz”. \nHis Radio program\, NewUrbanJazz\, established in 2008\, celebrated its’ 700th consecutive weekly radio program on February 28\, 2022. \nStreaming Pass: $15.00 | Fees Apply To All Tickets
URL:https://notoriousjazz.com/event/bob-baldwin
LOCATION:Keystone Korner Baltimore\, 1350 Lancaster Street\, Baltimore\, MD\, 21231\, United States
CATEGORIES:Club
ATTACH;FMTTYPE=image/jpeg:https://notoriousjazz.com/wp-content/uploads/2024/04/BOB-BALDWIN.jpg
END:VEVENT
BEGIN:VEVENT
DTSTART;TZID=America/New_York:20240420T190000
DTEND;TZID=America/New_York:20240420T223000
DTSTAMP:20260420T164953
CREATED:20240324T150233Z
LAST-MODIFIED:20240324T155830Z
UID:39915-1713639600-1713652200@notoriousjazz.com
SUMMARY:EUGENIE JONES
DESCRIPTION:Singer/Songwriter Eugenie Jones is an exceptional vocalist and cleverly gifted lyricist who has released highly-praised\, primarily original\, soulful American Jazz vocal projects.  She has been nominated for a Grammy for Best Jazz Vocal Album  and internationally ranked #7 on Jazz Week’s Top 50 charts and #30 on Jazz Week’s 2022 Top 100 Albums. Jones is additionally an Earshot Jazz Vocalist of the Year award recipient and the first vocal recording artist to receive Earshot’s Recording of the Year Golden Ear award.\n\nA warm\, engaging entertainer\, she’s described by critics as an artist who can make you feel jazz. She and her recordings have received favorable coverage in every major jazz publication\, including DownBeat\, JazzTimes\, JazzIz\, The Gazette/NY\, and many others. Described as a “deft vocalist\,” Jones has also proven to be a skillful songwriter\, releasing 30 originals on her recordings.
URL:https://notoriousjazz.com/event/eugenie-jones-8
LOCATION:Sistas’ Place\, 456 Nostrand Avenue\, Brooklyn\, NY\, 11216\, United States
CATEGORIES:Club
ATTACH;FMTTYPE=image/jpeg:https://notoriousjazz.com/wp-content/uploads/2024/03/EUGENIE-JONES-4.jpg
END:VEVENT
BEGIN:VEVENT
DTSTART;TZID=America/New_York:20240420T200000
DTEND;TZID=America/New_York:20240420T220000
DTSTAMP:20260420T164953
CREATED:20240316T231434Z
LAST-MODIFIED:20240317T010044Z
UID:39785-1713643200-1713650400@notoriousjazz.com
SUMMARY:KEYON HARROLD PRESENTS FOREVERLAND
DESCRIPTION:Known as the “mugician\,” trumpeter/vocalist Keyon Harrold is a triple threat: unimpeachable trumpet virtuoso\, soul stirring singer\, and deep appreciator of many musical genres. This recipe leads to a musical synthesis that only he can concoct and makes him a trailblazer in 21st-century music. \nHarrold’s career is a spectrum of greatness\, from touring and recording with Jay-z and Cirque Du Soleil to being signed by legendary Rapper Nas (Mass Appeal) and writing the theme song for The Queen Latifah Show. Keyon is a frequent collaborator with YEBBA\, Robert Glasper\, Maxwell\, Common\, PJ Morton\, and Gregory Porter. Harrold is a first-call artist with feature credits with Keith Richards\, Black Pumas\, Mac Miller (Stay)\, and Nas (The Jarreau of Rap) and Harrold’s latest collaboration with UK crooner Samm Henshaw ( Still Broke). He is also the new Artistic Advisor for Jazz St.Louis. Finally\, he is an activist for social justice and equality. \nOne show – No Intermission. Tickets can be reserved up to 2:00 p.m. on the day of the show; remaining tickets available at door at show time. for a rare opportunity to hear these two jazz titans share the stage. After a captivating Jazz Bakery performance in 2018\, we knew it would only be a matter of time until these two met again.
URL:https://notoriousjazz.com/event/39785
LOCATION:The Nimoy\, 1262 Westwood Boulevard\, Los Angeles\, CA\, 90024\, United States
CATEGORIES:Concert
ATTACH;FMTTYPE=image/jpeg:https://notoriousjazz.com/wp-content/uploads/2024/03/KEYON-HARROLD.jpg
END:VEVENT
END:VCALENDAR