BEGIN:VCALENDAR
VERSION:2.0
PRODID:-//Notorious Jazz - ECPv6.15.17//NONSGML v1.0//EN
CALSCALE:GREGORIAN
METHOD:PUBLISH
X-WR-CALNAME:Notorious Jazz
X-ORIGINAL-URL:https://notoriousjazz.com
X-WR-CALDESC:Events for Notorious Jazz
REFRESH-INTERVAL;VALUE=DURATION:PT1H
X-Robots-Tag:noindex
X-PUBLISHED-TTL:PT1H
BEGIN:VTIMEZONE
TZID:America/New_York
BEGIN:DAYLIGHT
TZOFFSETFROM:-0500
TZOFFSETTO:-0400
TZNAME:EDT
DTSTART:20230312T070000
END:DAYLIGHT
BEGIN:STANDARD
TZOFFSETFROM:-0400
TZOFFSETTO:-0500
TZNAME:EST
DTSTART:20231105T060000
END:STANDARD
BEGIN:DAYLIGHT
TZOFFSETFROM:-0500
TZOFFSETTO:-0400
TZNAME:EDT
DTSTART:20240310T070000
END:DAYLIGHT
BEGIN:STANDARD
TZOFFSETFROM:-0400
TZOFFSETTO:-0500
TZNAME:EST
DTSTART:20241103T060000
END:STANDARD
BEGIN:DAYLIGHT
TZOFFSETFROM:-0500
TZOFFSETTO:-0400
TZNAME:EDT
DTSTART:20250309T070000
END:DAYLIGHT
BEGIN:STANDARD
TZOFFSETFROM:-0400
TZOFFSETTO:-0500
TZNAME:EST
DTSTART:20251102T060000
END:STANDARD
END:VTIMEZONE
BEGIN:VEVENT
DTSTART;TZID=America/New_York:20240514T193000
DTEND;TZID=America/New_York:20240518T231500
DTSTAMP:20260420T150209
CREATED:20240514T163041Z
LAST-MODIFIED:20240514T163041Z
UID:40825-1715715000-1716074100@notoriousjazz.com
SUMMARY:ROBERT GAMBARINI
DESCRIPTION:The Band: Roberta Gambarini\, vocal | Bill Easley\, saxophone | Cyrus Chestnut\, piano | Ameen Saleem\, bass | Lewis Nash\, drums \nRoberta Gambarini began singing and performing at the age of 17 in jazz clubs around Northern Italy. In 1997 she worked with French Hammond organ player Emmanuel Bex touring jazz clubs throughout Italy. Shortly after she moved to New York City\, and has since been performing with musicians like Jimmy Heath\, Richard Wyands\, Curtis Fuller\, Hank Jones\, Thelonious Monk\, Jr.\, Roy Hargrove\, Benny Bailey\, Ben Riley\, Phil Woods\, Ron Carter\, Larry Willis\, Howard Johnson\, Russell Malone\, Christian McBride\, Jeff Hamilton\, Jesse Davis\, Ronnie Mathews\, Alvin Queen and many more. \nBorn in 1963\, Cyrus Chestnut started his musical career at the age of six. He worked as a sideman with some of the leading players in the music including Wynton Marsalis\, Freddie Hubbard\, Branford Marsalis\, Frank Morgan\, Lauryn Hill\, Chick Corea\, Dizzy Gillespie\, Jon Hendricks\, Joe Williams\, Betty Carter\, Freddy Cole\, Bette Midler\, Jimmy Scott\, Isaac Hayes and Kevin Mahogany. As a leader\, Cyrus has released 24 albums. \nBill Easley has had a diversified career as a professional musician and started playing professionally with his parents at the age of thirteen. He has played with George Benson\, Isaac Hayes\, Ruth Brown\, Jimmy McGriff\, Louie Bellson\, Wynton Marsalis\, Illinois Jacquet\, Ron Carter\, Frank Foster\, Mercer Ellington\, Warren Vache and many more. Bill has released seven recording as a leader. \nAmeen Saleem is an allround artist. A native of Washington DC\, since the start of his career his great compositional and technical skills have been instantly recognized. Although mainly grounded in jazz\, Saleem’s music cannot be strictly defined as pertaining to a particular genre but\, rather\, as a uniquely personal style that spans a vast musical geography. \nUniversally recognized as one of the great drummers in jazz history\, Lewis Nash’ illustrious career now spans over four decades. Nash is one of jazz’s most recorded musicians\, appearing on over 500 recordings including 10 Grammy winners and numerous Grammy nominees. Nash toured\, recorded and performed with many of jazz’s most celebrated icons\, and his resume reads like a “who’s who” of jazz royalty. \nSeating is limited. It is highly recommended buying your ticket in advance.
URL:https://notoriousjazz.com/event/robert-gambarini
LOCATION:Marians Jazzroom\, Engestrasse 54\,  3012 Bern\, Switzerland
CATEGORIES:Club
ATTACH;FMTTYPE=image/jpeg:https://notoriousjazz.com/wp-content/uploads/2024/05/ROBERTA-GAMBARINI.jpg
END:VEVENT
BEGIN:VEVENT
DTSTART;TZID=America/New_York:20240515T190000
DTEND;TZID=America/New_York:20240516T230000
DTSTAMP:20260420T150209
CREATED:20240414T175522Z
LAST-MODIFIED:20240414T175522Z
UID:40284-1715799600-1715900400@notoriousjazz.com
SUMMARY:STANLEY CLARKE
DESCRIPTION:Stanley Clarke is a four-time Grammy Award-winning recording artist\, performer\, composer\, conductor\, arranger\, producer\, a composer for recordings and film\, as well as one of the most celebrated acoustic and electric bass players in the world. Known for his musicality\, dexterity\, and ferocity on the acoustic and electric bass\, Clarke was the first jazz fusion bassist to headline tours\, selling out performances around the world. \nOriginally a double bass player who aspired to play in the Philadelphia Orchestra\, Clarke was seduced by jazz\, and moved to New York City to work with Horace Silver\, Art Blakey\, Stan Getz and\, most importantly\, Chick Corea. Clarke and Corea formed the legendary cutting-edge jazz-rock fusion band Return to Forever\, and during that time Clarke developed an entirely new way of playing the bass\, liberating it from the rhythm section to become a lead instrument. His creativity has been recognized and rewarded in every way imaginable. In 2022\, Clarke was named a Jazz Master by the National Endowment for the Arts\, and in 2011 he received the highly prestigious Miles Davis Award at the Montreal International Jazz Festival in recognition of his body of work.
URL:https://notoriousjazz.com/event/stanley-clarke-2
LOCATION:Keystone Korner Baltimore\, 1350 Lancaster Street\, Baltimore\, MD\, 21231\, United States
CATEGORIES:Club
ATTACH;FMTTYPE=image/jpeg:https://notoriousjazz.com/wp-content/uploads/2024/03/STANLEY-CLARKE.jpg
END:VEVENT
BEGIN:VEVENT
DTSTART;TZID=America/New_York:20240515T190000
DTEND;TZID=America/New_York:20240519T235900
DTSTAMP:20260420T150209
CREATED:20240414T155540Z
LAST-MODIFIED:20240513T012059Z
UID:40254-1715799600-1716163140@notoriousjazz.com
SUMMARY:JANE MONHEIT
DESCRIPTION:Record Release\n\nJane Monheit – vocals | Max Haymer – piano | Karl McComas-Reichl – bass | Curtis Nowosad – drums \n“A voice of phenomenal beauty.” – The New York Times \nJane Monheit makes a highly anticipated Smoke debut to celebrate the release of her new album. A celebrated vocalist with a deep passion for the Great American Songbook\, Monheit has been at the forefront of jazz singing since she emerged over 20 years ago to instant acclaim. During the ensuing years\, she has collaborated with some of the greatest musicians\, arrangers\, and producers in jazz\, including Tommy Flanagan\, Ron Carter\, Kenny Barron\, Terence Blanchard\, John Pizzarelli\, Christian McBride\, and many more. \nAll About Jazz writes\, “Monheit has great chops\, a terrific voice.” Downbeat adds\, “Monheit continues to dazzle.” \n***PLEASE NOTE: All 7PM and 9PM shows at Smoke are Dinner Shows | Fees Apply To All Tickets
URL:https://notoriousjazz.com/event/jane-monheit-2
LOCATION:Smoke Jazz & Supper Club\, 2751 Broadway\, New York City\, NY\, 10025\, United States
CATEGORIES:Club
ATTACH;FMTTYPE=image/jpeg:https://notoriousjazz.com/wp-content/uploads/2024/04/JANE-MONHEIT.jpeg
END:VEVENT
BEGIN:VEVENT
DTSTART;TZID=America/New_York:20240516T183000
DTEND;TZID=America/New_York:20240516T213000
DTSTAMP:20260420T150209
CREATED:20240512T045226Z
LAST-MODIFIED:20240512T045347Z
UID:40751-1715884200-1715895000@notoriousjazz.com
SUMMARY:LOUIS HERIVEAUX
DESCRIPTION:Heriveaux plays Mood Indigo\, classic sounds inspired by the 1920s. \nAfter graduating from Griffin High School in 1992\, Louis settled in Atlanta\, Georgia.  Louis began playing Jazz on Atlanta’s Jazz scene\, at age 17. Heads began to turn and fellow musicians and club owners began to take notice of his early signs of professionalism and confidence at the piano.  \nAt age 19\, a prominent Jazz guitarist began frequenting jam sessions in Atlanta\, where Louis often sat in. After several visits to the jam session\, it was Russell Malone that hand-picked Louis to join his world-class quartet. Louis graciously accepted the invitation and became an international Jazz musician\, performing with Russell Malone for two years\, on some of the most famous stages Jazz music has ever known.   \nLouis’ time spent with Russell Malone was a pivotal move in his budding career as a Jazz musician. That gig opened doors for other opportunities for this young\, gifted musician. Jazz vocalists began to seek Louis out for his ability to accompany them with an innate ability to assess their needs during a performance and at rehearsals. Vocalist Jeanie Bryson invited Louis to do a Southeast tour with her and he once again hit the road! His finesse on the piano also caught the attention of Nnenna Freelon\, who sought him out as an accompanist for one of her engagements as well. 
URL:https://notoriousjazz.com/event/louis-heriveaux
LOCATION:The Betty Supper Club\, 374 East Paces Ferry Road NE \, Atlanta\, GA\, 30305\, United States
CATEGORIES:Club
ATTACH;FMTTYPE=image/jpeg:https://notoriousjazz.com/wp-content/uploads/2024/05/LOUIS-HERIVEAUX.jpg
END:VEVENT
BEGIN:VEVENT
DTSTART;TZID=America/New_York:20240516T193000
DTEND;TZID=America/New_York:20240516T210000
DTSTAMP:20260420T150209
CREATED:20230820T232231Z
LAST-MODIFIED:20230821T011317Z
UID:36736-1715887800-1715893200@notoriousjazz.com
SUMMARY:DUETS: DIANNE REEVES\, CHUCHO VALDÉS\, JOE LOVANO
DESCRIPTION:Jazz royalty – times three. \nIn a rare engagement together and their only joint appearance in NYC\, the powerhouse triumvirate of Dianne Reeves\, Joe Lovano\, and Chucho Valdés joins us for an evening of duets. Don’t miss the preeminent vocalist and NEA Jazz Master\, saxophone titan\, and leading figure in Afro-Cuban jazz\, as they perform in pairings that showcase their artistry in stunning new ways. \n\nLocation: Kaufmann Concert Hall
URL:https://notoriousjazz.com/event/duets-dianne-reeves-chucho-valdes-joe-lovano
LOCATION:92NY150\, 1395 Lexington Avenue\, New York\, NY\, 10128\, United States
CATEGORIES:Club
ATTACH;FMTTYPE=image/jpeg:https://notoriousjazz.com/wp-content/uploads/2023/08/DIANNE-REEVES-CHUCHO-VALDES-JOE-LOVANO.jpg
END:VEVENT
END:VCALENDAR