BEGIN:VCALENDAR
VERSION:2.0
PRODID:-//Notorious Jazz - ECPv6.15.17//NONSGML v1.0//EN
CALSCALE:GREGORIAN
METHOD:PUBLISH
X-ORIGINAL-URL:https://notoriousjazz.com
X-WR-CALDESC:Events for Notorious Jazz
REFRESH-INTERVAL;VALUE=DURATION:PT1H
X-Robots-Tag:noindex
X-PUBLISHED-TTL:PT1H
BEGIN:VTIMEZONE
TZID:Europe/Zurich
BEGIN:DAYLIGHT
TZOFFSETFROM:+0100
TZOFFSETTO:+0200
TZNAME:CEST
DTSTART:20230326T010000
END:DAYLIGHT
BEGIN:STANDARD
TZOFFSETFROM:+0200
TZOFFSETTO:+0100
TZNAME:CET
DTSTART:20231029T010000
END:STANDARD
BEGIN:DAYLIGHT
TZOFFSETFROM:+0100
TZOFFSETTO:+0200
TZNAME:CEST
DTSTART:20240331T010000
END:DAYLIGHT
BEGIN:STANDARD
TZOFFSETFROM:+0200
TZOFFSETTO:+0100
TZNAME:CET
DTSTART:20241027T010000
END:STANDARD
BEGIN:DAYLIGHT
TZOFFSETFROM:+0100
TZOFFSETTO:+0200
TZNAME:CEST
DTSTART:20250330T010000
END:DAYLIGHT
BEGIN:STANDARD
TZOFFSETFROM:+0200
TZOFFSETTO:+0100
TZNAME:CET
DTSTART:20251026T010000
END:STANDARD
END:VTIMEZONE
BEGIN:VTIMEZONE
TZID:America/New_York
BEGIN:DAYLIGHT
TZOFFSETFROM:-0500
TZOFFSETTO:-0400
TZNAME:EDT
DTSTART:20230312T070000
END:DAYLIGHT
BEGIN:STANDARD
TZOFFSETFROM:-0400
TZOFFSETTO:-0500
TZNAME:EST
DTSTART:20231105T060000
END:STANDARD
BEGIN:DAYLIGHT
TZOFFSETFROM:-0500
TZOFFSETTO:-0400
TZNAME:EDT
DTSTART:20240310T070000
END:DAYLIGHT
BEGIN:STANDARD
TZOFFSETFROM:-0400
TZOFFSETTO:-0500
TZNAME:EST
DTSTART:20241103T060000
END:STANDARD
BEGIN:DAYLIGHT
TZOFFSETFROM:-0500
TZOFFSETTO:-0400
TZNAME:EDT
DTSTART:20250309T070000
END:DAYLIGHT
BEGIN:STANDARD
TZOFFSETFROM:-0400
TZOFFSETTO:-0500
TZNAME:EST
DTSTART:20251102T060000
END:STANDARD
END:VTIMEZONE
BEGIN:VEVENT
DTSTART;TZID=Europe/Zurich:20240521T193000
DTEND;TZID=Europe/Zurich:20240525T231500
DTSTAMP:20260420T165810
CREATED:20240514T163845Z
LAST-MODIFIED:20240514T163845Z
UID:40828-1716319800-1716678900@notoriousjazz.com
SUMMARY:MONTY ALEXANDER
DESCRIPTION:Grammy nominated pianist Monty Alexander was born on June 6\, 1944 (D-Day!) in Kingston\, Jamaica and is one of today’s most sought-after pianists\, touring the world relentlessly with various projects\, delighting a global audience drawn to his vibrant personality and soulful message. He began playing the piano at the age of four. Monty is such a virtuoso on his instrument that he can express each of his improvisational ideas at any time. Swinging style\, combined with his vitality and subtlety\, is defined by his creativity\, rhythmic strength and clearly accentuated sounds. Even Frank Sinatra commented “this guy is like dynamite”. In a career spanning seven decades\, he has built a reputation exploring the worlds of American jazz\, popular song\, and the music of his native Jamaica\, finding in each a sincere spirit of musical expression. \nHis musical collaborations span multiple genres and styles. His projects have been as varied as assisting Natalie Cole in her tribute album to her father\, Nat “King” Cole in 1991 (that album\, “Unforgettable”\, won seven Grammy awards)\, performing George Gershwin’s “Rhapsody in Blue” under the direction of Bobby McFerrin at the Verbier Festival in Switzerland\, and recording the piano track for the film score of Clint Eastwood’s “Bird”\, a movie about the life of jazz titan Charlie Parker. Monty has performed and recorded with artists from every corner of the musical universe: Frank Sinatra\, Ray Brown\, Dizzy Gillespie\, Sonny Rollins\, Clark Terry\, Victor Gaskin\, Milt Jackson\, Ernie Wilkins\, Herb Ellis\, Jeff Hamilton\, Quincy Jones\, Ernest Ranglin\, Barbara Hendricks\, Sly Dunbar\, and Robbie Shakespeare\, among many others. In 2000 and 2018 Monty Alexander was awarded the title of Commander in the Order of Distinction by the Jamaican government for outstanding services to Jamaica in his capacity as worldwide music ambassador. Alexander maintains a rigorous touring schedule worldwide\, from jazz clubs to concert halls and playing at Jazz Festivals from Switzerland to South Africa\, Japan and Australia. \nTo date Monty Alexander has recorded over 75 albums as a leader. Shortly before his 80th birthday this upcoming June\, Monty and his trio bring the 49th International Jazzfestival Bern to a close – on a high note!
URL:https://notoriousjazz.com/event/monty-alexander-5
LOCATION:Marians Jazzroom\, Engestrasse 54\,  3012 Bern\, Switzerland
CATEGORIES:Club,Concert
ATTACH;FMTTYPE=image/jpeg:https://notoriousjazz.com/wp-content/uploads/2024/05/MONTY-ALEXANDER.jpg
END:VEVENT
BEGIN:VEVENT
DTSTART;TZID=America/New_York:20240523T183000
DTEND;TZID=America/New_York:20240523T213000
DTSTAMP:20260420T165810
CREATED:20240512T050606Z
LAST-MODIFIED:20240512T050606Z
UID:40755-1716489000-1716499800@notoriousjazz.com
SUMMARY:LOUIS HERIVEAUX
DESCRIPTION:Heriveaux plays Mood Indigo\, classic sounds inspired by the 1920s. \nAfter graduating from Griffin High School in 1992\, Louis settled in Atlanta\, Georgia.  Louis began playing Jazz on Atlanta’s Jazz scene\, at age 17. Heads began to turn and fellow musicians and club owners began to take notice of his early signs of professionalism and confidence at the piano.  \nAt age 19\, a prominent Jazz guitarist began frequenting jam sessions in Atlanta\, where Louis often sat in. After several visits to the jam session\, it was Russell Malone that hand-picked Louis to join his world-class quartet. Louis graciously accepted the invitation and became an international Jazz musician\, performing with Russell Malone for two years\, on some of the most famous stages Jazz music has ever known.   \nLouis’ time spent with Russell Malone was a pivotal move in his budding career as a Jazz musician. That gig opened doors for other opportunities for this young\, gifted musician. Jazz vocalists began to seek Louis out for his ability to accompany them with an innate ability to assess their needs during a performance and at rehearsals. Vocalist Jeanie Bryson invited Louis to do a Southeast tour with her and he once again hit the road! His finesse on the piano also caught the attention of Nnenna Freelon\, who sought him out as an accompanist for one of her engagements as well. 
URL:https://notoriousjazz.com/event/louis-heriveaux-2
LOCATION:The Betty Supper Club\, 374 East Paces Ferry Road NE \, Atlanta\, GA\, 30305\, United States
CATEGORIES:Club,Restaurant
ATTACH;FMTTYPE=image/jpeg:https://notoriousjazz.com/wp-content/uploads/2024/05/LOUIS-HERIVEAUX.jpg
END:VEVENT
BEGIN:VEVENT
DTSTART;TZID=America/New_York:20240523T190000
DTEND;TZID=America/New_York:20240523T210000
DTSTAMP:20260420T165810
CREATED:20240511T183908Z
LAST-MODIFIED:20240511T183908Z
UID:40729-1716490800-1716498000@notoriousjazz.com
SUMMARY:GREGORY PORTER & THE BAYLOR PROJECT
DESCRIPTION:Acclaimed singer-songwriter Gregory Porter was raised in Bakersfield\, California\, and he cites the Bakersfield Southern Gospel sound as well as his mother’s Nat King Cole record collection as fundamental influences on his own sound. In 2013 he released his breakout Blue Note debut Liquid Spirit\, which sold more than a million albums and earned Porter his first Grammy Award\, with NPR declaring him “America’s next great jazz singer.” \nHis 2016 follow-up Take Me to the Alley won Porter his second Grammy for Best Vocal Jazz Album and firmly established him as his generation’s most soulful jazz singer-songwriter. His 2021 release Still Rising collects new songs\, covers\, duets\, and a selection of his much-loved favorite songs. \nFeaturing Jean Baylor and Marcus Baylor\, The Baylor Project is a duo built on love\, family\, faith\, culture\, and community. Their debut\, The Journey\, garnered two Grammy nominations. Their second album\, Generations (2021)\, earned the duo its first NAACP Image Award win for Outstanding Jazz Album-Vocal and its fourth Grammy nomination. \nMarcus and Jean’s combined musicianship is unmatched. Their dynamic performances are soulful to the bone. The Baylors will raise you up and inspire you to clap along with them to a swinging mid-tempo tune. Yet\, at a moments’ notice\, you may be moved to tears when they change the atmosphere with a spiritual song that will stir the emotions.
URL:https://notoriousjazz.com/event/gregory-porter-the-baylor-project
LOCATION:Joseph M. Bryan\, Jr. Amphitheater\, 2110 Blue Ridge Road\,  Raleigh\, NC\, 27607\, United States
CATEGORIES:Concert
ATTACH;FMTTYPE=image/png:https://notoriousjazz.com/wp-content/uploads/2024/05/GREGORY-PORTER-BAYLOR-PROJECT.png
END:VEVENT
BEGIN:VEVENT
DTSTART;TZID=America/New_York:20240523T190000
DTEND;TZID=America/New_York:20240526T235900
DTSTAMP:20260420T165810
CREATED:20240414T160243Z
LAST-MODIFIED:20240414T160243Z
UID:40257-1716490800-1716767940@notoriousjazz.com
SUMMARY:RUSSELL MALONE QUARTET
DESCRIPTION:Russell Malone – guitar | Rick Germanson – piano | Vincent DuPont – drums | Neal Smith – drums \n“Russell Malone has the storytelling skills of a great singer\, perhaps a legacy of his many years with Harry Connick\, Jr. and Diana Krall. – The Times (UK) \nGuitar master Russell Malone leads his popular quartet with pianist Rick Germanson\, bassist Vincent Dupont\, and drummer Neal Smith. Malone is a musician deeply rooted in the blues and bebop\, and his soulfully swinging approach is just one of many reasons why he is so popular. Chicago Tribune states\, “Though he spikes his solos with occasional running lines\, it’s gently rolled chords and lush sequences of harmonies that ultimately define his work\,” and Jazz Times describes him as “an uncommonly sensitive interpreter of ballads.” \n***PLEASE NOTE: All 7PM and 9PM shows at Smoke are Dinner Shows | Fees Apply To All Tickets
URL:https://notoriousjazz.com/event/russell-malone-quartet
LOCATION:Smoke Jazz & Supper Club\, 2751 Broadway\, New York City\, NY\, 10025\, United States
CATEGORIES:Club
ATTACH;FMTTYPE=image/jpeg:https://notoriousjazz.com/wp-content/uploads/2024/04/RUSSELL-MALONE.jpeg
END:VEVENT
END:VCALENDAR