BEGIN:VCALENDAR
VERSION:2.0
PRODID:-//Notorious Jazz - ECPv6.15.17//NONSGML v1.0//EN
CALSCALE:GREGORIAN
METHOD:PUBLISH
X-WR-CALNAME:Notorious Jazz
X-ORIGINAL-URL:https://notoriousjazz.com
X-WR-CALDESC:Events for Notorious Jazz
REFRESH-INTERVAL;VALUE=DURATION:PT1H
X-Robots-Tag:noindex
X-PUBLISHED-TTL:PT1H
BEGIN:VTIMEZONE
TZID:America/New_York
BEGIN:DAYLIGHT
TZOFFSETFROM:-0500
TZOFFSETTO:-0400
TZNAME:EDT
DTSTART:20230312T070000
END:DAYLIGHT
BEGIN:STANDARD
TZOFFSETFROM:-0400
TZOFFSETTO:-0500
TZNAME:EST
DTSTART:20231105T060000
END:STANDARD
BEGIN:DAYLIGHT
TZOFFSETFROM:-0500
TZOFFSETTO:-0400
TZNAME:EDT
DTSTART:20240310T070000
END:DAYLIGHT
BEGIN:STANDARD
TZOFFSETFROM:-0400
TZOFFSETTO:-0500
TZNAME:EST
DTSTART:20241103T060000
END:STANDARD
BEGIN:DAYLIGHT
TZOFFSETFROM:-0500
TZOFFSETTO:-0400
TZNAME:EDT
DTSTART:20250309T070000
END:DAYLIGHT
BEGIN:STANDARD
TZOFFSETFROM:-0400
TZOFFSETTO:-0500
TZNAME:EST
DTSTART:20251102T060000
END:STANDARD
END:VTIMEZONE
BEGIN:VEVENT
DTSTART;TZID=America/New_York:20240523T190000
DTEND;TZID=America/New_York:20240526T235900
DTSTAMP:20260420T111259
CREATED:20240414T160243Z
LAST-MODIFIED:20240414T160243Z
UID:40257-1716490800-1716767940@notoriousjazz.com
SUMMARY:RUSSELL MALONE QUARTET
DESCRIPTION:Russell Malone – guitar | Rick Germanson – piano | Vincent DuPont – drums | Neal Smith – drums \n“Russell Malone has the storytelling skills of a great singer\, perhaps a legacy of his many years with Harry Connick\, Jr. and Diana Krall. – The Times (UK) \nGuitar master Russell Malone leads his popular quartet with pianist Rick Germanson\, bassist Vincent Dupont\, and drummer Neal Smith. Malone is a musician deeply rooted in the blues and bebop\, and his soulfully swinging approach is just one of many reasons why he is so popular. Chicago Tribune states\, “Though he spikes his solos with occasional running lines\, it’s gently rolled chords and lush sequences of harmonies that ultimately define his work\,” and Jazz Times describes him as “an uncommonly sensitive interpreter of ballads.” \n***PLEASE NOTE: All 7PM and 9PM shows at Smoke are Dinner Shows | Fees Apply To All Tickets
URL:https://notoriousjazz.com/event/russell-malone-quartet
LOCATION:Smoke Jazz & Supper Club\, 2751 Broadway\, New York City\, NY\, 10025\, United States
CATEGORIES:Club
ATTACH;FMTTYPE=image/jpeg:https://notoriousjazz.com/wp-content/uploads/2024/04/RUSSELL-MALONE.jpeg
END:VEVENT
BEGIN:VEVENT
DTSTART;TZID=America/New_York:20240524T170000
DTEND;TZID=America/New_York:20240526T230000
DTSTAMP:20260420T111259
CREATED:20240414T191650Z
LAST-MODIFIED:20240414T191650Z
UID:40289-1716570000-1716764400@notoriousjazz.com
SUMMARY:CARMEN LUNDY
DESCRIPTION:“Musicians as diversely gifted as Carmen Lundy\, who has excelled as a vocalist\, composer\, lyricist\, arranger\, and pianist for more than three decades\, remain far and few between.” – Jazz Times \nCarmen Lundy: vocals | Julius Rodriguez: piano & keys | Ben Williams: acoustic & electric bass | Terreon Gully [drums | Andrew Renfroe: guitar \nTwo-time Grammy® Nominated for Best Jazz Vocal Album singer and composer\, Carmen Lundy\, has been making her mark in New York City’s jazz scene since 1978. Her debut album\, “Good Morning Kiss” dominated the Billboard chart for 23 weeks.. Beyond her solo success\, Carmen contributed to Grammy®-winning projects\, received a Lifetime Achievement Award in Jazz\, and is a prolific composer with over 150 published songs. Recognized by the Jazz Times and The New York Times\, Carmen Lundy’s legacy is one that transcends genres\, spanning music\, acting\, and mixed media art. \nCarmen Lundy began her professional career as a jazz vocalist and composer when there were very few young\, gifted and aspiring jazz vocalists on the horizon. Three decades later\, Ms. Lundy is celebrated throughout the world for her vocal artistry and is highly regarded for her jazz innovation. \n***Fees Apply To All Tickets
URL:https://notoriousjazz.com/event/carmen-lundy-6
LOCATION:Keystone Korner Baltimore\, 1350 Lancaster Street\, Baltimore\, MD\, 21231\, United States
CATEGORIES:Club
ATTACH;FMTTYPE=image/jpeg:https://notoriousjazz.com/wp-content/uploads/2023/07/CARMEN-LUNDY.jpg
END:VEVENT
BEGIN:VEVENT
DTSTART;TZID=America/New_York:20240526T110000
DTEND;TZID=America/New_York:20240526T230000
DTSTAMP:20260420T111259
CREATED:20240324T194646Z
LAST-MODIFIED:20240324T195840Z
UID:39953-1716721200-1716764400@notoriousjazz.com
SUMMARY:ATLANTA JAZZ FESTIVAL
DESCRIPTION:Atlanta Jazz Festival is regarded as one of the largest FREE jazz festivals in the country. An annual celebration of the music\, culture and art of jazz begins in April and culminates each Memorial Day weekend\, with an outdoor festival featuring jazz artists from all over the world. \nEstablished in 1978\, the Atlanta Jazz Festival has become a tradition that draws music lovers from all around the region to experience the latest and greatest in jazz music culture. Mayor Maynard Jackson founded the original jazz festival with the idea to spotlight jazz in the city\, because\, as he said\, “Jazz music is America’s only original art form\, and…Atlanta\, with its growing reputation as an international center of the arts and education\, has both the opportunity and the responsibility to promote an art form whose roots are indigenous to the South.” \nSince then\, Atlanta Jazz Festival has hosted luminaries of the jazz music tradition including\, Lionel Hampton (1980)\, Dizzy Gillespie (1988/1990)\, Wynton Marsalis (1989)\, Nina Simone (2000)\, Ray Charles (2002)\, Miles Davis (1983)\, Herbie Hancock (2000) and many\, many more. \nThe city’s commitment to present a free jazz festival\, as it was originally named “The Atlanta Free Jazz Festival\,” is representative of a commitment to ensure that everyone who resides in and visits Atlanta will have easy access to high quality cultural experiences. \nLineup: \n1 PM – OKAN \n3 PM – LUCA CIARLA TRIO \n5 PM – JACQUES SCHWARZ-BART \n7 PM – OLATUJA \n9 PM – PAQUITO D’RIVERA
URL:https://notoriousjazz.com/event/atlanta-jazz-festival-3
LOCATION:Piedmont Park\, 10th & Charles Allen Drive\, Atlanta\, GA\, 30309\, United States
CATEGORIES:Festival
ATTACH;FMTTYPE=image/jpeg:https://notoriousjazz.com/wp-content/uploads/2024/03/PAQUITO-DRIVERA.jpg
END:VEVENT
END:VCALENDAR