BEGIN:VCALENDAR
VERSION:2.0
PRODID:-//Notorious Jazz - ECPv6.15.17//NONSGML v1.0//EN
CALSCALE:GREGORIAN
METHOD:PUBLISH
X-WR-CALNAME:Notorious Jazz
X-ORIGINAL-URL:https://notoriousjazz.com
X-WR-CALDESC:Events for Notorious Jazz
REFRESH-INTERVAL;VALUE=DURATION:PT1H
X-Robots-Tag:noindex
X-PUBLISHED-TTL:PT1H
BEGIN:VTIMEZONE
TZID:America/New_York
BEGIN:DAYLIGHT
TZOFFSETFROM:-0500
TZOFFSETTO:-0400
TZNAME:EDT
DTSTART:20230312T070000
END:DAYLIGHT
BEGIN:STANDARD
TZOFFSETFROM:-0400
TZOFFSETTO:-0500
TZNAME:EST
DTSTART:20231105T060000
END:STANDARD
BEGIN:DAYLIGHT
TZOFFSETFROM:-0500
TZOFFSETTO:-0400
TZNAME:EDT
DTSTART:20240310T070000
END:DAYLIGHT
BEGIN:STANDARD
TZOFFSETFROM:-0400
TZOFFSETTO:-0500
TZNAME:EST
DTSTART:20241103T060000
END:STANDARD
BEGIN:DAYLIGHT
TZOFFSETFROM:-0500
TZOFFSETTO:-0400
TZNAME:EDT
DTSTART:20250309T070000
END:DAYLIGHT
BEGIN:STANDARD
TZOFFSETFROM:-0400
TZOFFSETTO:-0500
TZNAME:EST
DTSTART:20251102T060000
END:STANDARD
END:VTIMEZONE
BEGIN:VEVENT
DTSTART;TZID=America/New_York:20240527T110000
DTEND;TZID=America/New_York:20240527T230000
DTSTAMP:20260420T111258
CREATED:20240324T195648Z
LAST-MODIFIED:20240324T195648Z
UID:39956-1716807600-1716850800@notoriousjazz.com
SUMMARY:ATLANTA JAZZ FESTIVAL
DESCRIPTION:Atlanta Jazz Festival is regarded as one of the largest FREE jazz festivals in the country. An annual celebration of the music\, culture and art of jazz begins in April and culminates each Memorial Day weekend\, with an outdoor festival featuring jazz artists from all over the world. \nEstablished in 1978\, the Atlanta Jazz Festival has become a tradition that draws music lovers from all around the region to experience the latest and greatest in jazz music culture. Mayor Maynard Jackson founded the original jazz festival with the idea to spotlight jazz in the city\, because\, as he said\, “Jazz music is America’s only original art form\, and…Atlanta\, with its growing reputation as an international center of the arts and education\, has both the opportunity and the responsibility to promote an art form whose roots are indigenous to the South.” \nSince then\, Atlanta Jazz Festival has hosted luminaries of the jazz music tradition including\, Lionel Hampton (1980)\, Dizzy Gillespie (1988/1990)\, Wynton Marsalis (1989)\, Nina Simone (2000)\, Ray Charles (2002)\, Miles Davis (1983)\, Herbie Hancock (2000) and many\, many more. \nThe city’s commitment to present a free jazz festival\, as it was originally named “The Atlanta Free Jazz Festival\,” is representative of a commitment to ensure that everyone who resides in and visits Atlanta will have easy access to high quality cultural experiences. \nLineup: \n1 PM – JUSTICE MICHAEL & THE PASSAGE \n3 PM – KELS \n5 PM – GROOVE CENTRIC \n7 PM – ANDRÉ 3000: NEW BLUE SUN LIVE \n9 PM – LIZZ WRIGHT
URL:https://notoriousjazz.com/event/atlanta-jazz-festival-4
LOCATION:Piedmont Park\, 10th & Charles Allen Drive\, Atlanta\, GA\, 30309\, United States
CATEGORIES:Festival
ATTACH;FMTTYPE=image/png:https://notoriousjazz.com/wp-content/uploads/2024/03/LIZZ-WRIGHT.png
END:VEVENT
END:VCALENDAR