BEGIN:VCALENDAR
VERSION:2.0
PRODID:-//Notorious Jazz - ECPv6.15.17//NONSGML v1.0//EN
CALSCALE:GREGORIAN
METHOD:PUBLISH
X-ORIGINAL-URL:https://notoriousjazz.com
X-WR-CALDESC:Events for Notorious Jazz
REFRESH-INTERVAL;VALUE=DURATION:PT1H
X-Robots-Tag:noindex
X-PUBLISHED-TTL:PT1H
BEGIN:VTIMEZONE
TZID:America/New_York
BEGIN:DAYLIGHT
TZOFFSETFROM:-0500
TZOFFSETTO:-0400
TZNAME:EDT
DTSTART:20230312T070000
END:DAYLIGHT
BEGIN:STANDARD
TZOFFSETFROM:-0400
TZOFFSETTO:-0500
TZNAME:EST
DTSTART:20231105T060000
END:STANDARD
BEGIN:DAYLIGHT
TZOFFSETFROM:-0500
TZOFFSETTO:-0400
TZNAME:EDT
DTSTART:20240310T070000
END:DAYLIGHT
BEGIN:STANDARD
TZOFFSETFROM:-0400
TZOFFSETTO:-0500
TZNAME:EST
DTSTART:20241103T060000
END:STANDARD
BEGIN:DAYLIGHT
TZOFFSETFROM:-0500
TZOFFSETTO:-0400
TZNAME:EDT
DTSTART:20250309T070000
END:DAYLIGHT
BEGIN:STANDARD
TZOFFSETFROM:-0400
TZOFFSETTO:-0500
TZNAME:EST
DTSTART:20251102T060000
END:STANDARD
END:VTIMEZONE
BEGIN:VEVENT
DTSTART;TZID=America/New_York:20240604T183000
DTEND;TZID=America/New_York:20240607T230000
DTSTAMP:20260420T111306
CREATED:20240604T234424Z
LAST-MODIFIED:20240605T122759Z
UID:41029-1717525800-1717801200@notoriousjazz.com
SUMMARY:ROBERT GLASPER
DESCRIPTION:Robert Glasper is the leader of a new sonic paradigm with a career that bridges musical and artistic genres. To date\, he boasts 5 Grammy wins and 11 nominations across 11 categories\, an Emmy Award for his song for Ava Duvernay’s critically hailed documentary “13th” with Common and Karriem Riggins\, and a Peabody Award for his Composition of “Mr. Soul!”. His work and accolades bridge all aspects of the music business\, from live touring to film scoring\, composing and producing. \nThe ongoing Black Radio series has since become Glasper’s calling card\, upholding a place at the heart of a trailblazing community: from long-time sonic brothers Mos Def and Bilal\, to legends including Ledisi\, Lupe Fiasco\, Jill Scott\, and Erykah Badu. Glasper is an artist at the heart of a moment – and a movement – to champion Black music\, Black people\, and the possibility of a better future. \nUnfortunately\, for those of you who didn’t get tickets early\, all of his performances are sold out\, however you can add your name to the waiting list\, just in case someone cancels.
URL:https://notoriousjazz.com/event/robert-glasper
LOCATION:City Winery Atlanta\, Ponce City Market\, 650 North Avenue NE\, Atlanta\, GA\, 30308\, United States
CATEGORIES:Club
ATTACH;FMTTYPE=image/png:https://notoriousjazz.com/wp-content/uploads/2024/06/ROBERT-GLASPER.png
END:VEVENT
END:VCALENDAR