BEGIN:VCALENDAR
VERSION:2.0
PRODID:-//Notorious Jazz - ECPv6.15.17//NONSGML v1.0//EN
CALSCALE:GREGORIAN
METHOD:PUBLISH
X-ORIGINAL-URL:https://notoriousjazz.com
X-WR-CALDESC:Events for Notorious Jazz
REFRESH-INTERVAL;VALUE=DURATION:PT1H
X-Robots-Tag:noindex
X-PUBLISHED-TTL:PT1H
BEGIN:VTIMEZONE
TZID:America/Chicago
BEGIN:DAYLIGHT
TZOFFSETFROM:-0600
TZOFFSETTO:-0500
TZNAME:CDT
DTSTART:20230312T080000
END:DAYLIGHT
BEGIN:STANDARD
TZOFFSETFROM:-0500
TZOFFSETTO:-0600
TZNAME:CST
DTSTART:20231105T070000
END:STANDARD
BEGIN:DAYLIGHT
TZOFFSETFROM:-0600
TZOFFSETTO:-0500
TZNAME:CDT
DTSTART:20240310T080000
END:DAYLIGHT
BEGIN:STANDARD
TZOFFSETFROM:-0500
TZOFFSETTO:-0600
TZNAME:CST
DTSTART:20241103T070000
END:STANDARD
BEGIN:DAYLIGHT
TZOFFSETFROM:-0600
TZOFFSETTO:-0500
TZNAME:CDT
DTSTART:20250309T080000
END:DAYLIGHT
BEGIN:STANDARD
TZOFFSETFROM:-0500
TZOFFSETTO:-0600
TZNAME:CST
DTSTART:20251102T070000
END:STANDARD
END:VTIMEZONE
BEGIN:VTIMEZONE
TZID:America/New_York
BEGIN:DAYLIGHT
TZOFFSETFROM:-0500
TZOFFSETTO:-0400
TZNAME:EDT
DTSTART:20230312T070000
END:DAYLIGHT
BEGIN:STANDARD
TZOFFSETFROM:-0400
TZOFFSETTO:-0500
TZNAME:EST
DTSTART:20231105T060000
END:STANDARD
BEGIN:DAYLIGHT
TZOFFSETFROM:-0500
TZOFFSETTO:-0400
TZNAME:EDT
DTSTART:20240310T070000
END:DAYLIGHT
BEGIN:STANDARD
TZOFFSETFROM:-0400
TZOFFSETTO:-0500
TZNAME:EST
DTSTART:20241103T060000
END:STANDARD
BEGIN:DAYLIGHT
TZOFFSETFROM:-0500
TZOFFSETTO:-0400
TZNAME:EDT
DTSTART:20250309T070000
END:DAYLIGHT
BEGIN:STANDARD
TZOFFSETFROM:-0400
TZOFFSETTO:-0500
TZNAME:EST
DTSTART:20251102T060000
END:STANDARD
END:VTIMEZONE
BEGIN:VEVENT
DTSTART;TZID=America/Chicago:20240619T183000
DTEND;TZID=America/Chicago:20240623T230000
DTSTAMP:20260420T111436
CREATED:20240614T164834Z
LAST-MODIFIED:20240614T164834Z
UID:41209-1718821800-1719183600@notoriousjazz.com
SUMMARY:KEYON HARROLD
DESCRIPTION:Jazz St. Louis Creative Advisor and Ferguson native Keyon Harrold returns home to present his brand new commission to close our ’23/24 Season! This season grand finale will see the illustrious musician debut Jazz St. Louis’ much-anticipated\, first-ever solo-commissioned work\, written to reflect Keyon’s experiences during his  momentous three-year appointment with Jazz St. Louis. Do not miss Harrold take the stage to share with the world a new work that promises to be unique and thoughtful. \nHarrold grew up one of sixteen children in a family that prioritized music and community across generations. His grandfather was a police officer who retired to found a drum and bugle corps for local youth\, both of his parents were pastors\, and nearly all of his siblings sing and perform music to this day. At eighteen\, the McCluer High School alum left Ferguson for New York City to enroll in The New School. In New York\, he landed his first major gig with Common\, an audition he secured on the recommendation of his New School classmate Robert Glasper\, and an experience which he says broadened his musical horizons beyond jazz to include funk\, Afrobeat\, R&B\, and hip hop. Harrold was soon performing with stars like Snoop Dogg\, Jay Z\, Beyonce\, Mac Miller\, Rihanna\, Eminem\, Maxwell\, Anthony Hamilton\, and Chaka Khan. \nHarrold has been key in advancing community engagement and broadening our organization’s audience of ardent jazz appreciators. Whether Jazz St. Louis patrons are harmonizing to a soothing rendition of the Bee Gees tune “How Deep Is Your Love” live with PJ Morton\, or soaring with inspiration from a Whitaker Jazz Speaks exploration of how hip hop radiated from an iconic disco sample\, many indelible memories are being made during Harrold’s extraordinary tenure. This boundary-expanding partnership and commissioned work is all made possible with gracious support from the Mellon Foundation.
URL:https://notoriousjazz.com/event/keyon-harrold-3
LOCATION:Jazz St. Louis\, 3536 Washington Avenue\, St. Louis\, MO\, 63103\, United States
CATEGORIES:Club
ATTACH;FMTTYPE=image/png:https://notoriousjazz.com/wp-content/uploads/2024/06/KEYON-HARROLD.png
END:VEVENT
BEGIN:VEVENT
DTSTART;TZID=America/New_York:20240619T190000
DTEND;TZID=America/New_York:20240623T235900
DTSTAMP:20260420T111436
CREATED:20240614T173433Z
LAST-MODIFIED:20240614T173433Z
UID:41218-1718823600-1719187140@notoriousjazz.com
SUMMARY:LOUIS HAYES & THE CANNONBALL LEGACY BAND
DESCRIPTION:Jeremy Pelt – trumpet | Vincent Herring – alto saxophone | Rick Germanson – piano | Kenny Davis – bass | Louis Hayes – drums\n\nLiving legend Louis Hayes returns with the incredible Cannonball Legacy Band with trumpeter Jeremy Pelt\, also saxophonist Vincent Herring\, pianist Rick Germanson\, and bassist Kenny Davis. “Hayes’ drumming is as superb and as youthful as ever.” writes All About Jazz. Born and raised in Detroit\, Hayes moved to New York in 1956 to replace Arthur Taylor in the Horace Silver Quintet; he recorded five classic Blue Note albums with Silver before joining Cannonball Adderley in 1959 for an equally momentous six-year stint. The drummer’s remarkable career also includes extended stays with the legendary trios of Oscar Peterson and McCoy Tyner and\, more recently\, with this esteemed group\, the Cannonball Legacy Band\, which he co-founded.\n\n“Drummer Louis Hayes elevates the music from within\, using finesse and hip nuance rather than playing on top of it with overt chops.” – JazzTimes\n\n*PLEASE NOTE: All 7PM and 9PM shows at Smoke are Dinner Shows
URL:https://notoriousjazz.com/event/louis-hayes-the-cannonball-legacy-band
LOCATION:Smoke Jazz & Supper Club\, 2751 Broadway\, New York City\, NY\, 10025\, United States
CATEGORIES:Club
ATTACH;FMTTYPE=image/jpeg:https://notoriousjazz.com/wp-content/uploads/2024/06/LOUIS-HAYES.jpeg
END:VEVENT
BEGIN:VEVENT
DTSTART;TZID=America/New_York:20240620T170000
DTEND;TZID=America/New_York:20240623T223000
DTSTAMP:20260420T111436
CREATED:20240614T162952Z
LAST-MODIFIED:20240614T162952Z
UID:41206-1718902800-1719181800@notoriousjazz.com
SUMMARY:JOE FARNSWORTH
DESCRIPTION:A true mentor who leadsby example\, drummer and composer Joe Farnsworth brings his intergenerational ensemble to Dizzy’s Club. Over four nights\, the award-winning artist’s Time to Swing Quintet presents a high-octane program of blistering solos\, dynamic ballads\, and joyful spontaneity at its highest level. Don’tmiss this special performance that features three generations of master artists. \nJoe Farnsworth\, drums\nSean Jones\, trumpet  (6/20\, 6/22\, 6/23)\nSarah Hanahan\, alto saxophone (6/21\, 6/22\, 6/23) \nCaelen Cardello\, piano (6/20 only)\nEmmet Cohen\, piano (6/21\, 6/22\, 6/23) \nYashushi Nakamura\, bass (6/20\, 6/22 & 6/23)\nPeter Washington\, bass (6/21 only) \nDizzy’s Club requires a minimum food and/or beverage purchase of $21 per person.
URL:https://notoriousjazz.com/event/joe-farnsworth
LOCATION:Dizzy’s Club\, 10 Columbus Circle\, New York City\, NY\, 10019\, United States
CATEGORIES:Club
ATTACH;FMTTYPE=image/jpeg:https://notoriousjazz.com/wp-content/uploads/2024/06/JOE-FARNSWORTH.jpg
END:VEVENT
BEGIN:VEVENT
DTSTART;TZID=America/New_York:20240621T080000
DTEND;TZID=America/New_York:20240621T170000
DTSTAMP:20260420T111436
CREATED:20240614T084745Z
LAST-MODIFIED:20240614T084745Z
UID:41173-1718956800-1718989200@notoriousjazz.com
SUMMARY:BENITO GONZALEZ\, BUSTER WILLIAMS\, LENNY WHITE
DESCRIPTION:Benito Gonzalez – Piano | Buster Williams – Bass | Lenny White – Drums \nPianist Benito Gonzalez “Two times Grammy nominee”is an internationally beloved artist who combines a long lineage of American jazz traditions with rhythms from around the world. He’s worked with dozens of the greats\, and he always brings some of the best rhythm section players in the world. \nToday a rising tide of young jazz pianists are attempting to find their distinct voices by taking cues from their elders. But only a few take their artistry beyond their predecessors to make bold 88-key statements on their journeys to new vistas\, fresh sounds\, inspired expressions. That personal-touch devotion to the wonders of the instrument brings with it a certitude of intuitive creativity. \nThat fortitude fuels Benito Gonzalez\, an exhilarating pianist who won the 2005 Great America Jazz Piano Competition and was honored in 2020 to be a Steinway & Sons artist for “his sound [that] is recognizable for the powerful rhythm section and Afro-Latin patterns he prioritizes across his projects.” The Venezuela-born\, New York-based artist grew up playing traditional Venezuelan folk music with his family before absorbing the inventiveness of such pianists as Herbie Hancock\, McCoy Tyner\,Chick Corea and Keith Jarrett who inspired him to join in the explorations on the instrument. \nGonzalez made his way to U.S. by a serendipitous route when an American cultural ambassador caught one of his trio gigs and later invited him to come to Washington\, D.C. He was enlisted to play shows with Ghanaian master drummer Okyerema Asante that led to a recording. “After my first six months here\, I decided to stay in this country to learn the music right\,” Gonzalez said. \nGonzalez went on to play with Jackie McLean in 2003\, then joined Kenny Garrett’s quartet for seven years until 2013—during which time he garnered two Grammy band nominations. After his stint with Garrett\, he played with saxophonist Azar Lawrence’s band and then in 2019 joined saxophone legend Pharoah Sanders as his pianist/musical director. \nThrough the course of his career\, Gonzalez has been instrumental as a sideman in performing and recording with such jazz greats as Bobby Hutcherson\, Dave Liebman\, Gary Bartz\, Curtis Fuller\, Al Foster\, Lenny White\, Billy Hart\, Ignacio Berroa\, Jeff”Tain”Watts\, Buster Williams\, Rene McLean\, Steve Turre\, Delfeayo Marsalis\, Hamiet Bluiett\, Ron Blake\, Antonio Sanchez\, Mark Gross\, and Azar Lawrence. \nGonzalez also recorded his own albums\, including Starting Point (2004) and Circles (2010)\, then continued his solo career with Dream Rhapsody (2015) with Slavic flutist/vocalist Sisa Michalidesová\, and a loving tribute to McCoy Tyner Passion Reverence Transcendence (2018). \nWith propulsive pulse and Afro-Latin percussive drive\, Gonzalez placed rhythm at the core of 2021’s Sing to the World\, his fifth album and first released on the St. Petersburg\, Russia label Rainy Days Records. He assembled an impressive team of collaborators\, including Christian McBride\, Essiet Okon Essiet\, Jeff “Tain” Watts\, and Nicholas Payton as well as rising stars Russian drummer Sasha Mashin\, trumpeter Josh Evans. \nIn addition to his slow-to-upbeat originals\, Gonzalez added to the set list two compositions that had never been recorded by their composers: Roy Hargrove’s soulful “Father” and the “Tain” beauty “416.” After almost seven years of touring with Kenny Garrett\, Benito has added numerous festivals and international jazz club dates to his credit. In 2019 he joined legendary saxophonist Pharoah Sanders as pianist and musical director.
URL:https://notoriousjazz.com/event/benito-gonzalez-buster-williams-lenny-white
LOCATION:The Side Door\, Old Lyme Inn\, 85 Lyme Street\, Old Lyme\, CT\, 06371\, United States
CATEGORIES:Club
ATTACH;FMTTYPE=image/jpeg:https://notoriousjazz.com/wp-content/uploads/2024/06/BENITO-GONZALEZ.jpg
END:VEVENT
BEGIN:VEVENT
DTSTART;TZID=America/New_York:20240621T190000
DTEND;TZID=America/New_York:20240622T230000
DTSTAMP:20260420T111436
CREATED:20240614T082818Z
LAST-MODIFIED:20240614T082818Z
UID:41166-1718996400-1719097200@notoriousjazz.com
SUMMARY:HOUSTON PERSON
DESCRIPTION:He remains the King of the Boss Tenor Sax and nothing\, it seems\, can stop Houston Person\, now in his sixth decade of performing. His latest recording (he’s released over 85 of them)\, as featured guest on Emmet Cohen’s Masters Series Vol. 5\, has rocketed up the Jazz Week charts. In its 4-star review\, AllAboutJazz.com applauds Houston’s “master’s flair for swing and blues.” A great friend of The Jazz Forum\, Houston is a master’s master. \nThe tenor saxophonist and record producer. Although he has performed in the hard bop and swing genres\, he is most experienced in and best known for his work in soul jazz. He received the “Eubie Blake Jazz Award” in 1982.
URL:https://notoriousjazz.com/event/houston-person-2
LOCATION:Jazz Forum Arts\, 1 Dixon Lane\, Tarrytown\, NY\, 10591\, United States
CATEGORIES:Club
ATTACH;FMTTYPE=image/jpeg:https://notoriousjazz.com/wp-content/uploads/2024/06/HOUSTON-PERSON.jpg
END:VEVENT
END:VCALENDAR