BEGIN:VCALENDAR
VERSION:2.0
PRODID:-//Notorious Jazz - ECPv6.15.17//NONSGML v1.0//EN
CALSCALE:GREGORIAN
METHOD:PUBLISH
X-ORIGINAL-URL:https://notoriousjazz.com
X-WR-CALDESC:Events for Notorious Jazz
REFRESH-INTERVAL;VALUE=DURATION:PT1H
X-Robots-Tag:noindex
X-PUBLISHED-TTL:PT1H
BEGIN:VTIMEZONE
TZID:America/New_York
BEGIN:DAYLIGHT
TZOFFSETFROM:-0500
TZOFFSETTO:-0400
TZNAME:EDT
DTSTART:20230312T070000
END:DAYLIGHT
BEGIN:STANDARD
TZOFFSETFROM:-0400
TZOFFSETTO:-0500
TZNAME:EST
DTSTART:20231105T060000
END:STANDARD
BEGIN:DAYLIGHT
TZOFFSETFROM:-0500
TZOFFSETTO:-0400
TZNAME:EDT
DTSTART:20240310T070000
END:DAYLIGHT
BEGIN:STANDARD
TZOFFSETFROM:-0400
TZOFFSETTO:-0500
TZNAME:EST
DTSTART:20241103T060000
END:STANDARD
BEGIN:DAYLIGHT
TZOFFSETFROM:-0500
TZOFFSETTO:-0400
TZNAME:EDT
DTSTART:20250309T070000
END:DAYLIGHT
BEGIN:STANDARD
TZOFFSETFROM:-0400
TZOFFSETTO:-0500
TZNAME:EST
DTSTART:20251102T060000
END:STANDARD
END:VTIMEZONE
BEGIN:VEVENT
DTSTART;TZID=America/New_York:20240701T200000
DTEND;TZID=America/New_York:20240701T230000
DTSTAMP:20260420T093730
CREATED:20240623T023912Z
LAST-MODIFIED:20240623T023912Z
UID:41348-1719864000-1719874800@notoriousjazz.com
SUMMARY:JACQUES LESURE
DESCRIPTION:Jacques Lesure is a Detroit\, Michigan native currently residing as a resident of Inglewood\, California. His classic style along with his innovative approach to the music are integral to his signature sound. Emanating out of his association with mentors George Benson\, Kenny Burrell and a host of others\, one hears his own voice. \nIt is no secret that his music is rooted in the foundations of gospel\, blues and improvised Black American music. It’s his belief that the sounds of today are equally relevant as the glory days gone by. It is that synergy that makes his music swing with a style like no other. \nHe is associated with the WJ# label and has recorded three albums to great reviews. He is an honorable member of GHJazz Collective where they are keeping jazz alive in Accra Ghana at +233 Jazz Bar and Grill. \n 
URL:https://notoriousjazz.com/event/jacques-lesure-2
LOCATION:The Lighthouse Cafe\, 30 Pier Avenue\, Hermosa Beach\, CA\, 90254\, United States
CATEGORIES:Club
ATTACH;FMTTYPE=image/png:https://notoriousjazz.com/wp-content/uploads/2024/06/JACQUES-LESURE.png
END:VEVENT
END:VCALENDAR