BEGIN:VCALENDAR
VERSION:2.0
PRODID:-//Notorious Jazz - ECPv6.15.17//NONSGML v1.0//EN
CALSCALE:GREGORIAN
METHOD:PUBLISH
X-WR-CALNAME:Notorious Jazz
X-ORIGINAL-URL:https://notoriousjazz.com
X-WR-CALDESC:Events for Notorious Jazz
REFRESH-INTERVAL;VALUE=DURATION:PT1H
X-Robots-Tag:noindex
X-PUBLISHED-TTL:PT1H
BEGIN:VTIMEZONE
TZID:America/New_York
BEGIN:DAYLIGHT
TZOFFSETFROM:-0500
TZOFFSETTO:-0400
TZNAME:EDT
DTSTART:20230312T070000
END:DAYLIGHT
BEGIN:STANDARD
TZOFFSETFROM:-0400
TZOFFSETTO:-0500
TZNAME:EST
DTSTART:20231105T060000
END:STANDARD
BEGIN:DAYLIGHT
TZOFFSETFROM:-0500
TZOFFSETTO:-0400
TZNAME:EDT
DTSTART:20240310T070000
END:DAYLIGHT
BEGIN:STANDARD
TZOFFSETFROM:-0400
TZOFFSETTO:-0500
TZNAME:EST
DTSTART:20241103T060000
END:STANDARD
BEGIN:DAYLIGHT
TZOFFSETFROM:-0500
TZOFFSETTO:-0400
TZNAME:EDT
DTSTART:20250309T070000
END:DAYLIGHT
BEGIN:STANDARD
TZOFFSETFROM:-0400
TZOFFSETTO:-0500
TZNAME:EST
DTSTART:20251102T060000
END:STANDARD
END:VTIMEZONE
BEGIN:VEVENT
DTSTART;TZID=America/New_York:20240705T170000
DTEND;TZID=America/New_York:20240707T230000
DTSTAMP:20260420T093452
CREATED:20240704T203048Z
LAST-MODIFIED:20240704T203500Z
UID:41514-1720198800-1720393200@notoriousjazz.com
SUMMARY:CINDY BLACKMAN SANTANA
DESCRIPTION:Cindy Blackman Santana is a virtuoso drummer whose artistry spans the realms of jazz and rock. As a bandleader\, musician\, and the new face of NFL Monday Night Football\, Cindy is a sound innovator with a passion for pushing creative boundaries and exploring movement and change. She is as known for the nuances and colors she brings to her beats and fills as she is for the sheer power of her soulful playing. “Some drummers act\, some react. Some keep time\, others create it. Cindy Blackman Santana is among the few who can\,” writes Mike Zwerin of the International Herald Tribune. \nCindy has been creating magnificent musical time and space since the beginning of her career as a busking street performer in New York City in the ’80s through the present day\, touring the globe and making albums at the top of her game—including the critically acclaimed Another Lifetime (2010). In addition to collaborating onstage and in-studio with her own group—also known as Another Lifetime—she has toured and recorded with artists including Pharoah Sanders\, Cassandra Wilson\, Bill Laswell\, Joss Stone\, Joe Henderson\, Buckethead\, Don Pullen\, Hugh Masakela\, and Angela Bofill. From 1992 to 2007 and again in 2014 & 2015 she was the drummer in Lenny Kravitz’s band\, performing through multiple world tours and hit albums. In 2010\, she was part of the all-star line-up performing “Bitches Brew\,” a tribute to Miles Davis’ seminal album staged at the San Francisco Jazz Festival and NYC Winter JazzFest. \nThe Band: Cindy Blackman Santana ~ Drums | Aurelien Budynek ~ Guitar | Felix Pastorius ~ Bass | Emilio Modeste ~ Saxophone | Zaccai Curtis ~ Keyboard \nFriday 7/5 ~ 7:00 pm w/Live Stream |  9:30 pm\nSaturday 7/6 ~ 6:00 pm w/Live Stream | 8:30 pm\nSunday 7/7 ~ 5:00 pm w/Live Stream | 7:30 pm
URL:https://notoriousjazz.com/event/cindy-blackman-santana
LOCATION:Keystone Korner Baltimore\, 1350 Lancaster Street\, Baltimore\, MD\, 21231\, United States
CATEGORIES:Club
ATTACH;FMTTYPE=image/jpeg:https://notoriousjazz.com/wp-content/uploads/2024/07/CINDY-BLACKMAN-SANTANA.jpg
END:VEVENT
END:VCALENDAR