BEGIN:VCALENDAR
VERSION:2.0
PRODID:-//Notorious Jazz - ECPv6.15.17//NONSGML v1.0//EN
CALSCALE:GREGORIAN
METHOD:PUBLISH
X-WR-CALNAME:Notorious Jazz
X-ORIGINAL-URL:https://notoriousjazz.com
X-WR-CALDESC:Events for Notorious Jazz
REFRESH-INTERVAL;VALUE=DURATION:PT1H
X-Robots-Tag:noindex
X-PUBLISHED-TTL:PT1H
BEGIN:VTIMEZONE
TZID:America/Los_Angeles
BEGIN:DAYLIGHT
TZOFFSETFROM:-0800
TZOFFSETTO:-0700
TZNAME:PDT
DTSTART:20230312T100000
END:DAYLIGHT
BEGIN:STANDARD
TZOFFSETFROM:-0700
TZOFFSETTO:-0800
TZNAME:PST
DTSTART:20231105T090000
END:STANDARD
BEGIN:DAYLIGHT
TZOFFSETFROM:-0800
TZOFFSETTO:-0700
TZNAME:PDT
DTSTART:20240310T100000
END:DAYLIGHT
BEGIN:STANDARD
TZOFFSETFROM:-0700
TZOFFSETTO:-0800
TZNAME:PST
DTSTART:20241103T090000
END:STANDARD
BEGIN:DAYLIGHT
TZOFFSETFROM:-0800
TZOFFSETTO:-0700
TZNAME:PDT
DTSTART:20250309T100000
END:DAYLIGHT
BEGIN:STANDARD
TZOFFSETFROM:-0700
TZOFFSETTO:-0800
TZNAME:PST
DTSTART:20251102T090000
END:STANDARD
END:VTIMEZONE
BEGIN:VTIMEZONE
TZID:America/Chicago
BEGIN:DAYLIGHT
TZOFFSETFROM:-0600
TZOFFSETTO:-0500
TZNAME:CDT
DTSTART:20230312T080000
END:DAYLIGHT
BEGIN:STANDARD
TZOFFSETFROM:-0500
TZOFFSETTO:-0600
TZNAME:CST
DTSTART:20231105T070000
END:STANDARD
BEGIN:DAYLIGHT
TZOFFSETFROM:-0600
TZOFFSETTO:-0500
TZNAME:CDT
DTSTART:20240310T080000
END:DAYLIGHT
BEGIN:STANDARD
TZOFFSETFROM:-0500
TZOFFSETTO:-0600
TZNAME:CST
DTSTART:20241103T070000
END:STANDARD
BEGIN:DAYLIGHT
TZOFFSETFROM:-0600
TZOFFSETTO:-0500
TZNAME:CDT
DTSTART:20250309T080000
END:DAYLIGHT
BEGIN:STANDARD
TZOFFSETFROM:-0500
TZOFFSETTO:-0600
TZNAME:CST
DTSTART:20251102T070000
END:STANDARD
END:VTIMEZONE
BEGIN:VTIMEZONE
TZID:America/New_York
BEGIN:DAYLIGHT
TZOFFSETFROM:-0500
TZOFFSETTO:-0400
TZNAME:EDT
DTSTART:20230312T070000
END:DAYLIGHT
BEGIN:STANDARD
TZOFFSETFROM:-0400
TZOFFSETTO:-0500
TZNAME:EST
DTSTART:20231105T060000
END:STANDARD
BEGIN:DAYLIGHT
TZOFFSETFROM:-0500
TZOFFSETTO:-0400
TZNAME:EDT
DTSTART:20240310T070000
END:DAYLIGHT
BEGIN:STANDARD
TZOFFSETFROM:-0400
TZOFFSETTO:-0500
TZNAME:EST
DTSTART:20241103T060000
END:STANDARD
BEGIN:DAYLIGHT
TZOFFSETFROM:-0500
TZOFFSETTO:-0400
TZNAME:EDT
DTSTART:20250309T070000
END:DAYLIGHT
BEGIN:STANDARD
TZOFFSETFROM:-0400
TZOFFSETTO:-0500
TZNAME:EST
DTSTART:20251102T060000
END:STANDARD
END:VTIMEZONE
BEGIN:VEVENT
DTSTART;TZID=America/Los_Angeles:20240714T170000
DTEND;TZID=America/Los_Angeles:20240714T210000
DTSTAMP:20260420T093603
CREATED:20240712T134554Z
LAST-MODIFIED:20240712T134554Z
UID:41642-1720976400-1720990800@notoriousjazz.com
SUMMARY:CLAIRDEE
DESCRIPTION:In a career spanning some four decades\, the vivacious Clairdee has performed as an internationally touring artist who’s collaborated with some of America’s most celebrated jazz masters\, including Dick Hyman\, Bucky Pizzarelli\, Houston Person\, Cyrus Chestnut\, Russell Malone and Ken Peplowski. \nDeeply informed by the music’s departed masters\, Clairdee puts a personal stamp on whatever she sings\, a gift aptly described by the inimitable Nancy Wilson\, who declared that “in the tradition of all great vocalists she infuses each song with her own unique style while always remaining true to the song itself.” Equally at home singing various idioms in an array of settings\, in addition to leading her own world-class band\, Clairdee works with symphony orchestras\, big bands\, and intimate duos. \nClairdee’s discography as leader includes four highly regarded albums on her Declare Music label. “A Love Letter to Lena\,” garnered international press and was acknowledged in three categories in the 2020 Grammy® first round nominations.
URL:https://notoriousjazz.com/event/clairdee
LOCATION:Keys Jazz Bistro\, 498 Broadway\, San Francisco\, CA\, 94133\, United States
CATEGORIES:Club
ATTACH;FMTTYPE=image/jpeg:https://notoriousjazz.com/wp-content/uploads/2024/07/CLAIRDEE.jpeg
END:VEVENT
BEGIN:VEVENT
DTSTART;TZID=America/Chicago:20240714T180000
DTEND;TZID=America/Chicago:20240714T203000
DTSTAMP:20260420T093603
CREATED:20240622T214338Z
LAST-MODIFIED:20240622T214631Z
UID:41330-1720980000-1720989000@notoriousjazz.com
SUMMARY:LADIES OF JAZZ
DESCRIPTION:Join one of Nashville’s favorite shows Wendy Burns Music’s Ladies of Jazz Show on Veteran’s Day Eve\, the November edition features a theme of 1940’s USO tour\, music of the 1940’s and beyond. Wendy Burns Music’s LADIES OF JAZZ SHOW… “It’s a Nashville Show to See”. Featuring an exciting lineup of talent\, Rudy’s Jazz Room’s “Ladies of Jazz” showcase presents Nashville’s favorite female vocalists collaborating together\, displaying a variety of original and distinct vocal talent\, backed by some of Nashville’s best and well known musicians. Harmonies of the Andrew sisters and jokes and just a gosh darn happy time. Come join us and see the show series that people are loving and talking about. \nWendy Burns\nNashville’s 2022 Inducted member Academy of Local Musicians Hall of Fame and 2023 & 2024 Mississippi Music Foundations Best Female Jazz vocalists of the year. \nFlute playing jazz vocalist Wendy Burns of Nashville TN has studied and performed songs from the 1940’s Jazz Big Band era since the age of 9 years old. She has been described as having a unique voice that fits the era. She has performed at the Grand Ole Opry and has sessioned and performed with many of the Nashville classic country greats. With a deep passion for jazz standards\, and as a hopeless romantic\, Wendy believes there’s beauty in staying true to the melodies as they were written. Her set list includes songs from the “Great American Songbook”\, jazz standards\, and a number of her fabulous original pieces that reminisce of cherished jazz classics you’ve never heard. Wendy’s influences are Judy Garland\, Doris Day\, Frank Sinatra\, Tommy Dorsey\, The Andrew Sisters\, and Helen Forrest\, to name a few. You will also hear some of her original tunes in vaudeville fashion featuring “Grover” her ukulele. \nMimi Clay\nNewly Mimi Clay and formerly Mimi Klipstine grew up in tiny West Milton\, Ohio singing with amazing pianists such as David Wion and Betty Lou Johansen. She attended Interlochen Arts Camp and then went on to graduate from the Academy. Next\, she graduated with a B.F.A. in Acting with a Musical Theatre Emphasis from Wright State University and is a two-time recipient of the renowned Stephen Schwartz Scholarship awarded by The Human Race Theatre Company. She was a featured vocalist in An Evening with Leslie Uggams — a concert filmed for PBS\, has performed her solo show You’re GonnaHear from Mimi at The Duplex in New York City\, and has sungat The Bitter End multiple times. She’s had countless performance adventures. Some credits include She Loves Me (Ilona Ritter)\, Funny Girl (Fanny Brice)\, Anything Goes (Reno Sweeney)\, Guys and Dolls (Miss Adelaide)\, Into the Woods (Witch)\, and Sunday in the Park with George. \nAbigail Flowers\nAbigail Flowers is a Nashville-based jazz vocalist and Lanikai Ukuleles artist. Drawing on vocal influences like Ella Fitzgerald\, Chet Baker\, and Nat King Cole\, her vocal style is smooth and precise. She frequently performs in as many languages as possible\, including French\, Spanish\, Portuguese\, Italian\, and Hawaiian. \nAfter graduating from Belmont University with a degree in commercial vocal performance\, she worked as a vocalist at the Grand Hotel on Mackinac Island\, Michigan for several seasons. Abigail has recorded in collaboration with producers like Charlie Peacock and Cody Fry\, and her vocal arrangements have garnered over 1.5 million streams on Spotify.
URL:https://notoriousjazz.com/event/ladies-of-jazz
LOCATION:Rudy’s Jazz Room\, 809 Gleaves Street\, Nashville\, TN\, 37203\, United States
CATEGORIES:Club
ATTACH;FMTTYPE=image/jpeg:https://notoriousjazz.com/wp-content/uploads/2024/06/LADIES-OF-JAZZ.jpg
END:VEVENT
BEGIN:VEVENT
DTSTART;TZID=America/New_York:20240714T190000
DTEND;TZID=America/New_York:20240714T210000
DTSTAMP:20260420T093603
CREATED:20240710T031051Z
LAST-MODIFIED:20240711T175343Z
UID:41603-1720983600-1720990800@notoriousjazz.com
SUMMARY:TONY HIGHTOWER
DESCRIPTION:Singer/Songwriter Tony Hightower is taking up the mantle to be a bridge that ushers R&B audiences into Jazz…Real Jazz. With years of experience as a musical performer and actor with familiar roots that place him firmly within the music’s firmament\, the Atlanta native  is still just getting started on this benevolent turn in his journey. And he is bringing a lot of young people with him.
URL:https://notoriousjazz.com/event/tony-hightower-tyrone-jackson
LOCATION:The Balzer Theater at Herren’s\, 84 Luckie Street NW\, Atlanta\, GA\, 30303\, United States
CATEGORIES:Concert
ATTACH;FMTTYPE=image/jpeg:https://notoriousjazz.com/wp-content/uploads/2024/07/TONY-HIGHTOWER-3.jpeg
END:VEVENT
END:VCALENDAR