BEGIN:VCALENDAR
VERSION:2.0
PRODID:-//Notorious Jazz - ECPv6.15.17//NONSGML v1.0//EN
CALSCALE:GREGORIAN
METHOD:PUBLISH
X-ORIGINAL-URL:https://notoriousjazz.com
X-WR-CALDESC:Events for Notorious Jazz
REFRESH-INTERVAL;VALUE=DURATION:PT1H
X-Robots-Tag:noindex
X-PUBLISHED-TTL:PT1H
BEGIN:VTIMEZONE
TZID:Asia/Tokyo
BEGIN:STANDARD
TZOFFSETFROM:+0900
TZOFFSETTO:+0900
TZNAME:JST
DTSTART:20230101T000000
END:STANDARD
END:VTIMEZONE
BEGIN:VTIMEZONE
TZID:America/New_York
BEGIN:DAYLIGHT
TZOFFSETFROM:-0500
TZOFFSETTO:-0400
TZNAME:EDT
DTSTART:20230312T070000
END:DAYLIGHT
BEGIN:STANDARD
TZOFFSETFROM:-0400
TZOFFSETTO:-0500
TZNAME:EST
DTSTART:20231105T060000
END:STANDARD
BEGIN:DAYLIGHT
TZOFFSETFROM:-0500
TZOFFSETTO:-0400
TZNAME:EDT
DTSTART:20240310T070000
END:DAYLIGHT
BEGIN:STANDARD
TZOFFSETFROM:-0400
TZOFFSETTO:-0500
TZNAME:EST
DTSTART:20241103T060000
END:STANDARD
BEGIN:DAYLIGHT
TZOFFSETFROM:-0500
TZOFFSETTO:-0400
TZNAME:EDT
DTSTART:20250309T070000
END:DAYLIGHT
BEGIN:STANDARD
TZOFFSETFROM:-0400
TZOFFSETTO:-0500
TZNAME:EST
DTSTART:20251102T060000
END:STANDARD
END:VTIMEZONE
BEGIN:VEVENT
DTSTART;TZID=Asia/Tokyo:20240723T191500
DTEND;TZID=Asia/Tokyo:20240723T204500
DTSTAMP:20260420T093725
CREATED:20240713T141416Z
LAST-MODIFIED:20240713T141530Z
UID:41668-1721762100-1721767500@notoriousjazz.com
SUMMARY:HIBIKI ENOMOTO QUARTET
DESCRIPTION:Pianist and composer Hibiki Inamoto was born in Osaka\, Japan in 1977. At the age of 3\, he began piano lessons and at age 5 he made his stage debut with his clarinet musical father. He started his musical studies at age 18 where he gained the techniques of pianist master Alfred Cortot and interwined his own reform movement. During his studies\, his European tour received high appraisal from Germany’s major newspapers. \nUpon his return to Japan\, he met concert tuner master Yu Takagi with whom a specialized piano (New York Steinway (Steinway & Sons)) was prepared which Hibiki transports wherever city he tours. He has performed with world top members in the renowned Berlin Philharmonic Symphony Orchestra and secured foremost applaud from the classic world. \nAs composer and music director\, he has extended his great recognition in major Japanese films as “Nagai Sanpo” (A Long Walk) which received a Grand Prix Award at the Montreal World Film Festival\, “Hoshi Mamoru Inu” (A Dog’s Star Protection)\, “Ikigami” ((from Manga Living God)\, etc. His creativity has also extended to his own inventions including a piano tinbre (piano mute) patent (No. 4572092) where it became possible to play various tinbre (instrumental sounds) as bass\, cembello\, and percussion on one piano. \nThe Band: Hibiki Enomoto ~ piano | Kosuke Sugiuchi ~ guitar | Junichi Sato ~ bass | Hiroshi Kimura ~ drums \nCover: ¥4950
URL:https://notoriousjazz.com/event/hibiki-enomoto-quartet
LOCATION:Jazz House Alfie\, 6-2-35 Roppongi\, Minato-Ku\, Tokyo\, Japan
CATEGORIES:Club
ATTACH;FMTTYPE=image/jpeg:https://notoriousjazz.com/wp-content/uploads/2024/07/HIBIKI-ENOMOTO.jpg
END:VEVENT
BEGIN:VEVENT
DTSTART;TZID=America/New_York:20240723T193000
DTEND;TZID=America/New_York:20240723T223000
DTSTAMP:20260420T093725
CREATED:20240722T221536Z
LAST-MODIFIED:20240722T221536Z
UID:41779-1721763000-1721773800@notoriousjazz.com
SUMMARY:VIRGINIA MACDONALD | TODD MARCUS
DESCRIPTION:Juno Award-winning clarinetist Virginia MacDonald has established herself as a rising star of her generation. Known for her lyrical and soulful clarinet playing. As a highly in-demand bandleader\, sidewoman\, and composer\, Virginia keeps a regular performance schedule across Canada\, the United States\, and Europe.\n\n\nTodd Marcus is one of the few artists worldwide to focus on the bass clarinet as a main instrument in modern jazz with his small and large ensembles. His straight-ahead playing and compositions swing with fiery intensity balanced with delicate introspection.  His music offers a strong melodic sensibility\, draws from elements of his community work\, and often incorporate the Middle Eastern influences of his Egyptian-American heritage.\n\n\nTodd Marcus | Clarinet\n\n\nVirginia MacDonald | Clarinet\n\n\nBruce Barth | Piano\n\n\nBlake Meister | Bass\n\n\nEric Kennedy | Drums
URL:https://notoriousjazz.com/event/virginia-macdonald-todd-marcus
LOCATION:Smalls\, 183 West 10th Street - Basement\, New York City\, NY\, 10014\, United States
CATEGORIES:Club
ATTACH;FMTTYPE=image/png:https://notoriousjazz.com/wp-content/uploads/2024/06/VIRGINIA-MACDONALD-TODD-MARCUS.png
END:VEVENT
END:VCALENDAR