BEGIN:VCALENDAR
VERSION:2.0
PRODID:-//Notorious Jazz - ECPv6.15.17//NONSGML v1.0//EN
CALSCALE:GREGORIAN
METHOD:PUBLISH
X-WR-CALNAME:Notorious Jazz
X-ORIGINAL-URL:https://notoriousjazz.com
X-WR-CALDESC:Events for Notorious Jazz
REFRESH-INTERVAL;VALUE=DURATION:PT1H
X-Robots-Tag:noindex
X-PUBLISHED-TTL:PT1H
BEGIN:VTIMEZONE
TZID:America/Chicago
BEGIN:DAYLIGHT
TZOFFSETFROM:-0600
TZOFFSETTO:-0500
TZNAME:CDT
DTSTART:20230312T080000
END:DAYLIGHT
BEGIN:STANDARD
TZOFFSETFROM:-0500
TZOFFSETTO:-0600
TZNAME:CST
DTSTART:20231105T070000
END:STANDARD
BEGIN:DAYLIGHT
TZOFFSETFROM:-0600
TZOFFSETTO:-0500
TZNAME:CDT
DTSTART:20240310T080000
END:DAYLIGHT
BEGIN:STANDARD
TZOFFSETFROM:-0500
TZOFFSETTO:-0600
TZNAME:CST
DTSTART:20241103T070000
END:STANDARD
BEGIN:DAYLIGHT
TZOFFSETFROM:-0600
TZOFFSETTO:-0500
TZNAME:CDT
DTSTART:20250309T080000
END:DAYLIGHT
BEGIN:STANDARD
TZOFFSETFROM:-0500
TZOFFSETTO:-0600
TZNAME:CST
DTSTART:20251102T070000
END:STANDARD
END:VTIMEZONE
BEGIN:VEVENT
DTSTART;TZID=America/Chicago:20240724T193000
DTEND;TZID=America/Chicago:20240724T230000
DTSTAMP:20260420T093603
CREATED:20240705T011751Z
LAST-MODIFIED:20240705T011751Z
UID:41548-1721849400-1721862000@notoriousjazz.com
SUMMARY:DELFEAYO MARSALIS SEXTET
DESCRIPTION:Delfeayo Marsalis is one of the top trombonists\, composers\, and producers in jazz today. Early influences on Delfeayo’s style include J.J. Johnson\, Curtis Fuller\, Al Grey\, Tyree Glenn\, Tommy Dorsey\, and Duke Ellington’s trombone masters. From the age of 17 until the present\, he has produced over 100 recordings for major artists\, including Harry Connick Jr\, Spike Lee\, Terence Blanchard\, the Preservation Hall Jazz Band\, and his father and brothers.\n\n\n\n\nIn January 2011\, Delfeayo and the Marsalis family (father Ellis and brothers Branford\, Wynton\, and Jason) earned the nation’s highest jazz honor – a National Endowment for the Arts Jazz Masters Award\, thus dubbing them “America’s First Family of Jazz.”\n\nHe presents his sextet in an intimate experience like no other!
URL:https://notoriousjazz.com/event/delfeayo-marsalis-sextet-2
LOCATION:Snug Harbor\, 626 Frenchmen Street\, New Orleans\, LA\, 70116\, United States
CATEGORIES:Club
ATTACH;FMTTYPE=image/png:https://notoriousjazz.com/wp-content/uploads/2024/07/DELFEAYO-MARSALIS.png
END:VEVENT
END:VCALENDAR