BEGIN:VCALENDAR
VERSION:2.0
PRODID:-//Notorious Jazz - ECPv6.15.17//NONSGML v1.0//EN
CALSCALE:GREGORIAN
METHOD:PUBLISH
X-WR-CALNAME:Notorious Jazz
X-ORIGINAL-URL:https://notoriousjazz.com
X-WR-CALDESC:Events for Notorious Jazz
REFRESH-INTERVAL;VALUE=DURATION:PT1H
X-Robots-Tag:noindex
X-PUBLISHED-TTL:PT1H
BEGIN:VTIMEZONE
TZID:America/Los_Angeles
BEGIN:DAYLIGHT
TZOFFSETFROM:-0800
TZOFFSETTO:-0700
TZNAME:PDT
DTSTART:20230312T100000
END:DAYLIGHT
BEGIN:STANDARD
TZOFFSETFROM:-0700
TZOFFSETTO:-0800
TZNAME:PST
DTSTART:20231105T090000
END:STANDARD
BEGIN:DAYLIGHT
TZOFFSETFROM:-0800
TZOFFSETTO:-0700
TZNAME:PDT
DTSTART:20240310T100000
END:DAYLIGHT
BEGIN:STANDARD
TZOFFSETFROM:-0700
TZOFFSETTO:-0800
TZNAME:PST
DTSTART:20241103T090000
END:STANDARD
BEGIN:DAYLIGHT
TZOFFSETFROM:-0800
TZOFFSETTO:-0700
TZNAME:PDT
DTSTART:20250309T100000
END:DAYLIGHT
BEGIN:STANDARD
TZOFFSETFROM:-0700
TZOFFSETTO:-0800
TZNAME:PST
DTSTART:20251102T090000
END:STANDARD
END:VTIMEZONE
BEGIN:VTIMEZONE
TZID:America/New_York
BEGIN:DAYLIGHT
TZOFFSETFROM:-0500
TZOFFSETTO:-0400
TZNAME:EDT
DTSTART:20230312T070000
END:DAYLIGHT
BEGIN:STANDARD
TZOFFSETFROM:-0400
TZOFFSETTO:-0500
TZNAME:EST
DTSTART:20231105T060000
END:STANDARD
BEGIN:DAYLIGHT
TZOFFSETFROM:-0500
TZOFFSETTO:-0400
TZNAME:EDT
DTSTART:20240310T070000
END:DAYLIGHT
BEGIN:STANDARD
TZOFFSETFROM:-0400
TZOFFSETTO:-0500
TZNAME:EST
DTSTART:20241103T060000
END:STANDARD
BEGIN:DAYLIGHT
TZOFFSETFROM:-0500
TZOFFSETTO:-0400
TZNAME:EDT
DTSTART:20250309T070000
END:DAYLIGHT
BEGIN:STANDARD
TZOFFSETFROM:-0400
TZOFFSETTO:-0500
TZNAME:EST
DTSTART:20251102T060000
END:STANDARD
END:VTIMEZONE
BEGIN:VEVENT
DTSTART;TZID=America/Los_Angeles:20240725T190000
DTEND;TZID=America/Los_Angeles:20240727T230000
DTSTAMP:20260420T093601
CREATED:20240622T233122Z
LAST-MODIFIED:20240622T233630Z
UID:41342-1721934000-1722121200@notoriousjazz.com
SUMMARY:DANNY JANKLOW & ELEVATION
DESCRIPTION:Danny Janklow + Elevation Band ft. Katherine Ella Wood and Dennis Hamm \nDanny Janklow is an acclaimed saxophonist and composer\, recognized as a leading musical voice of his generation. He is celebrated for his work on the Grammy-winning “Monk’estra plays John Beasley” in 2021. His performances\, rooted in themes of justice and love\, have seen him share stages with icons like Stevie Wonder and Herbie Hancock. \nKatherine Ella Wood\, a Juilliard-trained vocalist from Miami\, is also in the jazz spotlight. Known for her rich\, nostalgic voice\, Katherine has captivated global audiences and brought her passion for jazz to prestigious venues alongside renowned musicians. Dennis Hamm is a renowned keyboardist and pianist known for his work with Thundercat\, Flying Lotus\, and Kamasi Washington. His unique style blends jazz\, rock\, and electronic influences\, making him a standout performer and a sought-after session musician in the music industry. Nicholas Clark is a producer\, musical director\, and bassist from Fort Worth\, Texas. His credits include working with Jon Batiste\, Kanye West\, HER\, Demi Lovato\, the San Francisco Symphony Orchestra\, the Indianapolis Symphony Orchestra\, Janelle Monae\, and many others. \nThe Band: Danny Janklow\, saxophone | Dennis Hamm\, piano\, keyboard | Nicholas Clark\, bass | Katherine Ella Wood\, vocals | Anthony Fung\, drums
URL:https://notoriousjazz.com/event/danny-janklow-elevation
LOCATION:Black Cat\, 400 Eddy Street\, San Francisco\, CA\, 94109\, United States
CATEGORIES:Club
ATTACH;FMTTYPE=image/jpeg:https://notoriousjazz.com/wp-content/uploads/2024/06/KATHERINE-WOOD-DANNY-JANKLOW.jpeg
END:VEVENT
BEGIN:VEVENT
DTSTART;TZID=America/New_York:20240725T193000
DTEND;TZID=America/New_York:20240725T210000
DTSTAMP:20260420T093601
CREATED:20240704T211124Z
LAST-MODIFIED:20240704T211124Z
UID:41526-1721935800-1721941200@notoriousjazz.com
SUMMARY:JANE BUNNETT & MAQUEQUE
DESCRIPTION:With Maqueque\, Jane Bunnett has created something new and phenomenal in the world of jazz. What started out five years ago as a project to record and mentor young brilliant Cuban female musicians\, has become one of the top groups on the North American jazz scene. Since 2015\, they have played in major jazz festivals like Newport and Monterey\, been featured on NPR’s program Jazz Night in America\, won a Juno Award for their first album\, Jane Bunnett and Maqueque\, were nominated for a Grammy Award for their second release\, Oddara and were nominated for a Juno Award for their latest release\, On Firm Ground/Tierra Firme. Most recently\, were voted as one the top ten jazz groups by the prestigious DownBeat magazine’s critics poll. \nAn internationally acclaimed musician\, Bunnett is known for her creative integrity\, improvisational daring\, and courageous artistry. Her exploration of Afro-Cuban melodies expresses the universality of music\, and her ability to embrace and showcase the rhythms and culture of Cuba has been ground-breaking. She has toured the world bringing her own special sound to numerous jazz festivals\, displaying her versatility as a flutist\, saxophone player\, and pianist. \n\nJane Bunnett ~ Soprano Saxophone & Flute\nDaniela Olano ~ Vocals & Violin\nMary Paz ~ Vocals & Congas\nDánae Olano ~ Piano\nTailin Marrero ~ Acoustic & electric bass\nIvanna Gonzalez ~ Drums \nOne Show:\nThursday 7/25 ~ 7:30 pm w/Live Stream
URL:https://notoriousjazz.com/event/jane-bunnett-maqueque
LOCATION:Keystone Korner Baltimore\, 1350 Lancaster Street\, Baltimore\, MD\, 21231\, United States
CATEGORIES:Club
ATTACH;FMTTYPE=image/png:https://notoriousjazz.com/wp-content/uploads/2024/07/JANE-BUNNETT.png
END:VEVENT
END:VCALENDAR