BEGIN:VCALENDAR
VERSION:2.0
PRODID:-//Notorious Jazz - ECPv6.15.17//NONSGML v1.0//EN
CALSCALE:GREGORIAN
METHOD:PUBLISH
X-ORIGINAL-URL:https://notoriousjazz.com
X-WR-CALDESC:Events for Notorious Jazz
REFRESH-INTERVAL;VALUE=DURATION:PT1H
X-Robots-Tag:noindex
X-PUBLISHED-TTL:PT1H
BEGIN:VTIMEZONE
TZID:America/New_York
BEGIN:DAYLIGHT
TZOFFSETFROM:-0500
TZOFFSETTO:-0400
TZNAME:EDT
DTSTART:20230312T070000
END:DAYLIGHT
BEGIN:STANDARD
TZOFFSETFROM:-0400
TZOFFSETTO:-0500
TZNAME:EST
DTSTART:20231105T060000
END:STANDARD
BEGIN:DAYLIGHT
TZOFFSETFROM:-0500
TZOFFSETTO:-0400
TZNAME:EDT
DTSTART:20240310T070000
END:DAYLIGHT
BEGIN:STANDARD
TZOFFSETFROM:-0400
TZOFFSETTO:-0500
TZNAME:EST
DTSTART:20241103T060000
END:STANDARD
BEGIN:DAYLIGHT
TZOFFSETFROM:-0500
TZOFFSETTO:-0400
TZNAME:EDT
DTSTART:20250309T070000
END:DAYLIGHT
BEGIN:STANDARD
TZOFFSETFROM:-0400
TZOFFSETTO:-0500
TZNAME:EST
DTSTART:20251102T060000
END:STANDARD
END:VTIMEZONE
BEGIN:VEVENT
DTSTART;TZID=America/New_York:20240808T200000
DTEND;TZID=America/New_York:20240811T235900
DTSTAMP:20260420T075548
CREATED:20240803T201149Z
LAST-MODIFIED:20240803T201252Z
UID:41933-1723147200-1723420740@notoriousjazz.com
SUMMARY:GARY BARTZ
DESCRIPTION:NEA Jazz Master Gary Bartz has been one of the best purveyors of what he calls “informal composition” (as opposed to improvisation) on alto saxophone since the 1960s\, working with such luminaries as Max Roach\, Charles Mingus\, Art Blakey\, and Miles Davis. He has released more than 45 solo albums and appears on more than 200 as a guest artist\, as well as working with some of the up-and-coming artists in jazz today\, such as Ali Shaheed Muhammad and Adrian Younge for their Jazz Is Dead series and the jazz-funk band Maisha. \nBartz was born in Baltimore\, Maryland\, to nightclub-owning parents and was exposed to many great jazz artists who played at their club. He was 6 when he was inspired by the sound of Charlie Parker\, and received his first alto saxophone at the age of 11. He attended the Juilliard School in New York City in 1958. He joined the Charles Mingus Jazz Workshop from 1962 to 1964\, meeting jazz giants Eric Dolphy and Rahsaan Roland Kirk. He also began working with the Max Roach/Abbey Lincoln group in 1964. In 1965\, Bartz was recruited into Art Blakey’s Jazz Messengers while they played at his parents’ club\, taking John Gilmore’s position in the band. He made his recording debut with Blakey on Soulfingerthat same year. \nIn 1970\, Miles Davis asked Bartz to join his band and perform at the historic Isle of Wight Festival and his subsequent tour. Bartz is featured on Davis’ Live/Evil recording. Bartz also formed his own group\, NTU Troop\, named for the Bantu word for “essence.” The group blended soul\, funk\, African folk music\, hard bop\, and avant-garde jazz and recorded one of Bartz’s first classics\, I’ve Known Rivers and Other Bodies\, based on the poetry of Langston Hughes. His NTU Troop recordings are often sampled by hip-hop artists. \nIn 1997\, he was awarded a Grammy Award for Best Latin Jazz Performance for his work on Roy Hargrove’s Habana album\, and\, in 2005\, he received a Grammy Award for his work as a sideman on McCoy Tyner’s recording Illuminations. In 2015\, Bartz received the BNY Mellon Jazz Living Legacy Award that honors jazz musicians from the mid-Atlantic region who have achieved distinction in performance and education. \nSince 2001\, Bartz has been a professor of saxophone and jazz performance at Oberlin Conservatory in Ohio. Bartz focuses his teaching on finding new ways for his students to “open their ears” and presses his Oberlin students to truly hear the music they think they know so well.
URL:https://notoriousjazz.com/event/gary-bartz
LOCATION:Blue Note ~ New York\, 131 W. 3rd Street\, New York City\, NY\, 10012\, United States
CATEGORIES:Club
ATTACH;FMTTYPE=image/png:https://notoriousjazz.com/wp-content/uploads/2024/08/GARY-BARTZ.png
END:VEVENT
END:VCALENDAR