BEGIN:VCALENDAR
VERSION:2.0
PRODID:-//Notorious Jazz - ECPv6.15.17//NONSGML v1.0//EN
CALSCALE:GREGORIAN
METHOD:PUBLISH
X-WR-CALNAME:Notorious Jazz
X-ORIGINAL-URL:https://notoriousjazz.com
X-WR-CALDESC:Events for Notorious Jazz
REFRESH-INTERVAL;VALUE=DURATION:PT1H
X-Robots-Tag:noindex
X-PUBLISHED-TTL:PT1H
BEGIN:VTIMEZONE
TZID:America/New_York
BEGIN:DAYLIGHT
TZOFFSETFROM:-0500
TZOFFSETTO:-0400
TZNAME:EDT
DTSTART:20230312T070000
END:DAYLIGHT
BEGIN:STANDARD
TZOFFSETFROM:-0400
TZOFFSETTO:-0500
TZNAME:EST
DTSTART:20231105T060000
END:STANDARD
BEGIN:DAYLIGHT
TZOFFSETFROM:-0500
TZOFFSETTO:-0400
TZNAME:EDT
DTSTART:20240310T070000
END:DAYLIGHT
BEGIN:STANDARD
TZOFFSETFROM:-0400
TZOFFSETTO:-0500
TZNAME:EST
DTSTART:20241103T060000
END:STANDARD
BEGIN:DAYLIGHT
TZOFFSETFROM:-0500
TZOFFSETTO:-0400
TZNAME:EDT
DTSTART:20250309T070000
END:DAYLIGHT
BEGIN:STANDARD
TZOFFSETFROM:-0400
TZOFFSETTO:-0500
TZNAME:EST
DTSTART:20251102T060000
END:STANDARD
END:VTIMEZONE
BEGIN:VEVENT
DTSTART;TZID=America/New_York:20241002T213000
DTEND;TZID=America/New_York:20241002T230000
DTSTAMP:20260420T041357
CREATED:20240929T175827Z
LAST-MODIFIED:20240929T175827Z
UID:42707-1727904600-1727910000@notoriousjazz.com
SUMMARY:CHARITO IN PARIS
DESCRIPTION:Distinctively a most prominent jazz vocalist in Japan with multi-awarded albums recorded and released internationally\, Charito’s artistry continues to establish its global presence with her recent and forthcoming tours in Europe\, Asia\, North and Latin America. \nHer highly personal and expressive vocal style incorporates the breadth of her musical interests\, from straight-ahead soulful ballads to hard-swinging grooves and improvisational adventures. Her approach is fresh and invigorating\, paying tribute to the jazz tradition while interacting and exploring\, always seeking to express herself in the moment. \nIn Ms. Nancy Wilson’s words\,  ”The first time I heard Charito\, I physically and emotionally embraced her and thought myself beautiful\, that came from the heart and the soul. She has a warm way of presenting a song and she represents what a singer really is\, a song stylist.” ~  for ‘This Girl’ 1990 \nPerformance Venue: Sunside \nBand: Charito – voice\nVinh Lê – piano\nMichel Rosciglione – bass\nHidéhiko Kan – drums \nCover: 18.00€ ~ 28.00€
URL:https://notoriousjazz.com/event/charito-in-paris
LOCATION:Sunset | Sunside\, 60 Rue des Lombards\, 75001 Paris\, France
CATEGORIES:Club
ATTACH;FMTTYPE=image/jpeg:https://notoriousjazz.com/wp-content/uploads/2024/09/CHARITO.jpeg
END:VEVENT
END:VCALENDAR