BEGIN:VCALENDAR
VERSION:2.0
PRODID:-//Notorious Jazz - ECPv6.15.17//NONSGML v1.0//EN
CALSCALE:GREGORIAN
METHOD:PUBLISH
X-ORIGINAL-URL:https://notoriousjazz.com
X-WR-CALDESC:Events for Notorious Jazz
REFRESH-INTERVAL;VALUE=DURATION:PT1H
X-Robots-Tag:noindex
X-PUBLISHED-TTL:PT1H
BEGIN:VTIMEZONE
TZID:America/New_York
BEGIN:DAYLIGHT
TZOFFSETFROM:-0500
TZOFFSETTO:-0400
TZNAME:EDT
DTSTART:20230312T070000
END:DAYLIGHT
BEGIN:STANDARD
TZOFFSETFROM:-0400
TZOFFSETTO:-0500
TZNAME:EST
DTSTART:20231105T060000
END:STANDARD
BEGIN:DAYLIGHT
TZOFFSETFROM:-0500
TZOFFSETTO:-0400
TZNAME:EDT
DTSTART:20240310T070000
END:DAYLIGHT
BEGIN:STANDARD
TZOFFSETFROM:-0400
TZOFFSETTO:-0500
TZNAME:EST
DTSTART:20241103T060000
END:STANDARD
BEGIN:DAYLIGHT
TZOFFSETFROM:-0500
TZOFFSETTO:-0400
TZNAME:EDT
DTSTART:20250309T070000
END:DAYLIGHT
BEGIN:STANDARD
TZOFFSETFROM:-0400
TZOFFSETTO:-0500
TZNAME:EST
DTSTART:20251102T060000
END:STANDARD
END:VTIMEZONE
BEGIN:VEVENT
DTSTART;TZID=America/New_York:20241018T193000
DTEND;TZID=America/New_York:20241018T220000
DTSTAMP:20260420T041548
CREATED:20240929T191803Z
LAST-MODIFIED:20240929T191803Z
UID:42718-1729279800-1729288800@notoriousjazz.com
SUMMARY:EUGENIE JONES
DESCRIPTION:Eugenie Jones is an award-winning American Jazz singer/songwriter\, producer\, and legacy activist. Born and raised in Morgantown\, West Virginia\, Jones grew up with four sisters and three brothers. Her father\, Eugene\, was the choir director at the family’s church\, and her mother\, Tommie Lee\, was the choir’s lead soprano. Jones grew up listening to her mother’s voice\, perpetually singing around the house and at local community events. However\, in these early years\, Jones possessed no latent desire to follow in her mother’s footsteps. She grew up\, earned her MBA\, and eventually made her home in Seattle\, entering the business world as a nonprofit marketing communications expert working in housing for the homeless advocacy. \nHer singing career began late in life after the death of her mother in 2008. “Beyond my grief\, I felt a void that I later recognized as missing the sound of my mother singing. Seeking solace and a positive way forward\, I wondered if I could carry on that part of her.” That speculation led Jones to the Seattle jazz scene and ultimately to pursue something she had never imagined – a career in music. On her independent label\, Open Mic Records\, Jones has successfully produced three award-winning recording projects comprised primarily of her original material. She has recorded more than 30 original songs and is characterized as a “cleverly gifted lyricist.” Her projects have resulted in her winning the Pacific NW Earshot Jazz Vocalist of the Year and Recording of the Year Golden Ear awards. \nThe Band: \nEugenie Jones ~ voice\nPeter Adams ~ piano\nJonathan Green ~ upright bass\nRon Steen ~ drums
URL:https://notoriousjazz.com/event/eugenie-jones-11
LOCATION:The Jazz Station\, 124 W Broadway\, Eugene\, OR\, 97401\, United States
CATEGORIES:Club
ATTACH;FMTTYPE=image/png:https://notoriousjazz.com/wp-content/uploads/2024/09/EUGENIE-JONES.png
END:VEVENT
END:VCALENDAR