BEGIN:VCALENDAR
VERSION:2.0
PRODID:-//Notorious Jazz - ECPv6.15.17//NONSGML v1.0//EN
CALSCALE:GREGORIAN
METHOD:PUBLISH
X-ORIGINAL-URL:https://notoriousjazz.com
X-WR-CALDESC:Events for Notorious Jazz
REFRESH-INTERVAL;VALUE=DURATION:PT1H
X-Robots-Tag:noindex
X-PUBLISHED-TTL:PT1H
BEGIN:VTIMEZONE
TZID:America/New_York
BEGIN:DAYLIGHT
TZOFFSETFROM:-0500
TZOFFSETTO:-0400
TZNAME:EDT
DTSTART:20230312T070000
END:DAYLIGHT
BEGIN:STANDARD
TZOFFSETFROM:-0400
TZOFFSETTO:-0500
TZNAME:EST
DTSTART:20231105T060000
END:STANDARD
BEGIN:DAYLIGHT
TZOFFSETFROM:-0500
TZOFFSETTO:-0400
TZNAME:EDT
DTSTART:20240310T070000
END:DAYLIGHT
BEGIN:STANDARD
TZOFFSETFROM:-0400
TZOFFSETTO:-0500
TZNAME:EST
DTSTART:20241103T060000
END:STANDARD
BEGIN:DAYLIGHT
TZOFFSETFROM:-0500
TZOFFSETTO:-0400
TZNAME:EDT
DTSTART:20250309T070000
END:DAYLIGHT
BEGIN:STANDARD
TZOFFSETFROM:-0400
TZOFFSETTO:-0500
TZNAME:EST
DTSTART:20251102T060000
END:STANDARD
END:VTIMEZONE
BEGIN:VTIMEZONE
TZID:America/Chicago
BEGIN:DAYLIGHT
TZOFFSETFROM:-0600
TZOFFSETTO:-0500
TZNAME:CDT
DTSTART:20230312T080000
END:DAYLIGHT
BEGIN:STANDARD
TZOFFSETFROM:-0500
TZOFFSETTO:-0600
TZNAME:CST
DTSTART:20231105T070000
END:STANDARD
BEGIN:DAYLIGHT
TZOFFSETFROM:-0600
TZOFFSETTO:-0500
TZNAME:CDT
DTSTART:20240310T080000
END:DAYLIGHT
BEGIN:STANDARD
TZOFFSETFROM:-0500
TZOFFSETTO:-0600
TZNAME:CST
DTSTART:20241103T070000
END:STANDARD
BEGIN:DAYLIGHT
TZOFFSETFROM:-0600
TZOFFSETTO:-0500
TZNAME:CDT
DTSTART:20250309T080000
END:DAYLIGHT
BEGIN:STANDARD
TZOFFSETFROM:-0500
TZOFFSETTO:-0600
TZNAME:CST
DTSTART:20251102T070000
END:STANDARD
END:VTIMEZONE
BEGIN:VTIMEZONE
TZID:America/Los_Angeles
BEGIN:DAYLIGHT
TZOFFSETFROM:-0800
TZOFFSETTO:-0700
TZNAME:PDT
DTSTART:20230312T100000
END:DAYLIGHT
BEGIN:STANDARD
TZOFFSETFROM:-0700
TZOFFSETTO:-0800
TZNAME:PST
DTSTART:20231105T090000
END:STANDARD
BEGIN:DAYLIGHT
TZOFFSETFROM:-0800
TZOFFSETTO:-0700
TZNAME:PDT
DTSTART:20240310T100000
END:DAYLIGHT
BEGIN:STANDARD
TZOFFSETFROM:-0700
TZOFFSETTO:-0800
TZNAME:PST
DTSTART:20241103T090000
END:STANDARD
BEGIN:DAYLIGHT
TZOFFSETFROM:-0800
TZOFFSETTO:-0700
TZNAME:PDT
DTSTART:20250309T100000
END:DAYLIGHT
BEGIN:STANDARD
TZOFFSETFROM:-0700
TZOFFSETTO:-0800
TZNAME:PST
DTSTART:20251102T090000
END:STANDARD
END:VTIMEZONE
BEGIN:VEVENT
DTSTART;TZID=America/New_York:20241025T181500
DTEND;TZID=America/New_York:20241026T220000
DTSTAMP:20260420T041549
CREATED:20241020T181523Z
LAST-MODIFIED:20241020T183338Z
UID:43024-1729880100-1729980000@notoriousjazz.com
SUMMARY:BOB JAMES
DESCRIPTION:The career of Bob James is long\, varied and continues to evolve at every turn. From his first days in Marshall\, Missouri\, the music of Bob James has captivated audiences throughout the world. \nDiscovered by Quincy Jones at the Notre Dame Jazz Festival in 1963\, James recorded his first solo album\, Bold Conceptions\, that year for Mercury Records. 58 albums and innumerable awards would follow through five decades. He honed his skills working with Creed Taylor\, working on albums for artists like Hank Crawford\, Grover Washington\, Jr\, among others.  While with CTI\, James found great popular success overseeing significant hits for Paul Simon\, Neil Diamond\, Maynard Ferguson\, and Kenny Loggins. \nIn 1974\, James finally recorded his own album\, One\, which launched a lifelong career of recording and performing live. After three more albums\, James began his own label\, Tappan Zee Records.   This allowed James to spend more time in the studio\, focusing on his own creative works.  It was during this time that he recorded his own gold seller\, Touchdown\, which included his composition\, “Angela”\, the instrumental theme from the sitcom Taxi\, and possibly James’ best know work.  Bob composed all the original music used in that television series for its entire run. One On One\, the first in three collaborations with Earl Klugh\, was awarded a Grammy in 1980 for Best Pop Instrumental Performance\, and has sold over a million copies. During this time\, James set the standard for the smooth jazz sound in the late 1970s. \nCover: $56 ~ $80
URL:https://notoriousjazz.com/event/bob-james-2
LOCATION:Middle C Jazz\, 300 South Brevard Street\, Charlotte\, NC\, 28202\, United States
CATEGORIES:Club
ATTACH;FMTTYPE=image/jpeg:https://notoriousjazz.com/wp-content/uploads/2024/10/BOB-JAMES.jpg
END:VEVENT
BEGIN:VEVENT
DTSTART;TZID=America/Chicago:20241025T193000
DTEND;TZID=America/Chicago:20241025T230000
DTSTAMP:20260420T041549
CREATED:20240929T210321Z
LAST-MODIFIED:20240929T210321Z
UID:42742-1729884600-1729897200@notoriousjazz.com
SUMMARY:BOSMAN TWINS QUINTET
DESCRIPTION:The Music of Miles Davis and Cannonball Adderley \n\nBorn in St. Louis\, Missouri\, Dwayne’s and Dwight’s passion for jazz started at an early age.  They grew up listening to the sounds of great jazz artists such as Earl “Fatha” Hines\, Count Basie\, Duke Ellington and their father Lloyd Smith\, who was a well known businessman and a side man in Basie’s and Ellington’s orchestras. Paula V. Smith\, the twins’ mother and the first African American Administrator of the Wage and Hour Division for the U.S. Department of Labor under the Regan Administration\, was also an avid jazz lover. Influenced by famous musicians\, like family friends\, Louis Armstrong\, John Coltrane and Charlie Parker\, by age 14 the twins were performing professionally as The Bosman Twins.  Over the years\, The Bosman Twins have shared their love of music and the stage with entertainment legends Freddie Cole\, Branford Marsalis\, Fontella Bass\, Roy Ayers\, David Peaston and the late trumpeter\, Lester Bowie.   Whether performing with their own band or accompanying other notable jazz professionals\, their unique style and renditions of jazz\, rhythm and blues\, funk and gospel have earned them national and international acclaim.   \n\n\nThe Group: Dwayne Bosman – saxophone | Dwight Bosman – saxophone | Kevin Fort – piano | Mark Sonksen – bass | Ernie Adams – drums \nCover: $27.75 ~ $37.75
URL:https://notoriousjazz.com/event/bosman-twins-quintet
LOCATION:Winter’s Jazz Club\, 465 N McClurg Court\, Chicago\, IL\, 60611\, United States
CATEGORIES:Club
ATTACH;FMTTYPE=image/jpeg:https://notoriousjazz.com/wp-content/uploads/2024/09/BOSMAN-TWINS.jpeg
END:VEVENT
BEGIN:VEVENT
DTSTART;TZID=America/Los_Angeles:20241025T200000
DTEND;TZID=America/Los_Angeles:20241026T233000
DTSTAMP:20260420T041549
CREATED:20241020T190140Z
LAST-MODIFIED:20241020T190140Z
UID:43029-1729886400-1729985400@notoriousjazz.com
SUMMARY:BILLY CHILDS
DESCRIPTION:Six Time Grammy Winner and seventeen time nominee Billy Childs has emerged as one of the foremost American composers of his era\, perhaps the most distinctly American composer since Aaron Copland – for like Copland\, he has successfully married the musical products of his heritage with the Western neoclassical traditions of the twentieth century in a powerful symbiosis of style\, range\, and dynamism. \nHe has received orchestral and chamber commissions from\, among others: Esa-Pekka Salonen and the Los Angeles Philharmonic\, the Detroit Symphony Orchestra under the baton of Leonard Slatkin\, the Los Angeles Master Chorale\, the National Symphony\, the Minnesota Orchestra\, the Orpheus Orchestra\, the St. Paul Chamber Orchestra\, the Kronos Quartet\, the Dorian Wind Quintet\, the Lincoln Center Jazz Orchestra\, the Isidore Quartet\, the American Brass Quintet\, the Ying Quartet\, the Lyris Quartet\, Anne Akiko Meyers\, Rachel Barton Pine\, and Inna Faliks. His works have been performed at Carnegie Hall\, Kennedy Center\, and Disney Concert Hall. \nJimmy Johnson ~ Bass\nJustin Brown ~ Drums\nAndrew Renfroe ~ Guitar\nBilly Childs ~ Rhodes \n$40.00 1st Set Inside Seating (+$4.25 fee)\n$35.00 2nd Set Inside Seating (+$4.25 fee)\n$20.00 Patio Seating (+$4.25 fee) | Live video concert and you are NOT inside the club
URL:https://notoriousjazz.com/event/billy-childs
LOCATION:The Baked Potato\, 3787 Cahuenga Boulevard\, Studio City\, CA\, 91604\, United States
CATEGORIES:Club
ATTACH;FMTTYPE=image/jpeg:https://notoriousjazz.com/wp-content/uploads/2024/10/BILLY-CHILDS.jpeg
END:VEVENT
END:VCALENDAR