BEGIN:VCALENDAR
VERSION:2.0
PRODID:-//Notorious Jazz - ECPv6.15.17//NONSGML v1.0//EN
CALSCALE:GREGORIAN
METHOD:PUBLISH
X-ORIGINAL-URL:https://notoriousjazz.com
X-WR-CALDESC:Events for Notorious Jazz
REFRESH-INTERVAL;VALUE=DURATION:PT1H
X-Robots-Tag:noindex
X-PUBLISHED-TTL:PT1H
BEGIN:VTIMEZONE
TZID:America/New_York
BEGIN:DAYLIGHT
TZOFFSETFROM:-0500
TZOFFSETTO:-0400
TZNAME:EDT
DTSTART:20230312T070000
END:DAYLIGHT
BEGIN:STANDARD
TZOFFSETFROM:-0400
TZOFFSETTO:-0500
TZNAME:EST
DTSTART:20231105T060000
END:STANDARD
BEGIN:DAYLIGHT
TZOFFSETFROM:-0500
TZOFFSETTO:-0400
TZNAME:EDT
DTSTART:20240310T070000
END:DAYLIGHT
BEGIN:STANDARD
TZOFFSETFROM:-0400
TZOFFSETTO:-0500
TZNAME:EST
DTSTART:20241103T060000
END:STANDARD
BEGIN:DAYLIGHT
TZOFFSETFROM:-0500
TZOFFSETTO:-0400
TZNAME:EDT
DTSTART:20250309T070000
END:DAYLIGHT
BEGIN:STANDARD
TZOFFSETFROM:-0400
TZOFFSETTO:-0500
TZNAME:EST
DTSTART:20251102T060000
END:STANDARD
END:VTIMEZONE
BEGIN:VEVENT
DTSTART;TZID=America/New_York:20241027T170000
DTEND;TZID=America/New_York:20241027T210000
DTSTAMP:20260420T024438
CREATED:20241020T163122Z
LAST-MODIFIED:20241020T163122Z
UID:43010-1730048400-1730062800@notoriousjazz.com
SUMMARY:KEYON HARROLD
DESCRIPTION:Keyon Harrold Present “Foreverland” \nAn inventive\, multidisciplinary\, genre-fluid artist; trumpeter and vocalist; a composer\, arranger\, and platinum music producer; bandleader and major recording artist\,Keyon Harrold’s career is a spectrum of greatness. From touring and recording with Jay-z and Cirque Du Soleil to being signed by legendary Rapper Nas (Mass Appeal) and writing the theme song for The Queen Latifah’s Show. Harrold is a first-call artist with feature credits with Keith Richards\, Black Pumas\, Mac Miller (Stay)\, and Nas (The Jarreau of Rap) and Harrold’s latest collaboration with UK crooner Samm Henshaw        (Still Broke). Keyon is a frequent collaborator with YEBBA\, Robert Glasper\, Maxwell\, Common\, PJ Morton\, and Gregory Porter. He is an activist for social justice and equality. \n$35 ~ $45 | $15 Streaming Pass (plus fees)
URL:https://notoriousjazz.com/event/keyon-harrold-4
LOCATION:Keystone Korner Baltimore\, 1350 Lancaster Street\, Baltimore\, MD\, 21231\, United States
CATEGORIES:Club
ATTACH;FMTTYPE=image/jpeg:https://notoriousjazz.com/wp-content/uploads/2024/10/KEYON-HARROLD.jpeg
END:VEVENT
END:VCALENDAR