BEGIN:VCALENDAR
VERSION:2.0
PRODID:-//Notorious Jazz - ECPv6.15.17//NONSGML v1.0//EN
CALSCALE:GREGORIAN
METHOD:PUBLISH
X-WR-CALNAME:Notorious Jazz
X-ORIGINAL-URL:https://notoriousjazz.com
X-WR-CALDESC:Events for Notorious Jazz
REFRESH-INTERVAL;VALUE=DURATION:PT1H
X-Robots-Tag:noindex
X-PUBLISHED-TTL:PT1H
BEGIN:VTIMEZONE
TZID:America/New_York
BEGIN:DAYLIGHT
TZOFFSETFROM:-0500
TZOFFSETTO:-0400
TZNAME:EDT
DTSTART:20230312T070000
END:DAYLIGHT
BEGIN:STANDARD
TZOFFSETFROM:-0400
TZOFFSETTO:-0500
TZNAME:EST
DTSTART:20231105T060000
END:STANDARD
BEGIN:DAYLIGHT
TZOFFSETFROM:-0500
TZOFFSETTO:-0400
TZNAME:EDT
DTSTART:20240310T070000
END:DAYLIGHT
BEGIN:STANDARD
TZOFFSETFROM:-0400
TZOFFSETTO:-0500
TZNAME:EST
DTSTART:20241103T060000
END:STANDARD
BEGIN:DAYLIGHT
TZOFFSETFROM:-0500
TZOFFSETTO:-0400
TZNAME:EDT
DTSTART:20250309T070000
END:DAYLIGHT
BEGIN:STANDARD
TZOFFSETFROM:-0400
TZOFFSETTO:-0500
TZNAME:EST
DTSTART:20251102T060000
END:STANDARD
END:VTIMEZONE
BEGIN:VEVENT
DTSTART;TZID=America/New_York:20241122T170000
DTEND;TZID=America/New_York:20241124T230000
DTSTAMP:20260420T024256
CREATED:20241116T211928Z
LAST-MODIFIED:20241116T221936Z
UID:43462-1732294800-1732489200@notoriousjazz.com
SUMMARY:SY SMITH
DESCRIPTION:Sy Smith has proven throughout her career that an R&B artist can be progressive while remaining firmly rooted in tradition. Foremost a singer with a vocal range spanning five octaves\, Smith began an unending succession of background gigs with Whitney Houston in the late ’90s\, and has since worked closely with Grammy-winning trumpeter Chris Botti and Grammy-nominated group the Foreign Exchange\, among dozens of other artists. After a brief period signed to a major\, Smith established an independent label of her own\, an outlet for compositionally solid and sonically adventurous albums including The Syberspace Social (2005)\, Conflict (2008)\, Fast and Curious (2012)\, and the entirely self-produced Sometimes a Rose Will Grow in Concrete (2018). \nSy raises her own bar and then leaps over it with her latest offering “Until We Meet Again” – her critically-acclaimed album produced by Zo! & Tall Black Guy\, executive produced by Phonte Coleman and released on +FE Music in January 2024. This mellifluously soulful LP is drawing comparisons to Minnie Riperton and Deniece Williams and is already being called “the album of the year” by a few critics. Music journalist Mark Chappelle says “Smith evokes multiple traditions at once. With the sincerity of Diana Ross dedicating “Missing You” to Marvin Gaye\, Smith lets her voice levitate until it breaks—as if just the right frequency could resurrect a loved one.” \nCover: $39.00 +fee
URL:https://notoriousjazz.com/event/sy-smith
LOCATION:South\, 600 N. Broad Street\, Philadelphia\, PA\, 19130\, United States
CATEGORIES:Club
ATTACH;FMTTYPE=image/jpeg:https://notoriousjazz.com/wp-content/uploads/2024/11/SY-SMITH-SOUTH-JAZZ-KITCHEN-11.22-24.jpeg
END:VEVENT
BEGIN:VEVENT
DTSTART;TZID=America/New_York:20241122T190000
DTEND;TZID=America/New_York:20241122T210000
DTSTAMP:20260420T024256
CREATED:20241027T181521Z
LAST-MODIFIED:20241027T183154Z
UID:43125-1732302000-1732309200@notoriousjazz.com
SUMMARY:JOE ALTERMAN TRIO
DESCRIPTION:Atlanta native Joe Alterman has performed at venues from the Kennedy Center and Lincoln Center to famed jazz clubs Birdland and Blue Note in New York as well as Eddie’s Attic in Atlanta. His skills and his joyful approach to music have been praised by such jazz greats as Les McCann\, Ramsey Lewis\, and Ahmad Jamal.  \nIn addition to his mastery of jazz piano\, Joe’s creativity can be seen in his leadership of the revamped Atlanta Jewish Music Festival\, now known as the Neranenah Festival. \nTickets: $25.00 + $3.52 fee ~ Adult | $15.00 (+$2.85 fee) ~ Student
URL:https://notoriousjazz.com/event/joe-alterman-trio
LOCATION:All Saints Church\, 634 W Peachtree Street NW\, Atlanta\, GA\, 30308\, United States
CATEGORIES:Concert
ATTACH;FMTTYPE=image/jpeg:https://notoriousjazz.com/wp-content/uploads/2024/10/JOE-ALTERMAN.jpeg
END:VEVENT
BEGIN:VEVENT
DTSTART;TZID=America/New_York:20241122T190000
DTEND;TZID=America/New_York:20241122T223000
DTSTAMP:20260420T024256
CREATED:20241103T213758Z
LAST-MODIFIED:20241103T213758Z
UID:43280-1732302000-1732314600@notoriousjazz.com
SUMMARY:DEBO RAY
DESCRIPTION:Grammy-nominated\, vocalist extraordinaire Debo Ray is an immersive musical and visual experience. She has performed on some of the world’s biggest stages: Newport and Monterey Jazz\, Carnegie Hall\, The Hollywood Bowl and more. \nHer versatility from neo-soul/R&B to jazz\, pop\, classical/opera and rock is unmatched. In a Boston Globe feature\, music critic Jon Garelick asks: “Is there anything Debo Ray can’t sing?” as well as describing her “emotional expression and charismatic stage presence”. \nDebo recently completed recording her first album of original contemporary R&B material which she co-wrote along with\, among others\, Grammy winning producer Prince Charles Alexander.  Each song tells a bold\, unique story musically and lyrically.
URL:https://notoriousjazz.com/event/debo-ray
LOCATION:Scullers Jazz Club\, 400 Soldiers Field Road\, Boston\, MA\, 02134\, United States
CATEGORIES:Club
ATTACH;FMTTYPE=image/jpeg:https://notoriousjazz.com/wp-content/uploads/2024/11/DEBO-RAY.jpg
END:VEVENT
BEGIN:VEVENT
DTSTART;TZID=America/New_York:20241122T190000
DTEND;TZID=America/New_York:20241122T230000
DTSTAMP:20260420T024256
CREATED:20241111T193904Z
LAST-MODIFIED:20241116T200753Z
UID:43412-1732302000-1732316400@notoriousjazz.com
SUMMARY:NICHOLAS PAYTON NOUVEAUX STANDARDS
DESCRIPTION:As a leading voice in American popular music\, the Grammy Award-winning trumpeter is a multi-instrumentalist\, vocalist\, composer\, producer\, arranger\, essayist\, and social activist who defies musical and artistic categories. All the while\, he honors the tradition of what he terms “postmodern New Orleans music\,” as well as the spirit of Black American Music\, of which he states\, “There are no fields\, per se. There are lineages.” \nThe New Orleans-born Payton has followed his calling since growing up under the tutelage of his parents — acclaimed bassist Walter Payton and Maria Payton\, a pianist and vocalist. Already a prodigy before entering the first grade\, he began playing trumpet at age four and started performing professionally at age 10. Before the age of 20\, he was already in demand by everyone from Danny Barker and Clark Terry to Elvin Jones and Marcus Roberts. Payton released his first album\, From this Moment\, in 1995 on the famed Verve label. He received his first Grammy nomination in 1997 for the album Doc Cheatham & Nicholas Payton\, and for the category of Best Instrumental Solo\, which found him winning the award that year. \nNicholas Payton | trumpet\nGerald Clayton | piano\nVicente Archer | bass\nBill Stewart | drums \nCover: $40.00~$50.00 + fee | Streaming: $15.00 + fee
URL:https://notoriousjazz.com/event/nicholas-payton
LOCATION:Keystone Korner Baltimore\, 1350 Lancaster Street\, Baltimore\, MD\, 21231\, United States
CATEGORIES:Club
ATTACH;FMTTYPE=image/jpeg:https://notoriousjazz.com/wp-content/uploads/2024/11/NICHOLAS-PAYTON-2.jpg
END:VEVENT
BEGIN:VEVENT
DTSTART;TZID=America/New_York:20241122T200000
DTEND;TZID=America/New_York:20241122T220000
DTSTAMP:20260420T024256
CREATED:20241103T220230Z
LAST-MODIFIED:20241103T220230Z
UID:43283-1732305600-1732312800@notoriousjazz.com
SUMMARY:SHERYL BAILEY QUARTET
DESCRIPTION:Her own trio\, The Sheryl Bailey 3\, is a modernized version of the organ trio-“the ultimate organ trio” according to JazzInside Magazine. In addition to their 15-year plus residency at NYC’s 55 Bar\, they have toured China\, Canada\, Europe and the US. She also tours the world as a member of David Krakauer’s “Ancestral Groove”. A partial list of others with whom she has performed and recorded with includes Richard Bona\, George Garzone\, Lincoln Goines\, Kim Plainfield\, Bill O’Connell\, Mike LeDonne\, Irene Cara\, Lea Delaria\, Jack Wilkins\, Howard Alden\, Shingo Okudaira\, Ingrid Jensen\, Dwayne Burno\, Tommy Campbell\, Simon Woolf\, Alex Garnett and Ken Peplowski. \nSheryl is a Professor at Berklee College of Music\, and at the Collective in New York. In keeping with Sheryl’s philosophy of “giving back”\, her 2011 quartet release\, “For All Those Living” donates 20% of sales to the Ronald McDonald House of NYC. She has been an Artist in Residence at countless other programs\, including NYU\, Bates College\, the Stanford Jazz Workshop\, Towson University\, the LA Music Academy and GIT. In 2009\, Mel Bay published her book Moveable Shapes: Concepts for Re-Harmonizing II-V-I’s. She has also developed a complete curriculum in jazz improvisation for interactive cyber study via Truefire’s Guitar Sherpa program\, The Bebop Dojo. In addition she has top selling courses available from Mike’s Masterclasses\, Jazz Guitar Society\, JamPlay\, and Truefire. \nFeaturing Ian Froman\, Ron Owanski\, Mike Fahn \nCover: $25.00
URL:https://notoriousjazz.com/event/sheryl-bailey-quartet
LOCATION:Maureen’s Jazz Cellar\, 2 N Broadway\, Nyack\, NY\, 10960\, United States
CATEGORIES:Club
ATTACH;FMTTYPE=image/jpeg:https://notoriousjazz.com/wp-content/uploads/2024/11/SHERYL-BAILEY.jpg
END:VEVENT
END:VCALENDAR