BEGIN:VCALENDAR
VERSION:2.0
PRODID:-//Notorious Jazz - ECPv6.15.17//NONSGML v1.0//EN
CALSCALE:GREGORIAN
METHOD:PUBLISH
X-ORIGINAL-URL:https://notoriousjazz.com
X-WR-CALDESC:Events for Notorious Jazz
REFRESH-INTERVAL;VALUE=DURATION:PT1H
X-Robots-Tag:noindex
X-PUBLISHED-TTL:PT1H
BEGIN:VTIMEZONE
TZID:America/New_York
BEGIN:DAYLIGHT
TZOFFSETFROM:-0500
TZOFFSETTO:-0400
TZNAME:EDT
DTSTART:20230312T070000
END:DAYLIGHT
BEGIN:STANDARD
TZOFFSETFROM:-0400
TZOFFSETTO:-0500
TZNAME:EST
DTSTART:20231105T060000
END:STANDARD
BEGIN:DAYLIGHT
TZOFFSETFROM:-0500
TZOFFSETTO:-0400
TZNAME:EDT
DTSTART:20240310T070000
END:DAYLIGHT
BEGIN:STANDARD
TZOFFSETFROM:-0400
TZOFFSETTO:-0500
TZNAME:EST
DTSTART:20241103T060000
END:STANDARD
BEGIN:DAYLIGHT
TZOFFSETFROM:-0500
TZOFFSETTO:-0400
TZNAME:EDT
DTSTART:20250309T070000
END:DAYLIGHT
BEGIN:STANDARD
TZOFFSETFROM:-0400
TZOFFSETTO:-0500
TZNAME:EST
DTSTART:20251102T060000
END:STANDARD
END:VTIMEZONE
BEGIN:VEVENT
DTSTART;TZID=America/New_York:20241203T190000
DTEND;TZID=America/New_York:20241207T223000
DTSTAMP:20260420T010002
CREATED:20241125T063307Z
LAST-MODIFIED:20241125T063307Z
UID:43580-1733252400-1733610600@notoriousjazz.com
SUMMARY:ULYSSES OWENS
DESCRIPTION:Award-winning drummer and bandleader Ulysses Owens\, Jr. returns to Dizzy’s Club with his powerhouse big band for a five-night engagement. Known for his electrifying performances\, Owens crafts a thrilling musical journey through original compositions and vibrant arrangements of works by giants like Terence Blanchard\, John Coltrane\, and Mulgrew Miller. His repertoire serves as a canvas for masterful improvisation\, rich orchestrations\, and spirited performances that carry on the legacy of the great big band drummers who have inspired him. Don’t miss this opportunity to experience the joy and passionate musicianship that defines Owens’ artistry. \nThe Band: Ulysses Owens Jr. ~ drums & music director | Nathaniel Williford ~ trumpet | Noah Halpern ~ trumpet | David Sneider ~ trumpet | Brandon Woody ~ trumpet (12/3-5\, 12/7) | Anthony Hervey ~ trumpet (12/6) | Michael Dease ~ trombone | Pablo Muller-Santiago ~ trombone | Altin Brennan Sencalar ~ trombone | Jack Trathen ~ trombone | Erena Terakubo ~ alto saxophone | Bruce Williams ~ alto saxophone | Diego Rivera ~ tenor saxophone | Jason Hainsworth ~ tenor saxophone | Jason Marshall ~ baritone saxophone | Luther S. Allison ~ piano | Thomas Milovac ~ bass  | Charles Turner III ~ special guest vocalist (12/6-12/7) Matthew Whitaker ~ special guest organist (12/7) \nTickets: $25.00~$65.00 | Saturday @ 7:00pm ~ Sold Out
URL:https://notoriousjazz.com/event/ulysses-owens
LOCATION:Dizzy’s Club\, 10 Columbus Circle\, New York City\, NY\, 10019\, United States
CATEGORIES:Club
ATTACH;FMTTYPE=image/jpeg:https://notoriousjazz.com/wp-content/uploads/2024/11/ULYSSES-OWENS.jpg
END:VEVENT
BEGIN:VEVENT
DTSTART;TZID=America/New_York:20241204T183000
DTEND;TZID=America/New_York:20241204T223000
DTSTAMP:20260420T010002
CREATED:20241202T005826Z
LAST-MODIFIED:20241202T011125Z
UID:43658-1733337000-1733351400@notoriousjazz.com
SUMMARY:QUIANA PARLER
DESCRIPTION:Grammy Award-Winning Vocalist with The Lavon Stevens Trio \n\nAs lead vocalist\, lyricist\, and composer for internationally and critically acclaimed two-time Grammy Award-winning roots music group\, Ranky Tanky\, Quiana Parler spent weeks at #1 on several Billboard Jazz charts. She has spent over 20 years as the most sought-after vocalist in the Lowcountry. Known locally for years\, she rose to national prominence after her success on the 2003 season of American Idol. \nQuiana has worked and collaborated with diverse artists and producers such as Clay Aiken\, Kelly Clarkson\, Ruben Studdard\, Bobby McFerrin\, Miranda Lambert\, David Foster\, Walter Afanasieff and many more. Her performances have been featured on national broadcasts like The View\, NBC’s TODAY\, Jimmy Kimmel Live!\, The Tonight Show\, The Tyra Banks Show\, and Saturday Night Live\, as well as the Academy of Country Music Awards and the American Music Awards. \nLavon Stevens has traveled and performed all over the country including Aspen\, Colorado\, Atlanta\, Georgia and Orlando\, Florida. Hilton Head Island\, South Carolina has been his home since 1981. He is one of the premier entertainers on Hilton Head Island. He is producing a variety of shows and recording projects including other R&B\, Jazz and Gospel artists. \nTickets: $10.00 ~ $20.00 | Dinner is required with all reservations.
URL:https://notoriousjazz.com/event/quiana-parler
LOCATION:The Jazz Corner\, 1000 William Hilton Parkway\, Hilton Head Island\, SC\, 29928\, United States
CATEGORIES:Club
ATTACH;FMTTYPE=image/jpeg:https://notoriousjazz.com/wp-content/uploads/2024/11/QUIANA-PARLER.jpeg
END:VEVENT
BEGIN:VEVENT
DTSTART;TZID=America/New_York:20241204T190000
DTEND;TZID=America/New_York:20241204T210000
DTSTAMP:20260420T010002
CREATED:20241125T032641Z
LAST-MODIFIED:20241125T032641Z
UID:43574-1733338800-1733346000@notoriousjazz.com
SUMMARY:NICOLE HENRY: MY FAVORITE THINGS
DESCRIPTION:She has earned four national TOP 10 jazz CDs and a Soul Train Award\, will add her singular twist to songs that remind us of the miraculous gifts of life\, love\, family and the reason for the season. \nCome find out why The New York Times has called this world-renowned jazz vocalist “a pop-soul superwoman\,” and why Miami Herald declared her “the vocal love child of Whitney Houston and Sarah Vaughan.” \n“She has been perfecting the art of mesmerizing audiences all around the world.  Henry is a vocalist of beautiful sensitivity and solid phrasing that feels genuine and heartfelt the whole way.” – All About Jazz \n“(She) should be standing on the biggest stages of the world\, alongside the biggest divas in the world.  Everyone everywhere needs to be exposed to this magical force of musical artistry.” – BroadwayWorld \nTickets: $62 ~ $117 including fees | $25 Food & Beverage Minimum \nUse Code HENRY5 for $5.00 Off Main Room and bar Rail Cover Charge
URL:https://notoriousjazz.com/event/nicole-henry-my-favorite-things
LOCATION:54 Below\, 254 W 54th Street\, New York City\, NY\, 10019\, United States
CATEGORIES:Club
ATTACH;FMTTYPE=image/png:https://notoriousjazz.com/wp-content/uploads/2024/11/NICOLE-HENRY.png
END:VEVENT
END:VCALENDAR