BEGIN:VCALENDAR
VERSION:2.0
PRODID:-//Notorious Jazz - ECPv6.15.17//NONSGML v1.0//EN
CALSCALE:GREGORIAN
METHOD:PUBLISH
X-WR-CALNAME:Notorious Jazz
X-ORIGINAL-URL:https://notoriousjazz.com
X-WR-CALDESC:Events for Notorious Jazz
REFRESH-INTERVAL;VALUE=DURATION:PT1H
X-Robots-Tag:noindex
X-PUBLISHED-TTL:PT1H
BEGIN:VTIMEZONE
TZID:America/New_York
BEGIN:DAYLIGHT
TZOFFSETFROM:-0500
TZOFFSETTO:-0400
TZNAME:EDT
DTSTART:20230312T070000
END:DAYLIGHT
BEGIN:STANDARD
TZOFFSETFROM:-0400
TZOFFSETTO:-0500
TZNAME:EST
DTSTART:20231105T060000
END:STANDARD
BEGIN:DAYLIGHT
TZOFFSETFROM:-0500
TZOFFSETTO:-0400
TZNAME:EDT
DTSTART:20240310T070000
END:DAYLIGHT
BEGIN:STANDARD
TZOFFSETFROM:-0400
TZOFFSETTO:-0500
TZNAME:EST
DTSTART:20241103T060000
END:STANDARD
BEGIN:DAYLIGHT
TZOFFSETFROM:-0500
TZOFFSETTO:-0400
TZNAME:EDT
DTSTART:20250309T070000
END:DAYLIGHT
BEGIN:STANDARD
TZOFFSETFROM:-0400
TZOFFSETTO:-0500
TZNAME:EST
DTSTART:20251102T060000
END:STANDARD
END:VTIMEZONE
BEGIN:VEVENT
DTSTART;TZID=America/New_York:20241203T190000
DTEND;TZID=America/New_York:20241207T223000
DTSTAMP:20260420T005734
CREATED:20241125T063307Z
LAST-MODIFIED:20241125T063307Z
UID:43580-1733252400-1733610600@notoriousjazz.com
SUMMARY:ULYSSES OWENS
DESCRIPTION:Award-winning drummer and bandleader Ulysses Owens\, Jr. returns to Dizzy’s Club with his powerhouse big band for a five-night engagement. Known for his electrifying performances\, Owens crafts a thrilling musical journey through original compositions and vibrant arrangements of works by giants like Terence Blanchard\, John Coltrane\, and Mulgrew Miller. His repertoire serves as a canvas for masterful improvisation\, rich orchestrations\, and spirited performances that carry on the legacy of the great big band drummers who have inspired him. Don’t miss this opportunity to experience the joy and passionate musicianship that defines Owens’ artistry. \nThe Band: Ulysses Owens Jr. ~ drums & music director | Nathaniel Williford ~ trumpet | Noah Halpern ~ trumpet | David Sneider ~ trumpet | Brandon Woody ~ trumpet (12/3-5\, 12/7) | Anthony Hervey ~ trumpet (12/6) | Michael Dease ~ trombone | Pablo Muller-Santiago ~ trombone | Altin Brennan Sencalar ~ trombone | Jack Trathen ~ trombone | Erena Terakubo ~ alto saxophone | Bruce Williams ~ alto saxophone | Diego Rivera ~ tenor saxophone | Jason Hainsworth ~ tenor saxophone | Jason Marshall ~ baritone saxophone | Luther S. Allison ~ piano | Thomas Milovac ~ bass  | Charles Turner III ~ special guest vocalist (12/6-12/7) Matthew Whitaker ~ special guest organist (12/7) \nTickets: $25.00~$65.00 | Saturday @ 7:00pm ~ Sold Out
URL:https://notoriousjazz.com/event/ulysses-owens
LOCATION:Dizzy’s Club\, 10 Columbus Circle\, New York City\, NY\, 10019\, United States
CATEGORIES:Club
ATTACH;FMTTYPE=image/jpeg:https://notoriousjazz.com/wp-content/uploads/2024/11/ULYSSES-OWENS.jpg
END:VEVENT
BEGIN:VEVENT
DTSTART;TZID=America/New_York:20241206T200000
DTEND;TZID=America/New_York:20241207T213000
DTSTAMP:20260420T005734
CREATED:20241201T205935Z
LAST-MODIFIED:20241201T212207Z
UID:43649-1733515200-1733607000@notoriousjazz.com
SUMMARY:JOE FARNSWORTH
DESCRIPTION:One of the most highly regarded jazz drummers on the scene today\, Joe is known for his blazing speed\, precision\, musical\, and melodic playing. After he studied at William Paterson College in New Jersey in 1994 where he began playing with saxophonist Eric Alexander and guitarist Peter Bernstein. \nUpon moving to New York City\, he led the weekend jazz combos at Augie’s\, now Smoke Jazz & Supper Club. He has performed with Junior Cook\, Cecil Payne\, John Ore\, Big John Patton\, Harold Mabern\, Eddie Henderson\, John Jenkins\, and his brothers John and James. His career includes recording over 100 CDs as a leader and sideman\, and on world tours with Pharaoh Sanders\, Horace Silver\, Harold Mabern\, McCoy Tyner\, Cedar Walton\, Diana Krall\, Benny Golson\, George Coleman\, Johnny Griffin\, Lou Donaldson\, Benny Green\, Barry Harris\, Curtis Fuller\, to name a few. \nThe Band: Sarah Hanahan ~ Alto Saxophone | Georgia Heers ~ Vocals | Cameron Campbell ~ Piano | Peter Washington ~ Bass | Joe Farnsworth ~ Drums \nTickets: $20 – $50 | $2.33 – $3.81 Fees
URL:https://notoriousjazz.com/event/joe-farnsworth-2
LOCATION:The Side Door\, Old Lyme Inn\, 85 Lyme Street\, Old Lyme\, CT\, 06371\, United States
CATEGORIES:Club
ATTACH;FMTTYPE=image/jpeg:https://notoriousjazz.com/wp-content/uploads/2024/12/JOE-FARNSWORTH.jpg
END:VEVENT
BEGIN:VEVENT
DTSTART;TZID=America/New_York:20241207T183000
DTEND;TZID=America/New_York:20241207T220000
DTSTAMP:20260420T005734
CREATED:20241202T040646Z
LAST-MODIFIED:20241202T040913Z
UID:43670-1733596200-1733608800@notoriousjazz.com
SUMMARY:STRAIGHT AHEAD
DESCRIPTION:Out of Detroit’s lively jazz scene\, which has produced some of the best musicians in the world\, comes the ground breaking jazz group Straight Ahead. A group of strong\, inventive instrumentalists and vocalists\, they have shown themselves to be powerful and imaginative composers and arrangers. \nWidely recognized for their eclectic and soulful approach to creating music\, the Straight Ahead sound ranges comfortably from mainstream jazz\, latin jazz and jazzy neo-soul. Their live performances are a dynamic celebration of power and joy with a wide range of musical textures\, moods and tempos. \nStraight Ahead was introduced to the world as finalist in the “Sony Innovators” competition. A national competition recognizing exceptional performers in the jazz field. They received international exposure when they were invited to open for the legendary Nina Simone at the Montreux Jazz Festival\, Switzerland. They were the first all woman jazz ensemble signed to Atlantic Records. The ensemble has shared the concert stage with a who’s who of the music world including: Kem\, Jean Luc Ponty\, Nancy Wilson\, Roy Ayers\, Tony Bennett\, George Duke\, Stanley Clarke\, Max Roach\, the Yellowjackets and Dianne Reeves. \nStraight Ahead has established itself as an enduring and prolific ensemble. Recognized for its creativity\, musicianship and dedication to making great music\, the band was inducted into the Detroit Music Awards Hall of Fame. \nThese Grammy-nominated recording artists have travelled extensively in the United States\, the Caribbean and Europe garnering rave reviews. Joy\, Power\, Love\, Wisdom…..Magic! This is the sound of what is to come. This is Straight Ahead! \nTHE BAND: \nAlina Morr- Piano \nMarion Hayden – Bass \nGayelynn McKinney- Drums \nKymberli Wright – Vocals \nIngrid Racine – Trumpet \n  \nTickets: $40.00 Prepaid Cocktail Bar | $75.00 Prepaid Dinner & Show
URL:https://notoriousjazz.com/event/straight-ahead-2
LOCATION:The Blue Llama\, 314 S Main Street\, Ann Arbor\, MI\, 48104\, United States
CATEGORIES:Club
ATTACH;FMTTYPE=image/png:https://notoriousjazz.com/wp-content/uploads/2024/12/STRAIGHT-AHEAD.png
END:VEVENT
BEGIN:VEVENT
DTSTART;TZID=America/New_York:20241207T200000
DTEND;TZID=America/New_York:20241207T220000
DTSTAMP:20260420T005734
CREATED:20241201T225415Z
LAST-MODIFIED:20241201T230156Z
UID:43655-1733601600-1733608800@notoriousjazz.com
SUMMARY:ALAN BRIADBENT TRIO FEATURING HARVIE S
DESCRIPTION:Alan Broadbent and Harvie S. originally met when they were students at Berklee College of Music. After school\, Alan left with the Woody Herman Band and that was the beginning of a brilliant career. Ending up in California\, he was pianist for 25 years with Charlie Haden\, and on top\, of that winning Grammys for arranging. \nHarvie S. stayed in Boston for a few years and was summoned to New York where he played and recorded with many of the Jazz greats\n(Kenny Barron\, Michael Brecker\, John Scofield\, Mike Stern\, Eddie Henderson\, Art Farmer and many more). \nAlan Broadbent is most well-known for his arranging and piano playing with Natalie Cole\, Barbara Streisand\, Johnny Mandel\, Charlie Haden’s Quartet West\, Shirley Horn\, Paul McCartney\, and Dianna Krall to name just a few. He is twice Nominated for Grammys. \nHarvie S.  is one of the most popular bass players ever performing on over 400 albums\, including 16 as a leader. His recordings and tours with Stan Getz\, Pat Metheny\, Chet Baker\, Jim Hall\, James Moody\, Toots Thielemans\, Shirley Horn\, and many more are legendary. \nTickets: $45.00 ~ $50.00
URL:https://notoriousjazz.com/event/alan-briadbent-trio-featuring-harvie-s
LOCATION:Arts Garage\, 94 NE 2nd Avenue\, Delray Beach\, FL\, 33444\, United States
CATEGORIES:Club
ATTACH;FMTTYPE=image/png:https://notoriousjazz.com/wp-content/uploads/2024/12/ALAN-BROADBENT-HARVIE-S.png
END:VEVENT
END:VCALENDAR