BEGIN:VCALENDAR
VERSION:2.0
PRODID:-//Notorious Jazz - ECPv6.15.17//NONSGML v1.0//EN
CALSCALE:GREGORIAN
METHOD:PUBLISH
X-WR-CALNAME:Notorious Jazz
X-ORIGINAL-URL:https://notoriousjazz.com
X-WR-CALDESC:Events for Notorious Jazz
REFRESH-INTERVAL;VALUE=DURATION:PT1H
X-Robots-Tag:noindex
X-PUBLISHED-TTL:PT1H
BEGIN:VTIMEZONE
TZID:America/New_York
BEGIN:DAYLIGHT
TZOFFSETFROM:-0500
TZOFFSETTO:-0400
TZNAME:EDT
DTSTART:20240310T070000
END:DAYLIGHT
BEGIN:STANDARD
TZOFFSETFROM:-0400
TZOFFSETTO:-0500
TZNAME:EST
DTSTART:20241103T060000
END:STANDARD
BEGIN:DAYLIGHT
TZOFFSETFROM:-0500
TZOFFSETTO:-0400
TZNAME:EDT
DTSTART:20250309T070000
END:DAYLIGHT
BEGIN:STANDARD
TZOFFSETFROM:-0400
TZOFFSETTO:-0500
TZNAME:EST
DTSTART:20251102T060000
END:STANDARD
BEGIN:DAYLIGHT
TZOFFSETFROM:-0500
TZOFFSETTO:-0400
TZNAME:EDT
DTSTART:20260308T070000
END:DAYLIGHT
BEGIN:STANDARD
TZOFFSETFROM:-0400
TZOFFSETTO:-0500
TZNAME:EST
DTSTART:20261101T060000
END:STANDARD
END:VTIMEZONE
BEGIN:VEVENT
DTSTART;TZID=America/New_York:20250102T190000
DTEND;TZID=America/New_York:20250105T235900
DTSTAMP:20260420T005712
CREATED:20241230T045727Z
LAST-MODIFIED:20250101T134825Z
UID:44000-1735844400-1736121540@notoriousjazz.com
SUMMARY:JEFF "TAIN" WATTS
DESCRIPTION:Kick off the New Year by celebrating drummer Jeff “Tain” Watts’ 65th birthday at Dizzy’s Club. This multi-Grammy winner and Guggenheim fellow leads an all-star band for a high-energy\, four-night run. Tain’s distinct blend of swing\, innovation\, and soul\, honed through collaborations with legends like Wynton Marsalis and McCoy Tyner. The nights are sure to ignite the stage on fire. \nPerformance Lineup: Jeff “Tain” Watts\, drums | Ravi Coltrane\, saxophone | Paul Bollenback\, guitar  | James Francies\, piano | James Genus\, double bass \nTickets: $25.00~$60.00 | Some performances Sold Out
URL:https://notoriousjazz.com/event/jeff-tain-watts
LOCATION:Dizzy’s Club\, 10 Columbus Circle\, New York City\, NY\, 10019\, United States
CATEGORIES:Club
ATTACH;FMTTYPE=image/png:https://notoriousjazz.com/wp-content/uploads/2024/12/DIZZY-WATTS.png
END:VEVENT
BEGIN:VEVENT
DTSTART;TZID=America/New_York:20250103T190000
DTEND;TZID=America/New_York:20250104T230000
DTSTAMP:20260420T005712
CREATED:20241230T064552Z
LAST-MODIFIED:20241230T064552Z
UID:44003-1735930800-1736031600@notoriousjazz.com
SUMMARY:CHRISTIAN SANDS QUARTET
DESCRIPTION:The New Haven prodigy began lessons as a toddler\, started gigging at seven\, studied with Dr. Billy Taylor and Dave Brubeck\, joined Christian McBride’s group while still in school and has appeared on over 30 recordings\, six as a leader. Though fluent in every jazz style\, the trio format is his favorite. \nTickets: $30.00 ~$35.00 +Fee
URL:https://notoriousjazz.com/event/christian-sands-quartet-2
LOCATION:Jazz Forum Arts\, 1 Dixon Lane\, Tarrytown\, NY\, 10591\, United States
CATEGORIES:Club
ATTACH;FMTTYPE=image/png:https://notoriousjazz.com/wp-content/uploads/2024/12/CHRISTIAN-SANDS-JAZZ-FORUM-ARTS.png
END:VEVENT
END:VCALENDAR