BEGIN:VCALENDAR
VERSION:2.0
PRODID:-//Notorious Jazz - ECPv6.15.17//NONSGML v1.0//EN
CALSCALE:GREGORIAN
METHOD:PUBLISH
X-ORIGINAL-URL:https://notoriousjazz.com
X-WR-CALDESC:Events for Notorious Jazz
REFRESH-INTERVAL;VALUE=DURATION:PT1H
X-Robots-Tag:noindex
X-PUBLISHED-TTL:PT1H
BEGIN:VTIMEZONE
TZID:America/New_York
BEGIN:DAYLIGHT
TZOFFSETFROM:-0500
TZOFFSETTO:-0400
TZNAME:EDT
DTSTART:20240310T070000
END:DAYLIGHT
BEGIN:STANDARD
TZOFFSETFROM:-0400
TZOFFSETTO:-0500
TZNAME:EST
DTSTART:20241103T060000
END:STANDARD
BEGIN:DAYLIGHT
TZOFFSETFROM:-0500
TZOFFSETTO:-0400
TZNAME:EDT
DTSTART:20250309T070000
END:DAYLIGHT
BEGIN:STANDARD
TZOFFSETFROM:-0400
TZOFFSETTO:-0500
TZNAME:EST
DTSTART:20251102T060000
END:STANDARD
BEGIN:DAYLIGHT
TZOFFSETFROM:-0500
TZOFFSETTO:-0400
TZNAME:EDT
DTSTART:20260308T070000
END:DAYLIGHT
BEGIN:STANDARD
TZOFFSETFROM:-0400
TZOFFSETTO:-0500
TZNAME:EST
DTSTART:20261101T060000
END:STANDARD
END:VTIMEZONE
BEGIN:VEVENT
DTSTART;TZID=America/New_York:20250207T180000
DTEND;TZID=America/New_York:20250207T220000
DTSTAMP:20260419T213712
CREATED:20250204T185531Z
LAST-MODIFIED:20250204T185531Z
UID:44514-1738951200-1738965600@notoriousjazz.com
SUMMARY:ERNEST "EC3" COLEMAN III
DESCRIPTION:Ernest “EC3 Coleman III BIO Ernest\, a second generation musician\, was born in Naples\, Italy to Ernest and Rebecca Coleman. His father\, Ernest Jr.\, was a jazz musician who played tenor sax and was also a great arranger and composer. \nErnest studied at the Naval Conservatory of Music in Norfolk\, Virginia and was awarded a special honor for being the youngest student to graduate from this conservatory. After his tour with the Navy Band\, Ernest moved to Los Angeles\, California and began his true musical quest. He performed for Guys & Dolls\, Ain’t Misbehavin\, Bourbon Street Review\, and A Chorus Line. \nErnest got the call to work with Loretta Holloway in Las Vegas opening for Jay Leno\, Bill Cosby\, David Brenner\, Yakov Smirnoff\, Whoopi Goldberg\, Don Rickles and many many more. Ernest soon took over as Loretta’s musical director and continued on to travel to places like Russia\, Bermuda\, Japan\, Canada\, Virgin Islands\, and Brazil\, among many places around the world. Ernest worked with Loretta for over twelve years\, playing with major symphonies and was responsible for conducting from behind the drums. \nTickets: Student ~ $10.00 | General Admission: $25.00
URL:https://notoriousjazz.com/event/ernest-ec3-coleman-iii
LOCATION:The Commons\, 125 Ellis Street NE\, Atlanta\, GA\, 30303\, United States
CATEGORIES:Concert
ATTACH;FMTTYPE=image/png:https://notoriousjazz.com/wp-content/uploads/2025/02/EC3-@-THE-COMMONS.png
END:VEVENT
BEGIN:VEVENT
DTSTART;TZID=America/New_York:20250207T181500
DTEND;TZID=America/New_York:20250208T220000
DTSTAMP:20260419T213712
CREATED:20250202T181706Z
LAST-MODIFIED:20250202T181817Z
UID:44438-1738952100-1739052000@notoriousjazz.com
SUMMARY:ARTURO SANDOVAL
DESCRIPTION:A protégé of the legendary jazz master Dizzy Gillespie\, Arturo Sandoval was born in Artemisa\, a small town in the outskirts of Havana\, Cuba\, on November 6\, 1949\, just two years after Gillespie became the first musician to bring Latin influences into American Jazz. Sandoval began studying classical trumpet at the age of twelve\, but it didn’t take him long to catch the excitement of the jazz world. He has since evolved into one of the world’s most acknowledged guardians of jazz trumpet and flugelhorn\, as well as a renowned classical artist\, pianist and composer. \nHe is one of the most dynamic and vivacious live performers of our time\, and has been seen by millions at the Oscars\, at the Grammy Awards\, and the Billboard Awards. \n6:15 & 6:30 Shows Sold Out | 8:45 Shows: $69.65 ~ $90.65
URL:https://notoriousjazz.com/event/arturo-sandoval-4
LOCATION:Middle C Jazz\, 300 South Brevard Street\, Charlotte\, NC\, 28202\, United States
CATEGORIES:Club
ATTACH;FMTTYPE=image/png:https://notoriousjazz.com/wp-content/uploads/2025/02/ARTURO-SANDOVAL-@-MIDDLE-C-JAZZ.png
END:VEVENT
BEGIN:VEVENT
DTSTART;TZID=America/New_York:20250207T190000
DTEND;TZID=America/New_York:20250208T230000
DTSTAMP:20260419T213712
CREATED:20250202T205439Z
LAST-MODIFIED:20250202T205637Z
UID:44451-1738954800-1739055600@notoriousjazz.com
SUMMARY:ELEW
DESCRIPTION:Elew (Eric Lewis) grew up in a household full of pianos and music teachers — both his mother and grandmother taught the entire neighborhood to play. Tinkling keys were the soundtrack of his childhood. \n\nLewis later won the prestigious Thelonious Monk International Piano Competition and went on to play with jazz luminaries such as Ornette Coleman and Wynton Marsalis. He was a member of the Lincoln Center Jazz Orchestra. But in recent years\, he decided to step out on his own and pursue his vision of what he calls “rock-jazz”. \nCover: $ 36.95
URL:https://notoriousjazz.com/event/elew
LOCATION:South\, 600 N. Broad Street\, Philadelphia\, PA\, 19130\, United States
CATEGORIES:Club
ATTACH;FMTTYPE=image/png:https://notoriousjazz.com/wp-content/uploads/2025/02/ELEW-@-SOUTH-JAZZ-KITCHEN.png
END:VEVENT
END:VCALENDAR