BEGIN:VCALENDAR
VERSION:2.0
PRODID:-//Notorious Jazz - ECPv6.15.17//NONSGML v1.0//EN
CALSCALE:GREGORIAN
METHOD:PUBLISH
X-ORIGINAL-URL:https://notoriousjazz.com
X-WR-CALDESC:Events for Notorious Jazz
REFRESH-INTERVAL;VALUE=DURATION:PT1H
X-Robots-Tag:noindex
X-PUBLISHED-TTL:PT1H
BEGIN:VTIMEZONE
TZID:America/Los_Angeles
BEGIN:DAYLIGHT
TZOFFSETFROM:-0800
TZOFFSETTO:-0700
TZNAME:PDT
DTSTART:20240310T100000
END:DAYLIGHT
BEGIN:STANDARD
TZOFFSETFROM:-0700
TZOFFSETTO:-0800
TZNAME:PST
DTSTART:20241103T090000
END:STANDARD
BEGIN:DAYLIGHT
TZOFFSETFROM:-0800
TZOFFSETTO:-0700
TZNAME:PDT
DTSTART:20250309T100000
END:DAYLIGHT
BEGIN:STANDARD
TZOFFSETFROM:-0700
TZOFFSETTO:-0800
TZNAME:PST
DTSTART:20251102T090000
END:STANDARD
BEGIN:DAYLIGHT
TZOFFSETFROM:-0800
TZOFFSETTO:-0700
TZNAME:PDT
DTSTART:20260308T100000
END:DAYLIGHT
BEGIN:STANDARD
TZOFFSETFROM:-0700
TZOFFSETTO:-0800
TZNAME:PST
DTSTART:20261101T090000
END:STANDARD
END:VTIMEZONE
BEGIN:VTIMEZONE
TZID:America/New_York
BEGIN:DAYLIGHT
TZOFFSETFROM:-0500
TZOFFSETTO:-0400
TZNAME:EDT
DTSTART:20240310T070000
END:DAYLIGHT
BEGIN:STANDARD
TZOFFSETFROM:-0400
TZOFFSETTO:-0500
TZNAME:EST
DTSTART:20241103T060000
END:STANDARD
BEGIN:DAYLIGHT
TZOFFSETFROM:-0500
TZOFFSETTO:-0400
TZNAME:EDT
DTSTART:20250309T070000
END:DAYLIGHT
BEGIN:STANDARD
TZOFFSETFROM:-0400
TZOFFSETTO:-0500
TZNAME:EST
DTSTART:20251102T060000
END:STANDARD
BEGIN:DAYLIGHT
TZOFFSETFROM:-0500
TZOFFSETTO:-0400
TZNAME:EDT
DTSTART:20260308T070000
END:DAYLIGHT
BEGIN:STANDARD
TZOFFSETFROM:-0400
TZOFFSETTO:-0500
TZNAME:EST
DTSTART:20261101T060000
END:STANDARD
END:VTIMEZONE
BEGIN:VEVENT
DTSTART;TZID=America/Los_Angeles:20250213T190000
DTEND;TZID=America/Los_Angeles:20250215T220000
DTSTAMP:20260419T213805
CREATED:20250203T021938Z
LAST-MODIFIED:20250203T031946Z
UID:44482-1739473200-1739656800@notoriousjazz.com
SUMMARY:KENNETH WHALUM
DESCRIPTION:Experience an intimate musical journey with Kenneth Whalum\, a master of soulful storytelling\, as he takes the stage for a special residency that explores the power of love\, vulnerability\, and personal expression. Kenneth Whalum’s music is a captivating fusion of soul\, R&B\, jazz\, and blues\, blending heartfelt lyrics with soothing melodies. Since stepping into the spotlight as a solo vocalist\, after years of supporting artists like Maxwell and working on his acclaimed jazz album To Those Who Believe\, Whalum has crafted a sound all his own—one that invites listeners to connect deeply with the emotions behind the music.\nFrom his poignant tracks like “Might Not Be OK” to the reflective “Prayer” from Broken Land 2\, Kenneth’s music is a beautiful exploration of love\, longing\, and self-discovery. His raw\, unguarded performances bring a sense of intimacy and honesty that speaks directly to the heart\, making each song feel like a personal conversation. This residency offers the perfect setting to experience the full range of Whalum’s artistry\, from the soulful ballads to the thought-provoking moments of reckoning. \nWhether you’re celebrating love with someone special or embracing your own journey\, Kenneth’s music will create a space for reflection\, connection\, and pure emotional release. Don’t miss this special Valentine’s Day residency—a night where music transcends the ordinary\, and vulnerability becomes the most powerful form of connection. \nBand Lineup: Kenneth Whalum~vocals/saxophones\, Micah Collier~bass\, Frank Morrison~drums\, and  Julius Tucker~ piano/keyboards \nTickets: \nThursday: $25.50 – $55.50 \nFriday: $125.00~$145.00 | Valentine Day: Songs for Lovers” With a Tribute to Marvin Gaye & John Coltrane \nSaturday: $25.50 – $55.50
URL:https://notoriousjazz.com/event/kenneth-whalum
LOCATION:Black Cat\, 400 Eddy Street\, San Francisco\, CA\, 94109\, United States
CATEGORIES:Club
ATTACH;FMTTYPE=image/png:https://notoriousjazz.com/wp-content/uploads/2025/02/KENNETH-WHALUM-@-BLACK-CAT.png
END:VEVENT
BEGIN:VEVENT
DTSTART;TZID=America/New_York:20250215T180000
DTEND;TZID=America/New_York:20250216T230000
DTSTAMP:20260419T213805
CREATED:20250203T031412Z
LAST-MODIFIED:20250203T031412Z
UID:44486-1739642400-1739746800@notoriousjazz.com
SUMMARY:DENISE KING & THE DK COLLECTIVE
DESCRIPTION:Native Philadelphia Denise King was thirteen when she was introduced to Jazz by her uncle\, Herbert Tatum\, who had an extensive collection of Jazz LPs. This love was further cultivated by family\, when a cousin Cynthia\, shared her passion for the stylings and energy of Nina Simone. Her “studies” involved hours of listening to the Jazz greats\, both vocalists and instrumentalists. Denise borrowed phrasing styles from Sarah Vaughan\, Ella Fitzgerald\, Nat “King” Cole and Frank Sinatra. She gained an appreciation for lyrics from Lil Jimmy Scott\, Nancy Wilson\, Carmen McCrae and Nina Simone. Listening as intensely to Jazz as she did R&B or music of her era\, she had no idea that her listening sessions were preparing her for a career in music. \nDenise was “discovered” by a friend who heard her singing outside of her home in Philadelphia and introduced her to the world of Jazz performance. After overcoming her terrible stage fright\, Denise went on to share the stage with many legends including Bootsie Barnes\, Christian McBride\, Dexter Wansel\, Duane Eubanks\, Lonnie Plaxico\, Sid Simmons\, Billy Paul\, and many\, many more. \nTickets: $38.95
URL:https://notoriousjazz.com/event/denise-king-the-dk-collective
LOCATION:South\, 600 N. Broad Street\, Philadelphia\, PA\, 19130\, United States
CATEGORIES:Club
ATTACH;FMTTYPE=image/png:https://notoriousjazz.com/wp-content/uploads/2025/02/DENISE-KING-@-SOUTH-JAZZ-KITCHEN.png
END:VEVENT
BEGIN:VEVENT
DTSTART;TZID=America/New_York:20250215T181500
DTEND;TZID=America/New_York:20250216T220000
DTSTAMP:20260419T213805
CREATED:20250202T183428Z
LAST-MODIFIED:20250202T183428Z
UID:44441-1739643300-1739743200@notoriousjazz.com
SUMMARY:NOEL FREIDLINE & MARIA HOWELL
DESCRIPTION:Noel Freidline ~ Bandleader/Piano\nA renowned pianist\, vocalist\, and educator\, Noel has performed at major jazz festivals worldwide\, including Montreux and Jacksonville. He’s a recipient of numerous accolades\, including the 2009 Charlotte Magazine Best Jazz Musician award and the 2011 Blumenthal Performing Arts Association Center Stage Award.\n\nMaria Howell ~ Vocals\nA celebrated singer\, actor\, and voiceover artist with over 35 years of experience. Maria has graced the screen in hit TV shows (“Army Wives\,” “Criminal Minds”) and films (“The Color Purple\,” “The Blind Side”). As a vocalist\, she’s shared the stage with legendary artists like Nancy Wilson\, George Benson\, and Ray Charles.\n\nCover Charge: $33.05~$50.65
URL:https://notoriousjazz.com/event/noel-freidline-maria-howell-2
LOCATION:Middle C Jazz\, 300 South Brevard Street\, Charlotte\, NC\, 28202\, United States
CATEGORIES:Club
ATTACH;FMTTYPE=image/png:https://notoriousjazz.com/wp-content/uploads/2025/02/NOEL-FREIDLINE-MARIA-HOWELL-@-MIDDLE-C-JAZZ.png
END:VEVENT
BEGIN:VEVENT
DTSTART;TZID=America/Los_Angeles:20250215T193000
DTEND;TZID=America/Los_Angeles:20250215T210000
DTSTAMP:20260419T213805
CREATED:20250214T233440Z
LAST-MODIFIED:20250216T024334Z
UID:44605-1739647800-1739653200@notoriousjazz.com
SUMMARY:EUGENIE JONES
DESCRIPTION:CD Release Concert! \nThe Seattle-based singer-songwriter and legacy activist\, Eugenie Jones\, made a splash debut in 2013 with her first album\, Black Lace\, Blue Tears. Since then\, she has collaborated with renowned artists such as bassist Reggie Workman and drummer-percussionist Bobby Sanabria and has been celebrated for her own work as a remarkable\, versatile artist and an original songwriter. \nRecorded live in Seattle and NYC (produced by bassist Lonnie Plaxico)\, the 13 tracks from the newly-released Eugenie (her sixth album to date) include six originals as well as fresh interpretations of jazz standards and blues\, soul\, gospel and Latin jazz-inspired songs. With sixteen total participating musicians from the two sessions\, Jones’ vocals shine through as warm and sensual: she’s an evocative musical storyteller with well-honed phrasing and a deep emotional connection to her lyrics. Her voice shines in riveting ballads of love\, betrayal and resilience. \nTickets: $25 advance\, $30 at door
URL:https://notoriousjazz.com/event/eugenie-jones-13
LOCATION:The Royal Room\, 5000 Rainier Avenue S\,\, Seattle\, WA\, 98118\, United States
CATEGORIES:Club
ATTACH;FMTTYPE=image/png:https://notoriousjazz.com/wp-content/uploads/2025/02/EUGENIE-JONES-@-ROYAL-ROOM.png
END:VEVENT
END:VCALENDAR