BEGIN:VCALENDAR
VERSION:2.0
PRODID:-//Notorious Jazz - ECPv6.15.17//NONSGML v1.0//EN
CALSCALE:GREGORIAN
METHOD:PUBLISH
X-WR-CALNAME:Notorious Jazz
X-ORIGINAL-URL:https://notoriousjazz.com
X-WR-CALDESC:Events for Notorious Jazz
REFRESH-INTERVAL;VALUE=DURATION:PT1H
X-Robots-Tag:noindex
X-PUBLISHED-TTL:PT1H
BEGIN:VTIMEZONE
TZID:America/New_York
BEGIN:DAYLIGHT
TZOFFSETFROM:-0500
TZOFFSETTO:-0400
TZNAME:EDT
DTSTART:20240310T070000
END:DAYLIGHT
BEGIN:STANDARD
TZOFFSETFROM:-0400
TZOFFSETTO:-0500
TZNAME:EST
DTSTART:20241103T060000
END:STANDARD
BEGIN:DAYLIGHT
TZOFFSETFROM:-0500
TZOFFSETTO:-0400
TZNAME:EDT
DTSTART:20250309T070000
END:DAYLIGHT
BEGIN:STANDARD
TZOFFSETFROM:-0400
TZOFFSETTO:-0500
TZNAME:EST
DTSTART:20251102T060000
END:STANDARD
BEGIN:DAYLIGHT
TZOFFSETFROM:-0500
TZOFFSETTO:-0400
TZNAME:EDT
DTSTART:20260308T070000
END:DAYLIGHT
BEGIN:STANDARD
TZOFFSETFROM:-0400
TZOFFSETTO:-0500
TZNAME:EST
DTSTART:20261101T060000
END:STANDARD
END:VTIMEZONE
BEGIN:VEVENT
DTSTART;TZID=America/New_York:20250313T190000
DTEND;TZID=America/New_York:20250313T203000
DTSTAMP:20260419T184456
CREATED:20250228T172210Z
LAST-MODIFIED:20250302T155332Z
UID:44801-1741892400-1741897800@notoriousjazz.com
SUMMARY:ARTEMIS
DESCRIPTION:ARTEMIS is a powerful ensemble of modern jazz masters\, founded in 2017 by pianist and musical director Renee Rosnes. In Real Time––the band’s second release on Blue Note Records––has been garnering universal acclaim. NPR wrote that “it further establishes their prowess both as individuals and as a collective…a femme fatale supergroup\,” and from the Times of London\, “robust voicings\, free-jazz diversions and searching modal patterns all feature in the intricate style of ARTEMIS…so distinctive is each voice and so striking is their sense of unity.” DownBeat hailed the music as “deep swinging” and a “stellar follow up” to the band’s debut album in 2020. Each musician is a bandleader and composer and every performance encompasses inspired arrangements of classics and originals. \nRenee Rosnes ~ piano & keyboard\nIngrid Jensen ~ trumpet\nNicole Glover ~ tenor saxophone\nNoriko Ueda ~ bass\nAllison Miller ~ drums \nTickets: $35.00 ~ $45.00 + fee | Streaming:  $15.00 + fee
URL:https://notoriousjazz.com/event/artemis-3
LOCATION:Keystone Korner Baltimore\, 1350 Lancaster Street\, Baltimore\, MD\, 21231\, United States
CATEGORIES:Club
ATTACH;FMTTYPE=image/png:https://notoriousjazz.com/wp-content/uploads/2025/02/ARTEMIS-@-KEYSTONE-KORNER.png
END:VEVENT
END:VCALENDAR