BEGIN:VCALENDAR
VERSION:2.0
PRODID:-//Notorious Jazz - ECPv6.15.17//NONSGML v1.0//EN
CALSCALE:GREGORIAN
METHOD:PUBLISH
X-ORIGINAL-URL:https://notoriousjazz.com
X-WR-CALDESC:Events for Notorious Jazz
REFRESH-INTERVAL;VALUE=DURATION:PT1H
X-Robots-Tag:noindex
X-PUBLISHED-TTL:PT1H
BEGIN:VTIMEZONE
TZID:America/New_York
BEGIN:DAYLIGHT
TZOFFSETFROM:-0500
TZOFFSETTO:-0400
TZNAME:EDT
DTSTART:20240310T070000
END:DAYLIGHT
BEGIN:STANDARD
TZOFFSETFROM:-0400
TZOFFSETTO:-0500
TZNAME:EST
DTSTART:20241103T060000
END:STANDARD
BEGIN:DAYLIGHT
TZOFFSETFROM:-0500
TZOFFSETTO:-0400
TZNAME:EDT
DTSTART:20250309T070000
END:DAYLIGHT
BEGIN:STANDARD
TZOFFSETFROM:-0400
TZOFFSETTO:-0500
TZNAME:EST
DTSTART:20251102T060000
END:STANDARD
BEGIN:DAYLIGHT
TZOFFSETFROM:-0500
TZOFFSETTO:-0400
TZNAME:EDT
DTSTART:20260308T070000
END:DAYLIGHT
BEGIN:STANDARD
TZOFFSETFROM:-0400
TZOFFSETTO:-0500
TZNAME:EST
DTSTART:20261101T060000
END:STANDARD
END:VTIMEZONE
BEGIN:VEVENT
DTSTART;TZID=America/New_York:20250330T200000
DTEND;TZID=America/New_York:20250331T213000
DTSTAMP:20260419T171933
CREATED:20250302T160028Z
LAST-MODIFIED:20250302T160545Z
UID:44836-1743364800-1743456600@notoriousjazz.com
SUMMARY:MADELEINE PEYROUX
DESCRIPTION:Madeleine Peyroux’s ninth album\, Let’s Walk\, is a bold\, heartfelt exploration of personal and social themes\, blending jazz\, folk\, and chamber pop. In ten deeply personal tracks co-written with longtime collaborator Jon Herington\, Peyroux navigates confessional\, political\, and whimsical tones\, driven by her signature soulful voice. Inspired by civil rights marches and informed by events like the George Floyd trial\, songs such as “Find True Love” and “Let’s Walk” capture hope and resilience. With production by Elliott Scheiner\, the album moves through reflections on privilege\, justice\, and healing\, from the playful “Me and the Mosquito” to the spoken-word closer\, “Take Care.” Following pandemic-driven delays\, Peyroux now brings Let’s Walk to live audiences\, merging new work with her beloved renditions of timeless classics. \nLouisiana born-and-raised singer-songwriter and guitarist Joy Clark is charting her own path with her debut album Tell it to the Wind. As the youngest of five children born into a tight knit\, deeply religious family just outside of New Orleans\, her release is both a declaration of her independence and a love letter to the traditions that shaped her. The album marks Clark’s arrival on the national stage as a proud\, queer\, Black woman blending the social consciousness of folk\, the rhythms of Southeast Louisiana\, and the soul-centered music she grew up with. \nTickets: $65.00 ~ $82.00
URL:https://notoriousjazz.com/event/madeleine-peyroux-3
LOCATION:City Winery Atlanta\, Ponce City Market\, 650 North Avenue NE\, Atlanta\, GA\, 30308\, United States
CATEGORIES:Club
ATTACH;FMTTYPE=image/png:https://notoriousjazz.com/wp-content/uploads/2025/03/MADELEINE-PEYROUX-@-CITY-WINERY-ATL.png
END:VEVENT
END:VCALENDAR