BEGIN:VCALENDAR
VERSION:2.0
PRODID:-//Notorious Jazz - ECPv6.15.17//NONSGML v1.0//EN
CALSCALE:GREGORIAN
METHOD:PUBLISH
X-WR-CALNAME:Notorious Jazz
X-ORIGINAL-URL:https://notoriousjazz.com
X-WR-CALDESC:Events for Notorious Jazz
REFRESH-INTERVAL;VALUE=DURATION:PT1H
X-Robots-Tag:noindex
X-PUBLISHED-TTL:PT1H
BEGIN:VTIMEZONE
TZID:America/New_York
BEGIN:DAYLIGHT
TZOFFSETFROM:-0500
TZOFFSETTO:-0400
TZNAME:EDT
DTSTART:20240310T070000
END:DAYLIGHT
BEGIN:STANDARD
TZOFFSETFROM:-0400
TZOFFSETTO:-0500
TZNAME:EST
DTSTART:20241103T060000
END:STANDARD
BEGIN:DAYLIGHT
TZOFFSETFROM:-0500
TZOFFSETTO:-0400
TZNAME:EDT
DTSTART:20250309T070000
END:DAYLIGHT
BEGIN:STANDARD
TZOFFSETFROM:-0400
TZOFFSETTO:-0500
TZNAME:EST
DTSTART:20251102T060000
END:STANDARD
BEGIN:DAYLIGHT
TZOFFSETFROM:-0500
TZOFFSETTO:-0400
TZNAME:EDT
DTSTART:20260308T070000
END:DAYLIGHT
BEGIN:STANDARD
TZOFFSETFROM:-0400
TZOFFSETTO:-0500
TZNAME:EST
DTSTART:20261101T060000
END:STANDARD
END:VTIMEZONE
BEGIN:VEVENT
DTSTART;TZID=America/New_York:20250611T190000
DTEND;TZID=America/New_York:20250615T223000
DTSTAMP:20260419T153124
CREATED:20250606T154714Z
LAST-MODIFIED:20250606T154839Z
UID:46099-1749668400-1750026600@notoriousjazz.com
SUMMARY:EMMET COHEN
DESCRIPTION:Pianist Emmet Cohen leads his critically acclaimed\, fan-favorite trio. Praised by All About Jazz as “one of the finest piano players to emerge in decades\,” Cohen has built a dedicated following and introduced new audiences to jazz. One of the genre’s brightest stars\, Cohen seamlessly blends stride\, swing\, bebop\, free jazz\, and contemporary styles\, with a particular focus on the Great American Songbook. He has accompanied numerous jazz legends and plays with the assuredness of a seasoned veteran. Downbeat notes that his “nimble touch\, measured stride\, and warm harmonic vocabulary show he’s focused on artistry\, not technical showmanship.” \n*Please Note: All 7PM and 9PM shows at Smoke are Dinner Shows \nTickets: \n$25 | $30 | $40 | $45 – Wednesday & Thursday \n$35 | $40 | $50 | $55 -Friday & Sunday \n$35 | $50 | $60 | $65 – Saturday \n  \nThe Band: Emmet Cohen – piano | Philip Norris – bass | Kyle Poole – drums
URL:https://notoriousjazz.com/event/emmet-cohen-3
LOCATION:Smoke Jazz & Supper Club\, 2751 Broadway\, New York City\, NY\, 10025\, United States
CATEGORIES:Club
ATTACH;FMTTYPE=image/png:https://notoriousjazz.com/wp-content/uploads/2025/06/EMET-COHEN-@-SMOKE.png
END:VEVENT
BEGIN:VEVENT
DTSTART;TZID=America/New_York:20250613T193000
DTEND;TZID=America/New_York:20250613T230000
DTSTAMP:20260419T153124
CREATED:20250610T145852Z
LAST-MODIFIED:20250615T040342Z
UID:46148-1749843000-1749855600@notoriousjazz.com
SUMMARY:JACQUI NAYLOR
DESCRIPTION:Vocalist and composer Jacqui Naylor returns to Snug Harbor following sold-out performances across Europe\, Canada\, Asia\, and the United States. \nWith twelve albums and a dedicated global following\, she is celebrated for her richly soulful voice\, impressive vocal range\, and distinctive arrangements of standards\, covers\, and original compositions. Naylor and her trio will perform selections from her 2024 release\, Treasures of the Heart\, along with fan favorites from throughout her acclaimed career. \nShe’s also known for her inventive arrangements that blend jazz standards with classic rock grooves and vice versa. She has headlined many of the world’s premier jazz clubs and festivals in the United States\, Japan and Italy. \nThe Band:\nJacqui Naylor – vocals\nArt Khu – piano\nJasen Weaver – bass\nJason Marsalis – drums \nShows: 7:30pm & 9:30pm \nTickets: $41.30
URL:https://notoriousjazz.com/event/jacqui-naylor
LOCATION:Snug Harbor\, 626 Frenchmen Street\, New Orleans\, LA\, 70116\, United States
CATEGORIES:Club
ATTACH;FMTTYPE=image/png:https://notoriousjazz.com/wp-content/uploads/2025/06/JACQUI-NAYLOR-@-SNUG-HARBOR-1.png
END:VEVENT
END:VCALENDAR