BEGIN:VCALENDAR
VERSION:2.0
PRODID:-//Notorious Jazz - ECPv6.15.17//NONSGML v1.0//EN
CALSCALE:GREGORIAN
METHOD:PUBLISH
X-ORIGINAL-URL:https://notoriousjazz.com
X-WR-CALDESC:Events for Notorious Jazz
REFRESH-INTERVAL;VALUE=DURATION:PT1H
X-Robots-Tag:noindex
X-PUBLISHED-TTL:PT1H
BEGIN:VTIMEZONE
TZID:America/New_York
BEGIN:DAYLIGHT
TZOFFSETFROM:-0500
TZOFFSETTO:-0400
TZNAME:EDT
DTSTART:20240310T070000
END:DAYLIGHT
BEGIN:STANDARD
TZOFFSETFROM:-0400
TZOFFSETTO:-0500
TZNAME:EST
DTSTART:20241103T060000
END:STANDARD
BEGIN:DAYLIGHT
TZOFFSETFROM:-0500
TZOFFSETTO:-0400
TZNAME:EDT
DTSTART:20250309T070000
END:DAYLIGHT
BEGIN:STANDARD
TZOFFSETFROM:-0400
TZOFFSETTO:-0500
TZNAME:EST
DTSTART:20251102T060000
END:STANDARD
BEGIN:DAYLIGHT
TZOFFSETFROM:-0500
TZOFFSETTO:-0400
TZNAME:EDT
DTSTART:20260308T070000
END:DAYLIGHT
BEGIN:STANDARD
TZOFFSETFROM:-0400
TZOFFSETTO:-0500
TZNAME:EST
DTSTART:20261101T060000
END:STANDARD
END:VTIMEZONE
BEGIN:VEVENT
DTSTART;TZID=America/New_York:20250625T190000
DTEND;TZID=America/New_York:20250629T223000
DTSTAMP:20260419T135856
CREATED:20250606T160703Z
LAST-MODIFIED:20250606T160703Z
UID:46104-1750878000-1751236200@notoriousjazz.com
SUMMARY:ERIC SCOTT REED QUINTET
DESCRIPTION:“Out Late” Record Release Celebration\nEric Scott Reed celebrates the release of his brilliant new album\, Out Late\, joined by an extraordinary quintet featuring trumpeter Nicholas Payton\, saxophonist Eric Alexander\, bassist Dezron Douglas\, and drummer Willie Jones III. Downbeat praises Reed as “one of those tremendously gifted players\, while All About Jazz notes that he has “fully established himself at the forefront of jazz pianists.” A child prodigy who honed his craft in his father’s storefront Baptist Church\, Reed has been a key figure in jazz for over three decades. Ahmad Jamal cited Redd as “one of my very favorite pianists.” In addition to his virtuosic playing\, he is a gifted composer and Out Late\, and these performances will feature his latest original works. \n*Please Note: All 7PM and 9PM shows at Smoke are Dinner Shows \nThe Band: Nicholas Payton – trumpet | Eric Alexander – tenor saxophone | Eric Scott Reed – piano | Dezron Douglas – bass | Willie Jones III – drums \nTickets: \n$25 | $30 | $40 | $45 – Wednesday & Thursday \n$35 | $40 | $50 | $55 -Friday & Sunday \n$35 | $50 | $60 | $65 – Saturday \n 
URL:https://notoriousjazz.com/event/eric-scott-reed-quintet
LOCATION:Smoke Jazz & Supper Club\, 2751 Broadway\, New York City\, NY\, 10025\, United States
CATEGORIES:Club
ATTACH;FMTTYPE=image/png:https://notoriousjazz.com/wp-content/uploads/2025/06/ERIC-SCOTT-REED-@-SMOKE.png
END:VEVENT
BEGIN:VEVENT
DTSTART;TZID=America/New_York:20250627T180000
DTEND;TZID=America/New_York:20250627T220000
DTSTAMP:20260419T135856
CREATED:20250627T222823Z
LAST-MODIFIED:20250628T203010Z
UID:46312-1751047200-1751061600@notoriousjazz.com
SUMMARY:DONALD HARRISON QUARTET
DESCRIPTION:2022 NEA Jazz Master Big Chief Donald Harrison is a musician/composer dedicated to mastering every era of jazz\, soul\, and funk and composing orchestral classical music. He has been called a “One man music festival” because his performances cover the history of music and show his knowledge of many styles is the basis for his innovations. \nAccording to geniuses Eddie Palmieri\, Nicholas Payton\, Carl Allen\, and Mike Clark\, he is a genius. Harrison is the recognized Big Chief of Congo Square in Afro-New Orleans culture\, where he keeps alive one of the root contributors cultures to Traditional jazz. Harrison is also the innovator of three influential jazz styles\, including a modern jazz twist to New Orleans’ second-line music that blends classic jazz with hip-hop\, funk\, and soul music\, called “Nouveau Swing.” \nBig Chief Donald Harrison | also saxophone & vocals\nDan Kaufman | piano\nBrian Richburg | drums\nNori Naraoka | bass \nCover: $15.00 ~ $45.00 +fee
URL:https://notoriousjazz.com/event/46312
LOCATION:Keystone Korner Baltimore\, 1350 Lancaster Street\, Baltimore\, MD\, 21231\, United States
CATEGORIES:Club
ATTACH;FMTTYPE=image/png:https://notoriousjazz.com/wp-content/uploads/2025/06/DONALD-HARRISON-@-KEYSTONE-KORNER.png
END:VEVENT
BEGIN:VEVENT
DTSTART;TZID=America/New_York:20250627T193000
DTEND;TZID=America/New_York:20250627T210000
DTSTAMP:20260419T135856
CREATED:20250627T140130Z
LAST-MODIFIED:20250628T202851Z
UID:46308-1751052600-1751058000@notoriousjazz.com
SUMMARY:PIECES OF A DREAM
DESCRIPTION:The group was formed in Philadelphia during 1976 by bassist Cedric Napoleon\, drummer Curtis Harmon\, and keyboardist James Lloyd who were all teenagers at the time. The group based their name on “Pieces of Dreams”\, a Michel Legrand tune recorded by Stanley Turrentine that they regularly performed. In 1981 Pieces of a Dream had a minor soul hit with “Warm Weather” with vocals by singer Barbara Walker and synthesizer by Dexter Wansel\, which was recorded on Elektra Records and co-produced by Dexter Wansel. In late 1983\, the group had their most successful single\, “Fo-Fi-Fo”\, which peaked at No. 13 on the US soul chart. During their time with Elektra Records from 1981 to 1983\, the group’s first three albums were produced by saxophonist Grover Washington\, Jr. \nOver the course of their nearly 50 year career they have released twenty albums\, the last of which was Fired Up in 2021 and the final recording session for bassist Cedric A. Napoleon who died in June 2024. They have never lost their heat! \nCover: $70.25
URL:https://notoriousjazz.com/event/pieces-of-a-dream
LOCATION:Birchmere\, 3701 Mt Vernon Avenue\, Alexandria\, VA\, 22305\, United States
CATEGORIES:Club
ATTACH;FMTTYPE=image/png:https://notoriousjazz.com/wp-content/uploads/2025/06/PIECES-OF-A-DREAM-@-BIRCHMERE.png
END:VEVENT
END:VCALENDAR