BEGIN:VCALENDAR
VERSION:2.0
PRODID:-//Notorious Jazz - ECPv6.15.17//NONSGML v1.0//EN
CALSCALE:GREGORIAN
METHOD:PUBLISH
X-ORIGINAL-URL:https://notoriousjazz.com
X-WR-CALDESC:Events for Notorious Jazz
REFRESH-INTERVAL;VALUE=DURATION:PT1H
X-Robots-Tag:noindex
X-PUBLISHED-TTL:PT1H
BEGIN:VTIMEZONE
TZID:America/New_York
BEGIN:DAYLIGHT
TZOFFSETFROM:-0500
TZOFFSETTO:-0400
TZNAME:EDT
DTSTART:20240310T070000
END:DAYLIGHT
BEGIN:STANDARD
TZOFFSETFROM:-0400
TZOFFSETTO:-0500
TZNAME:EST
DTSTART:20241103T060000
END:STANDARD
BEGIN:DAYLIGHT
TZOFFSETFROM:-0500
TZOFFSETTO:-0400
TZNAME:EDT
DTSTART:20250309T070000
END:DAYLIGHT
BEGIN:STANDARD
TZOFFSETFROM:-0400
TZOFFSETTO:-0500
TZNAME:EST
DTSTART:20251102T060000
END:STANDARD
BEGIN:DAYLIGHT
TZOFFSETFROM:-0500
TZOFFSETTO:-0400
TZNAME:EDT
DTSTART:20260308T070000
END:DAYLIGHT
BEGIN:STANDARD
TZOFFSETFROM:-0400
TZOFFSETTO:-0500
TZNAME:EST
DTSTART:20261101T060000
END:STANDARD
END:VTIMEZONE
BEGIN:VEVENT
DTSTART;TZID=America/New_York:20250811T190000
DTEND;TZID=America/New_York:20250811T210000
DTSTAMP:20260419T104532
CREATED:20250809T192157Z
LAST-MODIFIED:20251004T063427Z
UID:46848-1754938800-1754946000@notoriousjazz.com
SUMMARY:NICOLE HENRY
DESCRIPTION:Nicole Henry is a jazz vocalist out of Philadelphia\, Pennsylvania. Her debut release\, The Nearness of You received critical acclaim and earned Henry the “Best New Jazz Artist” award by HMV Japan and landed on most jazz radio playlists in the United States. Henry’s Teach Me Tonight reached #1 in Japan and was named HMV Japan’s Best Vocal Jazz Album of 2005. She won the 2013 Soul Train Music Award for Best Traditional Jazz Performance. \nShe has recorded eight albums to date with her latest Time to Love Again hit the online shelf in 2021. She continually performs around the States.  From classic jazz to classic soul\, and a sprinkling of everything in between\, Nicole Henry will perform material including “A Lot of Living to Do\,” “You Taught My Heart to Sing\,” and more. \nCover: $45.76
URL:https://notoriousjazz.com/event/nicole-henry-22
LOCATION:Birdland\, 315 W 44th Street\, #5402\, New York City\, NY\, 10036\, United States
CATEGORIES:Club
ATTACH;FMTTYPE=image/png:https://notoriousjazz.com/wp-content/uploads/2025/08/NICOLE-HENRY-@-BIRDLAND.png
END:VEVENT
END:VCALENDAR