BEGIN:VCALENDAR
VERSION:2.0
PRODID:-//Notorious Jazz - ECPv6.15.17//NONSGML v1.0//EN
CALSCALE:GREGORIAN
METHOD:PUBLISH
X-ORIGINAL-URL:https://notoriousjazz.com
X-WR-CALDESC:Events for Notorious Jazz
REFRESH-INTERVAL;VALUE=DURATION:PT1H
X-Robots-Tag:noindex
X-PUBLISHED-TTL:PT1H
BEGIN:VTIMEZONE
TZID:America/New_York
BEGIN:DAYLIGHT
TZOFFSETFROM:-0500
TZOFFSETTO:-0400
TZNAME:EDT
DTSTART:20240310T070000
END:DAYLIGHT
BEGIN:STANDARD
TZOFFSETFROM:-0400
TZOFFSETTO:-0500
TZNAME:EST
DTSTART:20241103T060000
END:STANDARD
BEGIN:DAYLIGHT
TZOFFSETFROM:-0500
TZOFFSETTO:-0400
TZNAME:EDT
DTSTART:20250309T070000
END:DAYLIGHT
BEGIN:STANDARD
TZOFFSETFROM:-0400
TZOFFSETTO:-0500
TZNAME:EST
DTSTART:20251102T060000
END:STANDARD
BEGIN:DAYLIGHT
TZOFFSETFROM:-0500
TZOFFSETTO:-0400
TZNAME:EDT
DTSTART:20260308T070000
END:DAYLIGHT
BEGIN:STANDARD
TZOFFSETFROM:-0400
TZOFFSETTO:-0500
TZNAME:EST
DTSTART:20261101T060000
END:STANDARD
END:VTIMEZONE
BEGIN:VEVENT
DTSTART;TZID=America/New_York:20250905T200000
DTEND;TZID=America/New_York:20250905T220000
DTSTAMP:20260419T104555
CREATED:20250831T211248Z
LAST-MODIFIED:20250831T211248Z
UID:47102-1757102400-1757109600@notoriousjazz.com
SUMMARY:PAUL CORNISH
DESCRIPTION:One of today’s most exciting emerging voices on piano\, Paul Cornish and his trio make their Bop Stop debut as they tour to promote Cornish’s debut album as a leader\, You’re Exaggerating! The album was released on Blue Note Records on August 22nd. \nEvery artist who records for Blue Note is part of a grand legacy\, now in its 86th year. But pianist Paul Cornish is a torchbearer for several remarkable Blue Note legacies\, all at once. Which makes You’re Exaggerating!\, his powerfully lyrical trio debut for the label\, a mission statement for Blue Note’s next generation. \nTo begin\, Cornish is part of a great heritage of jazz piano that has unfolded at the label\, from Blue Note’s first 78-rpm releases by Meade Lux Lewis and Albert Ammons through Bud Powell\, Thelonious Monk\, Horace Silver\, Herbie Hancock\, McCoy Tyner\, Andrew Hill\, Don Pullen\, Geri Allen\, Jacky Terrasson\, Gonzalo Rubalcaba\, Renee Rosnes\, Aaron Parks\, Gerald Clayton and beyond. \nThen\, he’s part of a lineage of Blue Note artists\, past and present\, who hail from Houston\, Texas\, and developed at the city’s Kinder High School for the Performing and Visual Arts\, a.k.a. HSPVA. That more recent hall of fame includes Jason Moran\, Robert Glasper\, Walter Smith III\, Kendrick Scott\, Chris Dave and James Francies and\, now\, Cornish\, who was born and raised in Houston and has been based in Los Angeles for over a decade. \nFeaturing: \n\nPaul Cornish\, piano\nJermaine Paul\, bass\nJonathan Pinson\, drums\n\nCover: $25 each in advance\, $30 day of show.
URL:https://notoriousjazz.com/event/paul-cornish
LOCATION:Bop Stop At The Settlement\, 2920 Detroit Avenue\, Cleveland\, OH\, 44133\, United States
CATEGORIES:Club
ATTACH;FMTTYPE=image/png:https://notoriousjazz.com/wp-content/uploads/2025/08/PAUL-CORNISH-@-BOP-STOP.png
END:VEVENT
END:VCALENDAR