BEGIN:VCALENDAR
VERSION:2.0
PRODID:-//Notorious Jazz - ECPv6.15.17//NONSGML v1.0//EN
CALSCALE:GREGORIAN
METHOD:PUBLISH
X-WR-CALNAME:Notorious Jazz
X-ORIGINAL-URL:https://notoriousjazz.com
X-WR-CALDESC:Events for Notorious Jazz
REFRESH-INTERVAL;VALUE=DURATION:PT1H
X-Robots-Tag:noindex
X-PUBLISHED-TTL:PT1H
BEGIN:VTIMEZONE
TZID:America/New_York
BEGIN:DAYLIGHT
TZOFFSETFROM:-0500
TZOFFSETTO:-0400
TZNAME:EDT
DTSTART:20240310T070000
END:DAYLIGHT
BEGIN:STANDARD
TZOFFSETFROM:-0400
TZOFFSETTO:-0500
TZNAME:EST
DTSTART:20241103T060000
END:STANDARD
BEGIN:DAYLIGHT
TZOFFSETFROM:-0500
TZOFFSETTO:-0400
TZNAME:EDT
DTSTART:20250309T070000
END:DAYLIGHT
BEGIN:STANDARD
TZOFFSETFROM:-0400
TZOFFSETTO:-0500
TZNAME:EST
DTSTART:20251102T060000
END:STANDARD
BEGIN:DAYLIGHT
TZOFFSETFROM:-0500
TZOFFSETTO:-0400
TZNAME:EDT
DTSTART:20260308T070000
END:DAYLIGHT
BEGIN:STANDARD
TZOFFSETFROM:-0400
TZOFFSETTO:-0500
TZNAME:EST
DTSTART:20261101T060000
END:STANDARD
END:VTIMEZONE
BEGIN:VEVENT
DTSTART;TZID=America/New_York:20250911T190000
DTEND;TZID=America/New_York:20250911T230000
DTSTAMP:20260419T092838
CREATED:20250907T230119Z
LAST-MODIFIED:20250907T230119Z
UID:47180-1757617200-1757631600@notoriousjazz.com
SUMMARY:STANTON MOORE TRIO
DESCRIPTION:Born and raised in New Orleans\, Stanton Moore is a dedicated drummer and performer. As a founding member of the Grammy-nominated funk band\, Galactic\, Moore’s infectious style has allowed him to collaborate with luminaries Irma Thomas\, Joss Stone\, Tom Morello\, George Porter Jr\, Dr. Lonnie Smith and the Preservation Hall Jazz Band. \nDriven and inspired by the thriving music scene of his hometown\, which includes such greats as Professor Longhair\, Doctor John\, James Black and The Meters\, Moore’s name is now mentioned amongst the Big Easy masters. When not touring with his award-winning band Galactic\, he plays straight ahead jazz with his trio. \nCover: $35.65
URL:https://notoriousjazz.com/event/stanton-moore-trio
LOCATION:Snug Harbor\, 626 Frenchmen Street\, New Orleans\, LA\, 70116\, United States
CATEGORIES:Club
ATTACH;FMTTYPE=image/png:https://notoriousjazz.com/wp-content/uploads/2025/09/STANTON-MOORE-@-SNUG-HABOR.png
END:VEVENT
END:VCALENDAR