BEGIN:VCALENDAR
VERSION:2.0
PRODID:-//Notorious Jazz - ECPv6.15.17//NONSGML v1.0//EN
CALSCALE:GREGORIAN
METHOD:PUBLISH
X-ORIGINAL-URL:https://notoriousjazz.com
X-WR-CALDESC:Events for Notorious Jazz
REFRESH-INTERVAL;VALUE=DURATION:PT1H
X-Robots-Tag:noindex
X-PUBLISHED-TTL:PT1H
BEGIN:VTIMEZONE
TZID:America/New_York
BEGIN:DAYLIGHT
TZOFFSETFROM:-0500
TZOFFSETTO:-0400
TZNAME:EDT
DTSTART:20220313T070000
END:DAYLIGHT
BEGIN:STANDARD
TZOFFSETFROM:-0400
TZOFFSETTO:-0500
TZNAME:EST
DTSTART:20221106T060000
END:STANDARD
BEGIN:DAYLIGHT
TZOFFSETFROM:-0500
TZOFFSETTO:-0400
TZNAME:EDT
DTSTART:20230312T070000
END:DAYLIGHT
BEGIN:STANDARD
TZOFFSETFROM:-0400
TZOFFSETTO:-0500
TZNAME:EST
DTSTART:20231105T060000
END:STANDARD
BEGIN:DAYLIGHT
TZOFFSETFROM:-0500
TZOFFSETTO:-0400
TZNAME:EDT
DTSTART:20240310T070000
END:DAYLIGHT
BEGIN:STANDARD
TZOFFSETFROM:-0400
TZOFFSETTO:-0500
TZNAME:EST
DTSTART:20241103T060000
END:STANDARD
END:VTIMEZONE
BEGIN:VTIMEZONE
TZID:America/Phoenix
BEGIN:STANDARD
TZOFFSETFROM:-0700
TZOFFSETTO:-0700
TZNAME:MST
DTSTART:20220101T000000
END:STANDARD
END:VTIMEZONE
BEGIN:VTIMEZONE
TZID:America/Los_Angeles
BEGIN:DAYLIGHT
TZOFFSETFROM:-0800
TZOFFSETTO:-0700
TZNAME:PDT
DTSTART:20220313T100000
END:DAYLIGHT
BEGIN:STANDARD
TZOFFSETFROM:-0700
TZOFFSETTO:-0800
TZNAME:PST
DTSTART:20221106T090000
END:STANDARD
BEGIN:DAYLIGHT
TZOFFSETFROM:-0800
TZOFFSETTO:-0700
TZNAME:PDT
DTSTART:20230312T100000
END:DAYLIGHT
BEGIN:STANDARD
TZOFFSETFROM:-0700
TZOFFSETTO:-0800
TZNAME:PST
DTSTART:20231105T090000
END:STANDARD
BEGIN:DAYLIGHT
TZOFFSETFROM:-0800
TZOFFSETTO:-0700
TZNAME:PDT
DTSTART:20240310T100000
END:DAYLIGHT
BEGIN:STANDARD
TZOFFSETFROM:-0700
TZOFFSETTO:-0800
TZNAME:PST
DTSTART:20241103T090000
END:STANDARD
END:VTIMEZONE
BEGIN:VEVENT
DTSTART;TZID=America/New_York:20230627T190000
DTEND;TZID=America/New_York:20230701T230000
DTSTAMP:20260421T213238
CREATED:20230527T214154Z
LAST-MODIFIED:20230527T214154Z
UID:35408-1687892400-1688252400@notoriousjazz.com
SUMMARY:RAVI COLTRANE
DESCRIPTION:In the course of his three decade career\, critically acclaimed\, GRAMMY® nominated saxophonist\, bandleader\, and composer Ravi Coltrane has performed and recorded with jazz legends Elvin Jones\, Terence Blanchard\, Kenny Barron\, Steve Coleman\, McCoy Tyner\, Jack DeJohnette\, and many more. Born in Long Island\, Ravi is the second son of jazz icons John Coltrane and Alice Coltrane. Alice Coltrane\, was a significant influence on Ravi’s spiritually-tinged style of jazz and it was Ravi who encouraged Alice\, after a long hiatus\, to return to performing and recording with “Translinear Light” (Impulse!\, 2004)\, before her passing in 2007. Ravi has released six albums as a leader. His latest\, Spirit Fiction\, is on the Blue Note Record label. \nShowtimes: 7:00pm | 8:30pm | 10:30pm \nFees Applied To All Ticket Purchases
URL:https://notoriousjazz.com/event/ravi-coltrane
LOCATION:Birdland\, 315 W 44th Street\, #5402\, New York City\, NY\, 10036\, United States
CATEGORIES:Club
ATTACH;FMTTYPE=image/png:https://notoriousjazz.com/wp-content/uploads/2023/05/RAVI-COLTRANE.png
END:VEVENT
BEGIN:VEVENT
DTSTART;TZID=America/New_York:20230630T170000
DTEND;TZID=America/New_York:20230702T230000
DTSTAMP:20260421T213238
CREATED:20230622T183959Z
LAST-MODIFIED:20230622T184233Z
UID:35826-1688144400-1688338800@notoriousjazz.com
SUMMARY:KENNY GARRETT
DESCRIPTION:Kenny Garrett [saxophones]\nKeith Brown [piano]\nCorcoran Holt [bass]\nRudy Bird [percussion]\nRonald Bruner [drums] \nNewly named an NEA Jazz Master for 2023\, Kenny Garrett and his swinging quintet will go on a musical journey! The NEA Jazz Masters Fellowship is the nation’s highest honor in jazz. Each year since 1982\, the program has elevated to its ranks a select number of living legends who have made exceptional contributions to the advancement of jazz. \nWith his illustrious career that includes hallmark stints with Miles Davis\, Art Blakey and The Jazz Messengers\, Donald Byrd\, Freddie Hubbard\, Woody Shaw and the Duke Ellington Orchestra\, as well as a heralded career as a solo artist that began more than 30 years ago\, Kenny Garrett is easily recognized as one of modern jazz’s brightest and most influential living masters. And with the marvelous Sounds From The Ancestors\, the GRAMMY® Award-winning Garrett shows no signs of resting on his laurels. \nKenny Garrett’s latest release\, Sounds From The Ancestors\, is a multi-faceted album. Similar to how Miles Davis’ seminal LP\, On the Corner\, subverted its main guiding lights – James Brown\, Jimi Hendrix and Sly Stone – then crafted its own unique\, polyrhythmic\, groove-laden\, improv-heavy universe\, Sounds From The Ancestors occupies its own space with intellectual clarity\, sonic ingenuity and emotional heft. \nFriday & Saturday: 7:00pm | 9:30pm \nSunday: 5:00pm | 7:30pm \nTicket Fees: $3.46 – $4.16 \nStreaming: $10.00 + $1.70 fee \n 
URL:https://notoriousjazz.com/event/kenny-garrett
LOCATION:Keystone Korner Baltimore\, 1350 Lancaster Street\, Baltimore\, MD\, 21231\, United States
CATEGORIES:Club
ATTACH;FMTTYPE=image/jpeg:https://notoriousjazz.com/wp-content/uploads/2023/06/KENNY-GARRETT.jpg
END:VEVENT
BEGIN:VEVENT
DTSTART;TZID=America/New_York:20230630T190000
DTEND;TZID=America/New_York:20230701T230000
DTSTAMP:20260421T213238
CREATED:20230528T005724Z
LAST-MODIFIED:20230528T005724Z
UID:35417-1688151600-1688252400@notoriousjazz.com
SUMMARY:CHRISTIAN SANDS TRIO
DESCRIPTION:Grammy-nominated piano master Christian Sands has earned raves for two decades! \nAt only 32\, sophisticated jazz pianist/composer Christian Sands is arguably the leading jazz pianist of his generation. This former child prodigy – who began lessons a four years old and gigging at seven – has more than lived up to his early promise. \nHe has appeared on over 30 recordings\, including nine as a leader\, garnered Grammy nominations and rave performance reviews\, amassing a body of work that rivals established veterans twice his age. \nShowtimes: 7:00pm & 9:30pm \nFees Applied To all Ticket Purchases
URL:https://notoriousjazz.com/event/christian-sands-trio
LOCATION:Jazz Forum Arts\, 1 Dixon Lane\, Tarrytown\, NY\, 10591\, United States
CATEGORIES:Club
ATTACH;FMTTYPE=image/jpeg:https://notoriousjazz.com/wp-content/uploads/2023/05/CHRISTIAN-SANDS.jpg
END:VEVENT
BEGIN:VEVENT
DTSTART;TZID=America/Phoenix:20230701T193000
DTEND;TZID=America/Phoenix:20230701T210000
DTSTAMP:20260421T213238
CREATED:20230624T133625Z
LAST-MODIFIED:20230624T133758Z
UID:35855-1688239800-1688245200@notoriousjazz.com
SUMMARY:THE POWER TRIO
DESCRIPTION:Mike Kocour-piano | Stan Sorenson-guitar | Lewis Nash-drums \nThe aptly monikered “Power Trio” brings together three of Arizona’s most accomplished musical powers. Mike Kocour\, in addition to being the Director of Jazz Studies at ASU\, has decades of performing and recording experience with five critically acclaimed CDs and a list of credits far too long to post here! \nStan Sorenson is arguably the face and voice of jazz guitar in Phoenix\, having performed at every major venue\, and with pretty much every notable musician\, during his successful career. \nLewis Nash – the namesake of The Nash – was called “Jazz’s Most Valuable Player” by Modern Drummer magazine and boasts a stunning list of recording credits\, with award-winning projects with some of the immortals of the jazz world. \n 
URL:https://notoriousjazz.com/event/the-power-trio
LOCATION:The Nash\, 110 E. Roosevelt Street\, Phoenix\, AZ\, 85004\, United States
CATEGORIES:Club
ATTACH;FMTTYPE=image/jpeg:https://notoriousjazz.com/wp-content/uploads/2023/06/THE-POWER-TRIO.jpg
END:VEVENT
BEGIN:VEVENT
DTSTART;TZID=America/New_York:20230705T200000
DTEND;TZID=America/New_York:20230705T220000
DTSTAMP:20260421T213238
CREATED:20230624T161935Z
LAST-MODIFIED:20230624T161935Z
UID:35869-1688587200-1688594400@notoriousjazz.com
SUMMARY:MIGUEL ZENON QUARTET
DESCRIPTION:Miguel Zenón is a Puerto Rican alto saxophonist\, composer\, band leader\, music producer\, and educator. He is a multiple Grammy Award nominee\, and the recipient of a Guggenheim Fellowship and a MacArthur Fellowship. He also holds an Honorary Doctorate Degree in the Arts from Universidad del Sagrado Corazón.
URL:https://notoriousjazz.com/event/miguel-zenon-quartet
LOCATION:Arthur Zankel Music Center\, 815 North Broadway\, Saratoga Springs\, NY\, 121866\, United States
CATEGORIES:Concert
ATTACH;FMTTYPE=image/jpeg:https://notoriousjazz.com/wp-content/uploads/2023/06/MIGUEL-ZENON.jpg
END:VEVENT
BEGIN:VEVENT
DTSTART;TZID=America/New_York:20230706T200000
DTEND;TZID=America/New_York:20230706T220000
DTSTAMP:20260421T213238
CREATED:20230624T164247Z
LAST-MODIFIED:20230624T165116Z
UID:35874-1688673600-1688680800@notoriousjazz.com
SUMMARY:SKIDMORE FACULTY ALL~STARS
DESCRIPTION:The All~Stars are  Mike Rodriguez ~ trumpet | Steve Wilson ~ Saxophone | Steve Davis ~ Trombone |  Mimi Fox ~ Guitar |  Bill Cunliffe ~ Piano | Todd Coolman ~ Bass | Dennis Mackrel ~ Drums
URL:https://notoriousjazz.com/event/skidmore-faculty-allstars
LOCATION:Arthur Zankel Music Center\, 815 North Broadway\, Saratoga Springs\, NY\, 121866\, United States
CATEGORIES:Concert
ATTACH;FMTTYPE=image/jpeg:https://notoriousjazz.com/wp-content/uploads/2023/06/SKIDMORE-FACULTY-ALLSTARS.jpg
END:VEVENT
BEGIN:VEVENT
DTSTART;TZID=America/New_York:20230707T190000
DTEND;TZID=America/New_York:20230708T230000
DTSTAMP:20260421T213238
CREATED:20230622T185028Z
LAST-MODIFIED:20230623T141909Z
UID:35831-1688756400-1688857200@notoriousjazz.com
SUMMARY:WARREN WOLF CD RELEASE ~ CHANO POZO: ORIGINS
DESCRIPTION:Celebrate the release of Warren Wolf’s newest album\, “Chano Pozo: ORIGINS”\, at Keystone Korner Baltimore on July 7th & 8th! \nWarren Wolf [vibes]\nAlex Brown [piano]\nBlake Meister [bass]\nBrent Birckhead [saxophone]\nCharles Wilson [drums]\nImani-Grace Cooper [vocals] \nWarren Wolf is a multi-instrumentalist from Baltimore\, MD. From the young age of three years old\, Warren has been trained on the Vibraphone/Marimba\, Drums\, and Piano. Under the guidance of his father Warren Wolf Sr.\, Warren has a deep background in all genres of music. Vibraphonist Warren Wolf is one of the hardest swinging virtuosos in all of modern music. \n“Chano Pozo: ORIGINS” is Warren’s 10th record as a recording artist\, and is set to release July 7th\, 2023. It features himself playing all instruments\, except for the horns. All songs are original except for “LADY” by D’Angelo and Raphael Saadiq. \nShowtimes ~ 7:00pm & 9:30pm \nTicket Fees: $3.10 – $3.46 \nStreaming: $10:00 + $1.70
URL:https://notoriousjazz.com/event/warren-wolf-cd-release-chano-pozo-origins
LOCATION:Keystone Korner Baltimore\, 1350 Lancaster Street\, Baltimore\, MD\, 21231\, United States
CATEGORIES:Club
ATTACH;FMTTYPE=image/jpeg:https://notoriousjazz.com/wp-content/uploads/2023/06/WARREN-WOLF.jpg
END:VEVENT
BEGIN:VEVENT
DTSTART;TZID=America/Los_Angeles:20230709T190000
DTEND;TZID=America/Los_Angeles:20230709T223000
DTSTAMP:20260421T213238
CREATED:20230623T135807Z
LAST-MODIFIED:20230623T141824Z
UID:35847-1688929200-1688941800@notoriousjazz.com
SUMMARY:RICHIE GOODS & CHIEN CHIEN: CONNECTED
DESCRIPTION:Richie Goods\, Bass | Chien Chien Lu\, Vibraphone | Matt Wong\, Keys | Tariqh Akoni\, Guitar | Jerome Jennings\, Drums\n\n“CONNECTED” was formed in 2020. During the COVID-19 lockdown\, Richie Goods and Chien Chien had frequent conversations about the Black Lives Matter movement and the unwarranted hate crimes against Asians. They decided to do a project that would unify people and invoke imagery of love and peace. As often happens\, music was the catalyst that bridged the gap and resulted in a rare collaboration; a partnership that produced “The Path” Sep. 2020\, “We Three Kings” Nov. 2020\, and “Rain” Dec. 2021. They decided to cement their musical relationship by creating “CONNECTED”\, their band featuring Miki Hayama on keys\, Quintin Zoto-guitar and Allan Mednard-drums and of course Richie Goods-bass and Chien Chien-vibes. Together\, Richie and Chien Chien are “CONNECTED”\, creating an exciting\, new\, energetic listening experience and attracting new audiences everywhere. Look for their new release\, “Richie Goods & Chien Chien – CONNECTED” due in January\, 2023. RICHIE GOODS – NY bassist Richie Goods\, one of the most versatile and accomplished bass players in the industry and the youngest person ever inducted into the Pittsburgh Jazz Hall of Fame\, came to prominence while touring and recording with the late Mulgrew Miller and credits him for much of his success. Richie went on to make a name for himself through recording and touring with a variety of jazz and popular artists including Sting\, The Headhunters\, Louis Hayes Lenny White\, Milt Jackson\, Whitney Houston\, Lisa Fischer\, The Manhattan Transfer and Christina Aguilera\, Alicia Keys and Common and Chris Botti. He tours the US and internationally extensively\, including notable performances at the Monterrey\, Montreal\, Mendocino\, Atlanta\, Detroit\, San Jose\, Rochester\, and Jakarta Java Jazz Festivals as well as the Punta del Este International Jazz Festival. Richie\, a native Pittsburgher\, studied with such luminaries as Ron Carter and Ray Brown. He received critical acclaim for his multiple recordings\, including his 2019 release “My Left Hand Man”\, recorded with THE GOODS PROJECT\, a self- produced tribute to his mentor Mulgrew Miller\, which spent 36 weeks on the JazzWeek charts in 2020. CHIEN CHIEN – Chien Chien (Lu) is a vibraphonist\, contemporary percussionist\, and composer whose Taiwanese upbringing\, classical music education\, and passion for R&B grooves crystallize into a fresh and distinctive approach to contemporary jazz. Chien Chien’s fierce authenticity and jazz mastery shine bright on her September 2020 debut solo project\, The Path\, which spent 20 weeks on the Jazz Week Charts Top 20\, earned Best Jazz Song in the Golden Indie Music Awards (GIMA)and three Golden Melody Award nominations\, four GIMA nominations and led to her being named the “vibraphone rising star” in Downbeat Magazine’s 69th Annual Critics Poll. Her band has also played many prestigious festivals including the Clifford Brown and DC Jazz Festivals. She also toured extensively in Europe\, Asia\, and the United States. Chien Chien obtained a master’s degree in classical music and jazz. In 2017 she met jazz trumpeter Jeremy Pelt and was invited to join his esteemed quintet where she met and began collaborating with Richie Goods.
URL:https://notoriousjazz.com/event/richie-goods-chien-chien-connected
LOCATION:The 1905\, 830 N Shaver Sreet\, Portland\, OR\, 97227\, United States
CATEGORIES:Club
ATTACH;FMTTYPE=image/jpeg:https://notoriousjazz.com/wp-content/uploads/2023/06/RICHIE-GOODS-CHIEN-CHIEN.jpeg
END:VEVENT
BEGIN:VEVENT
DTSTART;TZID=America/New_York:20230710T190000
DTEND;TZID=America/New_York:20230710T203000
DTSTAMP:20260421T213238
CREATED:20230706T220913Z
LAST-MODIFIED:20230706T222046Z
UID:36095-1689015600-1689021000@notoriousjazz.com
SUMMARY:NICOLE HENRY
DESCRIPTION:Expect to be transported and thoroughly entertained…Ms. Henry will tell real stories through peerless interpretations of songs from her latest chart-topping album\, “Time to Love Again\,” as well as music from her vast catalogue and repertoire. \n\n\n\n\n\n\n\n\n\n\n\nCelebrating a 20-year career and 8 critically acclaimed chart-topping CDs\, jazz powerhouse Nicole Henry is the recipient of a Soul Train Award for “Best Traditional Jazz Performance\,” and has garnered four Top-10 jazz albums on the  U.S. Billboard; JazzWeek; HMV Japan and U.K. Sweet Rhythms charts.
URL:https://notoriousjazz.com/event/nicole-henry-9
LOCATION:Birdland\, 315 W 44th Street\, #5402\, New York City\, NY\, 10036\, United States
CATEGORIES:Club
ATTACH;FMTTYPE=image/jpeg:https://notoriousjazz.com/wp-content/uploads/2023/07/NICOLE-HENRY.jpg
END:VEVENT
BEGIN:VEVENT
DTSTART;TZID=America/Los_Angeles:20230713T193000
DTEND;TZID=America/Los_Angeles:20230713T231500
DTSTAMP:20260421T213238
CREATED:20230623T134056Z
LAST-MODIFIED:20230623T141947Z
UID:35840-1689276600-1689290100@notoriousjazz.com
SUMMARY:THE WILLAMETTE JAZZ TRIO
DESCRIPTION:Obscure standards: Tunes from the 20th century that you never knew you needed to hear.\n\nRobert Bohall piano\nRobert Lassila bass\nNik Barber drums\n\nRobert Bohall is a recent graduate of the Masters of Music in Jazz Studies program at University of Oregon\, while Nik Barber and Robert Lassila have one year left in the same program. Young and hungry\, these musicians combine energies to create bombastic climaxes and quiet soundscapes over familiar tunes. Come see them express their passion on stage\, combined to form The Willamette Jazz Trio.
URL:https://notoriousjazz.com/event/the-willamette-jazz-trio
LOCATION:The Jazz Station\, 124 W Broadway\, Eugene\, OR\, 97401\, United States
CATEGORIES:Club
ATTACH;FMTTYPE=image/jpeg:https://notoriousjazz.com/wp-content/uploads/2023/06/THE-WILLAMETTE-JAZZ-TRIO.jpg
END:VEVENT
BEGIN:VEVENT
DTSTART;TZID=America/New_York:20230714T190000
DTEND;TZID=America/New_York:20230715T230000
DTSTAMP:20260421T213238
CREATED:20230623T141645Z
LAST-MODIFIED:20230623T141645Z
UID:35850-1689361200-1689462000@notoriousjazz.com
SUMMARY:CARL ALLEN QUARTET FEATURING STEVE NELSON
DESCRIPTION:Carl Allen is an American jazz drummer and educator. Allen attended William Paterson University. He has worked with a wide variety of musicians\, including Freddie Hubbard\, Jackie McLean\, George Coleman\, Phil Woods\, the Benny Green Trio and Rickie Lee Jones. It was with Green that Allen met bassist Christian McBride.
URL:https://notoriousjazz.com/event/carl-allen-quartet-featuring-steve-nelson
LOCATION:Jazz Forum Arts\, 1 Dixon Lane\, Tarrytown\, NY\, 10591\, United States
CATEGORIES:Club
ATTACH;FMTTYPE=image/png:https://notoriousjazz.com/wp-content/uploads/2023/06/CARL-ALLEN.png
END:VEVENT
END:VCALENDAR