BEGIN:VCALENDAR
VERSION:2.0
PRODID:-//Notorious Jazz - ECPv6.15.17//NONSGML v1.0//EN
CALSCALE:GREGORIAN
METHOD:PUBLISH
X-WR-CALNAME:Notorious Jazz
X-ORIGINAL-URL:https://notoriousjazz.com
X-WR-CALDESC:Events for Notorious Jazz
REFRESH-INTERVAL;VALUE=DURATION:PT1H
X-Robots-Tag:noindex
X-PUBLISHED-TTL:PT1H
BEGIN:VTIMEZONE
TZID:America/New_York
BEGIN:DAYLIGHT
TZOFFSETFROM:-0500
TZOFFSETTO:-0400
TZNAME:EDT
DTSTART:20230312T070000
END:DAYLIGHT
BEGIN:STANDARD
TZOFFSETFROM:-0400
TZOFFSETTO:-0500
TZNAME:EST
DTSTART:20231105T060000
END:STANDARD
BEGIN:DAYLIGHT
TZOFFSETFROM:-0500
TZOFFSETTO:-0400
TZNAME:EDT
DTSTART:20240310T070000
END:DAYLIGHT
BEGIN:STANDARD
TZOFFSETFROM:-0400
TZOFFSETTO:-0500
TZNAME:EST
DTSTART:20241103T060000
END:STANDARD
BEGIN:DAYLIGHT
TZOFFSETFROM:-0500
TZOFFSETTO:-0400
TZNAME:EDT
DTSTART:20250309T070000
END:DAYLIGHT
BEGIN:STANDARD
TZOFFSETFROM:-0400
TZOFFSETTO:-0500
TZNAME:EST
DTSTART:20251102T060000
END:STANDARD
END:VTIMEZONE
BEGIN:VEVENT
DTSTART;TZID=America/New_York:20240413T200000
DTEND;TZID=America/New_York:20240413T230000
DTSTAMP:20260421T022726
CREATED:20240324T155229Z
LAST-MODIFIED:20240324T155354Z
UID:39920-1713038400-1713049200@notoriousjazz.com
SUMMARY:VANESSA RUBIN
DESCRIPTION:Revered as both a torchbearer and a storyteller\, jazz vocalist Vanessa Rubin possesses a voice hailed for crystalline clarity\, hearth-like warmth and playful lioness sass. The Cleveland native brings a wealth of diverse influences to her vocal performance from both the Trinidadian/Caribbean roots of her mother and traditional jazz by way of her Louisiana-born father. Additional homespun influences include the melodic bell tone clarity of a young Capital Records recording artist\, Nancy Wilson\, the fire of Lambert\, Hendricks & Ross\, the sweet sounds of trumpeter Blue Mitchell as well as her love of the Motown Sound…especially girl groups like the Supremes. \nRubin’s passion for rich musical stories are evidenced throughout her eight albums thus far plus numerous guest appearances. Highlights include the evocative “Voyager II” from the pen of Teri Thornton\, “Inside a Silent Tear” written by Blossom Dearie\, a refashioned waltz version of John Coltrane’s “Giant Steps” lyricized by New York Voices and an arrangement of “Superwoman” by Stevie Wonder insipired by the Ahmad Jamal recording of “Poinciana”. So while she has one foot planted in tradition – sticking close to timeless melodies and exquisite vocal forms – Rubin waxes adventurous\, embracing stories lesser told while employing lessons of acclaimed storytellers in song such as Carmen McRae\, Shirley Horn and Freddy Cole. \n 
URL:https://notoriousjazz.com/event/vanessa-rubin-7
LOCATION:Sistas’ Place\, 456 Nostrand Avenue\, Brooklyn\, NY\, 11216\, United States
CATEGORIES:Club
ATTACH;FMTTYPE=image/jpeg:https://notoriousjazz.com/wp-content/uploads/2024/03/VANESSA-RUBIN-1.jpg
END:VEVENT
BEGIN:VEVENT
DTSTART;TZID=America/New_York:20240424T190000
DTEND;TZID=America/New_York:20240428T235900
DTSTAMP:20260421T022726
CREATED:20240414T152726Z
LAST-MODIFIED:20240414T152726Z
UID:40244-1713985200-1714348740@notoriousjazz.com
SUMMARY:JACKY TERRASSON TRIO
DESCRIPTION:Moving On ~ Record Release\n\nJacky Terrasson – piano | Kenny Davis – bass | Alvester Garnett – drums | Special Guest: Grégoire Maret – harmonica (Sat & Sun) \n“Terrasson boasts a smooth-rolling conception and sophisticated touch that have long set him apart from the pack.”  – Time Out New York Pianist Jacky Terrasson celebrates the release of his new album\, “Moving On\,” leading his American trio with bassist Kenny Davis and drummer Alvester Garnett with special guest Saturday and Sunday Grégoire Maret on harmonica. Since his arrival on the scene over 30 years ago\, Terrasson has been one of the most groundbreaking and original pianists who has helped to reshape and redefine the sound of the classic trio. His inspired repertoire\, bracing solos\, and dramatic ensemble interplay are some of the hallmarks of his celebrated music. London Jazz News reports\, “Terrasson has presence and theatricality\, and his performance(s) brim with good ideas\,” while JazzTimes reports\, “There’s excitement and ingenuity embedded throughout (his) wholly original\, shrewdly executed arrangements.” \n***PLEASE NOTE: All 7PM and 9PM shows at Smoke are Dinner Shows | Fees Apply To All Tickets
URL:https://notoriousjazz.com/event/jacky-terrasson-trio-2
LOCATION:Smoke Jazz & Supper Club\, 2751 Broadway\, New York City\, NY\, 10025\, United States
CATEGORIES:Club
ATTACH;FMTTYPE=image/jpeg:https://notoriousjazz.com/wp-content/uploads/2024/04/JACKY-TERRASSON.jpeg
END:VEVENT
BEGIN:VEVENT
DTSTART;TZID=America/New_York:20240426T203000
DTEND;TZID=America/New_York:20240426T235900
DTSTAMP:20260421T022726
CREATED:20240408T041939Z
LAST-MODIFIED:20240408T051003Z
UID:40153-1714163400-1714175940@notoriousjazz.com
SUMMARY:KANDACE SPRINGS
DESCRIPTION:If the paths of jazz\, blues and pop mostly run in parallel\, it is not at all uncommon for their paths to intersect and come together in a single\, and generally quite intriguing\, stretch.\nFor some time one of these intersections has borne the name of Kandace Springs: the young singer\, pianist and composer based in Nashville who has already been part of the artists of the prestigious Blue Note label since her debut album.\nHer two exceptional godparents: Prince who\, still unknown\, wanted her on stage in Paisley Park in 2014 for the 30th anniversary of “Purple Rain”. And Daryl Hall\, who in 2015 invited her to one of the successful live web sessions with young talents and big stars from her club near New York\, “Live from Daryl’s House”.\n\n\nOn the Blue Note stage she will present her 2020 album The Women Who Raised Me\, a tribute to all the female voices that have been decisive and influential in her career. \n\n\n  \n***Website will require translation
URL:https://notoriousjazz.com/event/kandace-springs-3
LOCATION:Blue Note ~ Milan\, Via Pietro Borsieri\, 37\, Milan\, 20159\, Italy
CATEGORIES:Club
ATTACH;FMTTYPE=image/png:https://notoriousjazz.com/wp-content/uploads/2024/04/KANDACE-SPRINGS.png
END:VEVENT
END:VCALENDAR