BEGIN:VCALENDAR
VERSION:2.0
PRODID:-//Notorious Jazz - ECPv6.15.17//NONSGML v1.0//EN
CALSCALE:GREGORIAN
METHOD:PUBLISH
X-ORIGINAL-URL:https://notoriousjazz.com
X-WR-CALDESC:Events for Notorious Jazz
REFRESH-INTERVAL;VALUE=DURATION:PT1H
X-Robots-Tag:noindex
X-PUBLISHED-TTL:PT1H
BEGIN:VTIMEZONE
TZID:America/New_York
BEGIN:DAYLIGHT
TZOFFSETFROM:-0500
TZOFFSETTO:-0400
TZNAME:EDT
DTSTART:20230312T070000
END:DAYLIGHT
BEGIN:STANDARD
TZOFFSETFROM:-0400
TZOFFSETTO:-0500
TZNAME:EST
DTSTART:20231105T060000
END:STANDARD
BEGIN:DAYLIGHT
TZOFFSETFROM:-0500
TZOFFSETTO:-0400
TZNAME:EDT
DTSTART:20240310T070000
END:DAYLIGHT
BEGIN:STANDARD
TZOFFSETFROM:-0400
TZOFFSETTO:-0500
TZNAME:EST
DTSTART:20241103T060000
END:STANDARD
BEGIN:DAYLIGHT
TZOFFSETFROM:-0500
TZOFFSETTO:-0400
TZNAME:EDT
DTSTART:20250309T070000
END:DAYLIGHT
BEGIN:STANDARD
TZOFFSETFROM:-0400
TZOFFSETTO:-0500
TZNAME:EST
DTSTART:20251102T060000
END:STANDARD
END:VTIMEZONE
BEGIN:VTIMEZONE
TZID:America/Los_Angeles
BEGIN:DAYLIGHT
TZOFFSETFROM:-0800
TZOFFSETTO:-0700
TZNAME:PDT
DTSTART:20230312T100000
END:DAYLIGHT
BEGIN:STANDARD
TZOFFSETFROM:-0700
TZOFFSETTO:-0800
TZNAME:PST
DTSTART:20231105T090000
END:STANDARD
BEGIN:DAYLIGHT
TZOFFSETFROM:-0800
TZOFFSETTO:-0700
TZNAME:PDT
DTSTART:20240310T100000
END:DAYLIGHT
BEGIN:STANDARD
TZOFFSETFROM:-0700
TZOFFSETTO:-0800
TZNAME:PST
DTSTART:20241103T090000
END:STANDARD
BEGIN:DAYLIGHT
TZOFFSETFROM:-0800
TZOFFSETTO:-0700
TZNAME:PDT
DTSTART:20250309T100000
END:DAYLIGHT
BEGIN:STANDARD
TZOFFSETFROM:-0700
TZOFFSETTO:-0800
TZNAME:PST
DTSTART:20251102T090000
END:STANDARD
END:VTIMEZONE
BEGIN:VEVENT
DTSTART;TZID=America/New_York:20240614T190000
DTEND;TZID=America/New_York:20240616T235900
DTSTAMP:20260420T231720
CREATED:20240614T172431Z
LAST-MODIFIED:20240614T172431Z
UID:41215-1718391600-1718582340@notoriousjazz.com
SUMMARY:ERIC SCOTT REED & GENERATION X\, Y & Z
DESCRIPTION:Giveton Gellin – trumpet | Jon Beshay – tenor saxophone | Eric Reed – piano | Nick Joz – bass | Ethan Kogan – drums\n\nPianist Eric Reed leads this exciting quintet–Generation X\, Y\, and Z. His latest album\, Black\, Brown\, and Blue\, celebrates the rich and diverse music of composers of color. Reed calls the work a personal milestone and “the culmination of my life thus far. I’m freer than I’ve ever been in my personal life\, and I’m freer than I’ve ever been in my music. I’m accepting who I am. I love who I am. And as I continue to evolve – my artistry\, my sexuality\, and my overall humanity – my music will continue to become more and more personal.” A widely respected and popular musician and mentor\, Reed first rose to fame with Wynton Marsalis and has performed with artists as varied as Jessye Norman\, Quincy Jones\, and Patti Labelle. His perpetually swinging and sophisticated style has made him one of the important ambassadors of the music.\n\n“Eric Reed has fully established himself in the forefront of jazz pianists.” – All About Jazz\n\n*PLEASE NOTE: All 7PM and 9PM shows at Smoke are Dinner Shows
URL:https://notoriousjazz.com/event/eric-scott-reed-generation-x-y-z
LOCATION:Smoke Jazz & Supper Club\, 2751 Broadway\, New York City\, NY\, 10025\, United States
CATEGORIES:Club
ATTACH;FMTTYPE=image/jpeg:https://notoriousjazz.com/wp-content/uploads/2024/06/ERIC-REED.jpeg
END:VEVENT
BEGIN:VEVENT
DTSTART;TZID=America/Los_Angeles:20240617T170000
DTEND;TZID=America/Los_Angeles:20240617T210000
DTSTAMP:20260420T231720
CREATED:20240609T172023Z
LAST-MODIFIED:20240609T173203Z
UID:41082-1718643600-1718658000@notoriousjazz.com
SUMMARY:OMAR SOSA & QUARTETO AMERICANOS
DESCRIPTION:Cuban piano maestro Omar Sosa\, a longtime Healdsburg favorite\, returns to town with his Quarteto Americanos featuring Cuban bassist Ernesto Mazar Kindelán\, Berkeley drummer Josh Jones\, and Oakland multi-reed player Sheldon Brown\, who’s spent much of the past two years touring with the Grateful Dead’s Bob Weir. Though long based in Barcelona\, Sosa gained fame while living in Oakland\, and his musical journey from Camagüey and Havana to Ecuador and eventually the East Bay is detailed in the new documentary Omar Sosa’s 88 Well-Tuned Drums\, which screens as part of this program. An omnivorously creative figure whose music encompasses Afro-Cuban folkloric chants and European Romanticism\, post-bop and hip hop\, West African grooves and ambient moods\, he’s released more than three dozen albums documenting collaborations with an international cast of fellow sound explorers. \n5:00 PM | Documentary Screening  \n7:30 PM | Concert
URL:https://notoriousjazz.com/event/omar-sosa-2
LOCATION:The Raven Performing Arts Theater\, 115 North Street\, Healdsburg\, CA\, 95448\, United States
CATEGORIES:Concert
ATTACH;FMTTYPE=image/png:https://notoriousjazz.com/wp-content/uploads/2024/06/OMAR-SOSA.png
END:VEVENT
BEGIN:VEVENT
DTSTART;TZID=America/New_York:20240627T190000
DTEND;TZID=America/New_York:20240630T235900
DTSTAMP:20260420T231720
CREATED:20240614T174956Z
LAST-MODIFIED:20240614T174956Z
UID:41224-1719514800-1719791940@notoriousjazz.com
SUMMARY:STEVE TURRE SEXTET | SANYA RECORD RELEASE
DESCRIPTION:Steve Turre – trombone & shells | Nicholas Payton – trumpet | Ron Blake – saxophones | Christian Sands – piano | Buster Williams – drums | Lenny White – drums\n\nSteve Turre\, trombone master and innovating performer on seashells\, celebrates the release of his exciting new album\, Saynas\, which is surprisingly his first live recording in 50 years as a leader. Its title was inspired by the brightly colored robes of the Sanyasi\, Hindu monks who have renounced worldly goods and pursuits. It also happens to be Turre’s first recorded composition and first solo on Woody Shaw’s 1975 release The Moontrane. Downbeat says\, “Few artists ‘own’ their instrument to the degree that trombonist Steve Turre does. Whether playing the music of Rahsaan Roland Kirk\, performing as a member of the Saturday Night Live house band\, or with one of his own units\, his voice is distinctive and memorable.” He convenes an impressive and historic sextet for the occasion with music legends bassist Buster Williams and drummer Lenny White\, joined by trumpeter Nicholas Payton\, saxophonist and SNL band colleague Ron Blake\, and pianist Christian Sands.\n\n“The jazz world needs more Steve Turres. A powerful technician with a quick wit\, Turre is perhaps the leading trombonist of this generation.” – Rolling Stone\n\n*PLEASE NOTE: All 7PM and 9PM shows at Smoke are Dinner Shows
URL:https://notoriousjazz.com/event/steve-turre-sextet-sanya-record-release
LOCATION:Smoke Jazz & Supper Club\, 2751 Broadway\, New York City\, NY\, 10025\, United States
CATEGORIES:Club
ATTACH;FMTTYPE=image/jpeg:https://notoriousjazz.com/wp-content/uploads/2024/06/STEVE-TURRE.jpeg
END:VEVENT
END:VCALENDAR